BEGIN:VCALENDAR
VERSION:2.0
PRODID:-//A Tan Kapuja Buddhista Egyház - ECPv6.15.20//NONSGML v1.0//EN
CALSCALE:GREGORIAN
METHOD:PUBLISH
X-ORIGINAL-URL:https://tkbe.hu
X-WR-CALDESC:Események A Tan Kapuja Buddhista Egyház
REFRESH-INTERVAL;VALUE=DURATION:PT1H
X-Robots-Tag:noindex
X-PUBLISHED-TTL:PT1H
BEGIN:VTIMEZONE
TZID:Europe/Budapest
BEGIN:DAYLIGHT
TZOFFSETFROM:+0100
TZOFFSETTO:+0200
TZNAME:CEST
DTSTART:20200329T010000
END:DAYLIGHT
BEGIN:STANDARD
TZOFFSETFROM:+0200
TZOFFSETTO:+0100
TZNAME:CET
DTSTART:20201025T010000
END:STANDARD
BEGIN:DAYLIGHT
TZOFFSETFROM:+0100
TZOFFSETTO:+0200
TZNAME:CEST
DTSTART:20210328T010000
END:DAYLIGHT
BEGIN:STANDARD
TZOFFSETFROM:+0200
TZOFFSETTO:+0100
TZNAME:CET
DTSTART:20211031T010000
END:STANDARD
BEGIN:DAYLIGHT
TZOFFSETFROM:+0100
TZOFFSETTO:+0200
TZNAME:CEST
DTSTART:20220327T010000
END:DAYLIGHT
BEGIN:STANDARD
TZOFFSETFROM:+0200
TZOFFSETTO:+0100
TZNAME:CET
DTSTART:20221030T010000
END:STANDARD
BEGIN:DAYLIGHT
TZOFFSETFROM:+0100
TZOFFSETTO:+0200
TZNAME:CEST
DTSTART:20230326T010000
END:DAYLIGHT
BEGIN:STANDARD
TZOFFSETFROM:+0200
TZOFFSETTO:+0100
TZNAME:CET
DTSTART:20231029T010000
END:STANDARD
END:VTIMEZONE
BEGIN:VEVENT
DTSTART;TZID=Europe/Budapest:20220312T190000
DTEND;TZID=Europe/Budapest:20220313T070000
DTSTAMP:20260422T150130
CREATED:20240427T172131Z
LAST-MODIFIED:20240427T172131Z
UID:10000040-1647111600-1647154800@tkbe.hu
SUMMARY:Békemeditáció
DESCRIPTION:A Tan Kapuja Buddhista Egyház és Főiskola 2022. március 12-én este hét órától 12 órás BÉKEMEDITÁCIÓT tart\, melyre mindenkit várunk szeretettel! \n\nAz UNESCO Alkotmányának preambuluma második sora a következőképpen hangzik: „Mivel a háborúk az emberek tudatában kezdődnek\, az emberek tudatában kell megépíteni a béke védelmét.” \nMi buddhisták\, a Buddha több mint 2500 évvel ezelőtt kinyilatkoztatott tanítását követve\, a tudat békéjének eléréséért és elterjesztéséért tanulunk és gyakorlunk. \nÚjra és újra emlékeztetnünk kell magunkat a béke forrására és elérhetőségére\, mert ez lehet az alapja egy olyan világnak\, melyben nem a háborúk és szenvedések\, hanem az együttérzés\, a béke és a jólét kivirágzik. \nA Tan Kapuja Buddhista Egyház és Főiskola a tudat békéje iránti elkötelezett felelősségétől vezérelve közös virrasztásos Békemeditációt tart 2022. március 12-én (szombat) 19 órától 13-án (vasárnap) reggel 7 óráig az Egyház és a Főiskola Szertartástermében\, melyet Cser Zoltán és Földiné Irtl Melinda vezet. \nA 12 órás meditáció menete a követekező lesz:19-20h: Bevezető szertartás és mantra recitáció20-21h: Leborulás gyakorlata és samatha meditáció21-22h: Sétáló meditáció és ülő légzésfigyelés22-23h: Leborulás gyakorlata és samatha meditáció23-24h: Szertartás és mantra recitáció00-01h: Sétáló és a szatipatthána meditáció01-02h: Leborulás gyakorlata és samatha meditáció02-03h: Szertartás és mantra recitáció03-04h: Három kapu jóga gyakorlás04-05h: Szatipatthána gyakorlás05-06h: Sétáló meditáció06-07h: Metta meditáció \nA 12 órás békemeditáció során a fentiek szerinti ülő és sétáló szamathá és vipasszaná gyakorlás folyik\, amelyhez online formában\, A Tan Kapuja YouTube csatornáján lehet csatlakozni. \n\nKérünk minden buddhista gyakorlót és jószándékú lényt\, aki megértette és felfogta a békés és lecsendesült tudat erejét\, és aki ezzel a gyakorlással hozzá akar járulni az egyetemes béke megteremtéséhez\, hogy így vagy úgy\, de vegyen részt a békemeditáción\, a szenvedők iránti együttérzés\, a nem-ártás (ahimszá)\, a békés együttélés és a szenvedések megszüntetésének elérése érdekében. \nA TKB Egyház és Főiskola nevében: Mireisz László – Karsai Gábor – Cser Zoltán
URL:https://tkbe.hu/esemeny/bekemeditacio/
LOCATION:A Tan Kapuja YouTube csatornája
ATTACH;FMTTYPE=image/png:https://tkbe.hu/wp-content/uploads/2024/04/tkbf_bekemeditacio-XQLgqP.tmp_.png
END:VEVENT
BEGIN:VEVENT
DTSTART;TZID=Europe/Budapest:20210211T180000
DTEND;TZID=Europe/Budapest:20210211T210000
DTSTAMP:20260422T150130
CREATED:20240427T180230Z
LAST-MODIFIED:20240427T180230Z
UID:10000206-1613066400-1613077200@tkbe.hu
SUMMARY:Holdújév ünnepség 2021.
DESCRIPTION:Holdújév ünnepséget tart A Tan Kapuja Buddhista Egyház 2021. február 11-én csütörtökön 18 órától A Tan Kapuja Szertartástermében! \n\nSzerte a világon minden buddhista közösség\, így A Tan Kapuja Buddhista Egyház is megünnepli a holdújév kezdetét\, és az ősi hagyományokat megőrizve az elkövetkező (hold)évre előrejelzést\, jóslatot ad az ősi orákulumrendszerek segítségével.  \nA legendák szerint a Sárga Császár trónra lépése óta számoljuk a kínai újévet\, mely egész Ázsiában az év kezdetét jelzi. Az újév napja mindig a napkör 315. fokához legközelebb álló újhold\, ami azt jelenti\, hogy a Nap a Vízöntő jegyében áll és találkozik a Holddal. Ekkor indul el a növényeknél a nedvkeringés\, ezért ezt a napot a tavaszkezdet ünnepének is nevezik. Ilyenkor a hagyományok szerint 15 napig ünnepelnek\, és ekkor hangzanak el az újévi jóslatok is. A buddhizmusban a Buddha Srávasztíban végrehajtott 15 csodáját ünneplik ekkor. \nAz ünnepség szertartással kezdődik 18 órakor\, majd rövid szünet után következik a háromszor félórás jóslat az elkövetkező évről. \nA szertartást vezetik: Mireisz László\, Dobosy Antal és Cser Zoltán. A szertartás keretein belül Kenéz László sakuhacsi (japán bambuszfurulya) művész tart hangszeres meditációt. \nA szertartást követően Mireisz László a Ji-King\, Laár András a nyugati\, Cser Zoltán pedig a kínai asztrológia alapján méri föl az előttünk álló egy évet\, a (kínai) fém-bivaly évét. \nMinden jelenség az időben kél\,Az idő folytonossága mindent áthat.Az idő az úr\, akinek birtokában van a vadzsra\,Kinek természete a nappal és az éjszaka.(Kálacsakra-tantra)\nA koronavírus okozta rendkívüli helyzetre való tekintettel az ünnepséget személyesen nem\, de online\, élőben lehet követni az interneten. A teljes rendezvényt élőben közvetítjük a www.tkbe.hu/live oldalon és A Tan Kapuja YouTube csatornáján.
URL:https://tkbe.hu/esemeny/holdujev-unnepseg-2021/
LOCATION:www.tkbe.hu/live\, illetve A Tan Kapuja YouTube csatornája
ATTACH;FMTTYPE=image/jpeg:https://tkbe.hu/wp-content/uploads/2024/04/ujhold_tk30-ljbvLp.tmp_.jpg
ORGANIZER;CN="info@tkbe.hu":MAILTO:info@tkbe.hu
END:VEVENT
END:VCALENDAR