BEGIN:VCALENDAR
VERSION:2.0
PRODID:-//A Tan Kapuja Buddhista Egyház - ECPv6.15.20//NONSGML v1.0//EN
CALSCALE:GREGORIAN
METHOD:PUBLISH
X-WR-CALNAME:A Tan Kapuja Buddhista Egyház
X-ORIGINAL-URL:https://tkbe.hu
X-WR-CALDESC:Események A Tan Kapuja Buddhista Egyház
REFRESH-INTERVAL;VALUE=DURATION:PT1H
X-Robots-Tag:noindex
X-PUBLISHED-TTL:PT1H
BEGIN:VTIMEZONE
TZID:Europe/Budapest
BEGIN:DAYLIGHT
TZOFFSETFROM:+0100
TZOFFSETTO:+0200
TZNAME:CEST
DTSTART:20190331T010000
END:DAYLIGHT
BEGIN:STANDARD
TZOFFSETFROM:+0200
TZOFFSETTO:+0100
TZNAME:CET
DTSTART:20191027T010000
END:STANDARD
BEGIN:DAYLIGHT
TZOFFSETFROM:+0100
TZOFFSETTO:+0200
TZNAME:CEST
DTSTART:20200329T010000
END:DAYLIGHT
BEGIN:STANDARD
TZOFFSETFROM:+0200
TZOFFSETTO:+0100
TZNAME:CET
DTSTART:20201025T010000
END:STANDARD
BEGIN:DAYLIGHT
TZOFFSETFROM:+0100
TZOFFSETTO:+0200
TZNAME:CEST
DTSTART:20210328T010000
END:DAYLIGHT
BEGIN:STANDARD
TZOFFSETFROM:+0200
TZOFFSETTO:+0100
TZNAME:CET
DTSTART:20211031T010000
END:STANDARD
END:VTIMEZONE
BEGIN:VEVENT
DTSTART;TZID=Europe/Budapest:20200323T143000
DTEND;TZID=Europe/Budapest:20200323T160000
DTSTAMP:20260424T001926
CREATED:20240428T150258Z
LAST-MODIFIED:20240428T150258Z
UID:10000507-1584973800-1584979200@tkbe.hu
SUMMARY:Online kurzus: Buddhizmus és a helyes életvitel
DESCRIPTION:A rendkívüli helyzetre való tekintettel A Tan Kapuja Buddhista Főiskolán\, az egyház elnöke\, Mireisz László által vezetett A buddhizmus és az ájurvéda című kurzust online formában\, Buddhizmus és a helyes életvitel címen folytatjuk\, melyre így nem csak a Főiskola hallgatói\, de bármely „külsős” érdeklődő is csatlakozhat a virtuális térben. \n\nA kurzus óráira hétfőnként 14:30-tól kerül sor. \nA közvetítés elérhető a http://tkbe.hu/live  \nAz előadás-sorozat utolsó két előadása: \n6. előadás május 4-én: A testi mérgek\, megtisztulások\, az ízek és a helyes táplálkozás.7. előadás május 11-én: A nyugalom és a befelé fordulás megvalósítása.
URL:https://tkbe.hu/esemeny/online-kurzus-buddhizmus-es-a-helyes-eletvitel/
ATTACH;FMTTYPE=image/jpeg:https://tkbe.hu/wp-content/uploads/2024/04/mireiszmedi2-6Y02un.tmp_.jpg
END:VEVENT
END:VCALENDAR