BEGIN:VCALENDAR
VERSION:2.0
PRODID:-//A Tan Kapuja Buddhista Egyház - ECPv6.15.20//NONSGML v1.0//EN
CALSCALE:GREGORIAN
METHOD:PUBLISH
X-ORIGINAL-URL:https://tkbe.hu
X-WR-CALDESC:Események A Tan Kapuja Buddhista Egyház
REFRESH-INTERVAL;VALUE=DURATION:PT1H
X-Robots-Tag:noindex
X-PUBLISHED-TTL:PT1H
BEGIN:VTIMEZONE
TZID:Europe/Budapest
BEGIN:DAYLIGHT
TZOFFSETFROM:+0100
TZOFFSETTO:+0200
TZNAME:CEST
DTSTART:20170326T010000
END:DAYLIGHT
BEGIN:STANDARD
TZOFFSETFROM:+0200
TZOFFSETTO:+0100
TZNAME:CET
DTSTART:20171029T010000
END:STANDARD
BEGIN:DAYLIGHT
TZOFFSETFROM:+0100
TZOFFSETTO:+0200
TZNAME:CEST
DTSTART:20180325T010000
END:DAYLIGHT
BEGIN:STANDARD
TZOFFSETFROM:+0200
TZOFFSETTO:+0100
TZNAME:CET
DTSTART:20181028T010000
END:STANDARD
BEGIN:DAYLIGHT
TZOFFSETFROM:+0100
TZOFFSETTO:+0200
TZNAME:CEST
DTSTART:20190331T010000
END:DAYLIGHT
BEGIN:STANDARD
TZOFFSETFROM:+0200
TZOFFSETTO:+0100
TZNAME:CET
DTSTART:20191027T010000
END:STANDARD
END:VTIMEZONE
BEGIN:VEVENT
DTSTART;TZID=Europe/Budapest:20180106T150000
DTEND;TZID=Europe/Budapest:20180106T180000
DTSTAMP:20260425T005716
CREATED:20240427T175026Z
LAST-MODIFIED:20240427T175026Z
UID:10000172-1515250800-1515261600@tkbe.hu
SUMMARY:A Keréknyomok legújabb számának bemutatója
DESCRIPTION:A Keréknyomok című\, orientalisztikai és buddhológiai folyóirat 2006 óta jelenik meg a Tan Kapuja gondozásában. Legújabb\, 11. számának bemutatójára január első szombatján kerül sor a Tan Kapuja Buddhista Szakkönyvtárban. \n\nAz új szám is érdekes dolgokkal lesz teli. Csak\, hogy egy kis ízelítőt adjunk a témákból: \n\nrituálé a buddhizmusban\nfüstáldozat\ngörög dráma\nkognitív nyelvészet\nRigvéda.\n\nAz előző számok (a 9.-ig) ezen a hivatkozáson keresztül érhetőek el.
URL:https://tkbe.hu/esemeny/a-kereknyomok-legujabb-szamanak-bemutatoja/
LOCATION:A Tan Kapuja Buddhista Szakkönyvtár\, Börzsöny utca 13.\, Budapest\, 1098
ATTACH;FMTTYPE=image/jpeg:https://tkbe.hu/wp-content/uploads/2024/04/25289333_1449831001751626_6726054590806471160_n-UVYVhJ.tmp_.jpg
ORGANIZER;CN="Sz%C5%B1cs Gabriella":MAILTO:library@tkbf.hu
END:VEVENT
END:VCALENDAR