BEGIN:VCALENDAR
VERSION:2.0
PRODID:-//A Tan Kapuja Buddhista Egyház - ECPv6.15.20//NONSGML v1.0//EN
CALSCALE:GREGORIAN
METHOD:PUBLISH
X-ORIGINAL-URL:https://tkbe.hu
X-WR-CALDESC:Események A Tan Kapuja Buddhista Egyház
REFRESH-INTERVAL;VALUE=DURATION:PT1H
X-Robots-Tag:noindex
X-PUBLISHED-TTL:PT1H
BEGIN:VTIMEZONE
TZID:Europe/Budapest
BEGIN:DAYLIGHT
TZOFFSETFROM:+0100
TZOFFSETTO:+0200
TZNAME:CEST
DTSTART:20190331T010000
END:DAYLIGHT
BEGIN:STANDARD
TZOFFSETFROM:+0200
TZOFFSETTO:+0100
TZNAME:CET
DTSTART:20191027T010000
END:STANDARD
BEGIN:DAYLIGHT
TZOFFSETFROM:+0100
TZOFFSETTO:+0200
TZNAME:CEST
DTSTART:20200329T010000
END:DAYLIGHT
BEGIN:STANDARD
TZOFFSETFROM:+0200
TZOFFSETTO:+0100
TZNAME:CET
DTSTART:20201025T010000
END:STANDARD
BEGIN:DAYLIGHT
TZOFFSETFROM:+0100
TZOFFSETTO:+0200
TZNAME:CEST
DTSTART:20210328T010000
END:DAYLIGHT
BEGIN:STANDARD
TZOFFSETFROM:+0200
TZOFFSETTO:+0100
TZNAME:CET
DTSTART:20211031T010000
END:STANDARD
BEGIN:DAYLIGHT
TZOFFSETFROM:+0100
TZOFFSETTO:+0200
TZNAME:CEST
DTSTART:20220327T010000
END:DAYLIGHT
BEGIN:STANDARD
TZOFFSETFROM:+0200
TZOFFSETTO:+0100
TZNAME:CET
DTSTART:20221030T010000
END:STANDARD
END:VTIMEZONE
BEGIN:VEVENT
DTSTART;TZID=Europe/Budapest:20211218T200000
DTEND;TZID=Europe/Budapest:20211218T220000
DTSTAMP:20260426T042957
CREATED:20240427T182440Z
LAST-MODIFIED:20240427T182440Z
UID:10000426-1639857600-1639864800@tkbe.hu
SUMMARY:Menedék – premier előtti filmbemutató A Tan Kapuján
DESCRIPTION:Premier előtti bemutatón nézhetik meg az érdeklődők A Tan Kapuja 30. évfordulója alkalmából\, Farkas Attila Márton rendezésében készült Menedék című filmet. \n\n2021.12.18-án – közvetlenül az egyház szokásos decemberi ünnepsége\, a Maitréja ünnepség után – 20 órától\, egyszeri alkalommal kerül levetítésre a Menedék című\, egész estés film A Tan Kapuja YouTube csatornáján. \nA rendező Farkas Attila Márton\, alias FAM a következőket mondta el előzetesen a filmről:„A Menedék c. film A Tan Kapuja Buddhista Egyház fennállásának harmincadik évfordulója alkalmából készült\, annak mai életét és működését\, voltaképp misszióját bemutatandó. Szemben a hazai buddhizmussal foglalkozó eddigi munkáinkkal\, itt nem történeti\, s főleg nem dokumentarista\, hanem spirituális szempontból közelítünk filmünk tárgyához – mondhatni\, nem a karmát\, hanem a Dharmát próbáljuk prezentálni. A filmben a képi világ dominál\, s készítésekor olyan meditatív művek lebegtek a szemünk előtt\, mint a Baraka és hasonló alkotások\, bár itt jelentős szerepet játszanak az interjúrészletek is. A Menedék hét fejezetből\, kvázi hét etűdből áll\, melyek az Egyház intézményeit és tevékenységeit járják körül\, a megvilágosodás hét tényezője alapján – a fejezetek címei is erre utalnak és ennek sorrendjét követik.” \n\nA film készítői:Rendező: Farkas Attila Márton (FAM)Operatőr\, vágó\, zene: Chris Allan TodRiporter: Varjasi Géza\nA premier előtti bemutatót megelőzően A Tan Kapuja YouTube csatornáján 17 órától egy kettős online könyvbemutatóra kerül sor a decemberben megjelenő TanKapu30 jubileumi esszékötet és Dobosy Antal: A Nincs-kapu kötetei kapcsán. \n18 órától pedig mindenki részt vehet A Tan Kapuja Maitréja ünnepségén és szertartásán\, szintén A Tan Kapuja YouTube csatornáján. \nEzt követően\, 20 órától kezdődik a Menedék vetítése az alábbi linken:https://youtu.be/Vu_sxabWSdg \n\nA film csak ezen az estén lesz megtekinthető\, a hivatalos premierre egy ma még ismeretlen\, későbbi időpontban kerül sor.
URL:https://tkbe.hu/esemeny/menedek-premier-elotti-filmbemutato-a-tan-kapujan/
LOCATION:A Tan Kapuja YouTube csatornája
ATTACH;FMTTYPE=image/jpeg:https://tkbe.hu/wp-content/uploads/2024/04/menedek_0-VRgzRD.tmp_.jpg
ORGANIZER;CN="info@tkbe.hu":MAILTO:info@tkbe.hu
END:VEVENT
BEGIN:VEVENT
DTSTART;TZID=Europe/Budapest:20201001T190000
DTEND;TZID=Europe/Budapest:20201001T213000
DTSTAMP:20260426T042957
CREATED:20240427T181956Z
LAST-MODIFIED:20240427T181956Z
UID:10000356-1601578800-1601587800@tkbe.hu
SUMMARY:A buddhizmus rendszerváltása - online filmbemutató
DESCRIPTION:A 30 éves Tan Kapuja szeretettel meghív minden kedves érdeklődőt Farkas Attila Márton: A buddhizmus rendszerváltása című dokumentumfilmjének online bemutatójára. \n\nFarkas Attila Márton filmjében A Tan Kapuja Buddhista Egyház alapítóinak (Dobosy Antal\, Mireisz László\, Takács László) és az egyház korábbi igazgatójának\, A Tan Kapuja Buddhista Főiskola egykori rektorának (Farkas Pál) történeteivel járja körül a 30 éve történt rendszerváltozás körüli időszakot – és a még annál is korábbi időket. Megismerhetjük A Tan Kapuja Buddhista Egyház és Főiskola alapításának történetét és betekintést nyerhetük a magyarországi buddhizmus korai időszakába is. \nA filmbemutatón\, a vetítés után Takács László beszélget a rendező Farkas Attila Mártonnal\, valamint Chris Allan Tod operatőrrel. A beszélgetés vendégei lesznek még Dobosy Antal\, Mireisz László és Farkas Pál. \nAz est házigazdája: Karsai Gábor\, a TKBF rektora. \nA film utáni beszélgetéshez várjuk a nézők kérdéseit is\, melyet a filmbemutato@tkbf.hu címre küldhetnek el. A legérdekesebb kérdéseket feltesszük a filmbemutató résztvevőinek. \nAz online filmbemutató időpontja: 2020. október 1. 19:00Helye: www.tkbe.hu/live\, illetve A Tan Kapuja YouTube csatornája. \nMindenkit szeretettel várunk a képernyők elé!
URL:https://tkbe.hu/esemeny/a-buddhizmus-rendszervaltasa-online-filmbemutato/
LOCATION:www.tkbe.hu/live\, illetve A Tan Kapuja YouTube csatornája
ATTACH;FMTTYPE=image/jpeg:https://tkbe.hu/wp-content/uploads/2024/04/abuddhizmusrendszervaltasa_kep_fb-VWOBBr.tmp_.jpg
ORGANIZER;CN="filmbemutato@tkbf.hu":MAILTO:filmbemutato@tkbf.hu
END:VEVENT
END:VCALENDAR