BEGIN:VCALENDAR
VERSION:2.0
PRODID:-//A Tan Kapuja Buddhista Egyház - ECPv6.15.20//NONSGML v1.0//EN
CALSCALE:GREGORIAN
METHOD:PUBLISH
X-ORIGINAL-URL:https://tkbe.hu
X-WR-CALDESC:Események A Tan Kapuja Buddhista Egyház
REFRESH-INTERVAL;VALUE=DURATION:PT1H
X-Robots-Tag:noindex
X-PUBLISHED-TTL:PT1H
BEGIN:VTIMEZONE
TZID:Europe/Budapest
BEGIN:DAYLIGHT
TZOFFSETFROM:+0100
TZOFFSETTO:+0200
TZNAME:CEST
DTSTART:20180325T010000
END:DAYLIGHT
BEGIN:STANDARD
TZOFFSETFROM:+0200
TZOFFSETTO:+0100
TZNAME:CET
DTSTART:20181028T010000
END:STANDARD
BEGIN:DAYLIGHT
TZOFFSETFROM:+0100
TZOFFSETTO:+0200
TZNAME:CEST
DTSTART:20190331T010000
END:DAYLIGHT
BEGIN:STANDARD
TZOFFSETFROM:+0200
TZOFFSETTO:+0100
TZNAME:CET
DTSTART:20191027T010000
END:STANDARD
BEGIN:DAYLIGHT
TZOFFSETFROM:+0100
TZOFFSETTO:+0200
TZNAME:CEST
DTSTART:20200329T010000
END:DAYLIGHT
BEGIN:STANDARD
TZOFFSETFROM:+0200
TZOFFSETTO:+0100
TZNAME:CET
DTSTART:20201025T010000
END:STANDARD
END:VTIMEZONE
BEGIN:VEVENT
DTSTART;TZID=Europe/Budapest:20191015T170000
DTEND;TZID=Europe/Budapest:20191015T200000
DTSTAMP:20260424T212000
CREATED:20240427T182038Z
LAST-MODIFIED:20240427T182038Z
UID:10000367-1571158800-1571169600@tkbe.hu
SUMMARY:Keréknyomok 2019/13. szám bemutatója
DESCRIPTION:A Keréknyomok új száma ezúttal is igen érdekesnek és színvonalasnak ígérkezik. Minden kedves kollégát\, hallgatót\, családtagot\, barátot\, érdeklődőt szeretettel várunk a folyóirat bemutatójára. \n\nÍzelítő a tartalomból: \nFENYVESI BOGLÁRKA: Az Üresség tanítása – A Tanítás ürességeA súnjatá és az upája viszonyának áttekintése hínajána és korai mahájána szövegek alapján \nNGUYEN THI THANH GIANG: A koreai és a vietnámi holdújév összehasonlítása mítoszok\, legendák\, narratívák alapján \nCSER ZOLTÁN: A mozgás szerepe a buddhizmus gyakorlatában \nFÓRIZS LÁSZLÓ: Szemelvények a Páli Kánonból \nPOROSZ TIBOR: Testélmények és énképzet a nyugati gondolkodásban \nSCHREINER DÉNES: Thanato-topográfia: a halál színtereiSCHREINER DÉNES: Hintapoétika. Egy élménysorozat leírása \nFÓRIZS LÁSZLÓ: DīrghatamasFÓRIZS LÁSZLÓ: Öt himnusz a Dīrghatamas-ciklusból
URL:https://tkbe.hu/esemeny/kereknyomok-2019-13-szam-bemutatoja/
LOCATION:A Tan Kapuja Buddhista Egyház és Főiskola\, Nagyterem\, Börzsöny utca 11.\, Budapest\, 1098
ATTACH;FMTTYPE=image/jpeg:https://tkbe.hu/wp-content/uploads/2024/04/kereknyomok-13-2019-uyqXuZ.tmp_.jpg
END:VEVENT
END:VCALENDAR