BEGIN:VCALENDAR
VERSION:2.0
PRODID:-//A Tan Kapuja Buddhista Egyház - ECPv6.15.20//NONSGML v1.0//EN
CALSCALE:GREGORIAN
METHOD:PUBLISH
X-ORIGINAL-URL:https://tkbe.hu
X-WR-CALDESC:Események A Tan Kapuja Buddhista Egyház
REFRESH-INTERVAL;VALUE=DURATION:PT1H
X-Robots-Tag:noindex
X-PUBLISHED-TTL:PT1H
BEGIN:VTIMEZONE
TZID:Europe/Budapest
BEGIN:DAYLIGHT
TZOFFSETFROM:+0100
TZOFFSETTO:+0200
TZNAME:CEST
DTSTART:20160327T010000
END:DAYLIGHT
BEGIN:STANDARD
TZOFFSETFROM:+0200
TZOFFSETTO:+0100
TZNAME:CET
DTSTART:20161030T010000
END:STANDARD
BEGIN:DAYLIGHT
TZOFFSETFROM:+0100
TZOFFSETTO:+0200
TZNAME:CEST
DTSTART:20170326T010000
END:DAYLIGHT
BEGIN:STANDARD
TZOFFSETFROM:+0200
TZOFFSETTO:+0100
TZNAME:CET
DTSTART:20171029T010000
END:STANDARD
BEGIN:DAYLIGHT
TZOFFSETFROM:+0100
TZOFFSETTO:+0200
TZNAME:CEST
DTSTART:20180325T010000
END:DAYLIGHT
BEGIN:STANDARD
TZOFFSETFROM:+0200
TZOFFSETTO:+0100
TZNAME:CET
DTSTART:20181028T010000
END:STANDARD
BEGIN:DAYLIGHT
TZOFFSETFROM:+0100
TZOFFSETTO:+0200
TZNAME:CEST
DTSTART:20190331T010000
END:DAYLIGHT
BEGIN:STANDARD
TZOFFSETFROM:+0200
TZOFFSETTO:+0100
TZNAME:CET
DTSTART:20191027T010000
END:STANDARD
BEGIN:DAYLIGHT
TZOFFSETFROM:+0100
TZOFFSETTO:+0200
TZNAME:CEST
DTSTART:20200329T010000
END:DAYLIGHT
BEGIN:STANDARD
TZOFFSETFROM:+0200
TZOFFSETTO:+0100
TZNAME:CET
DTSTART:20201025T010000
END:STANDARD
BEGIN:DAYLIGHT
TZOFFSETFROM:+0100
TZOFFSETTO:+0200
TZNAME:CEST
DTSTART:20210328T010000
END:DAYLIGHT
BEGIN:STANDARD
TZOFFSETFROM:+0200
TZOFFSETTO:+0100
TZNAME:CET
DTSTART:20211031T010000
END:STANDARD
BEGIN:DAYLIGHT
TZOFFSETFROM:+0100
TZOFFSETTO:+0200
TZNAME:CEST
DTSTART:20220327T010000
END:DAYLIGHT
BEGIN:STANDARD
TZOFFSETFROM:+0200
TZOFFSETTO:+0100
TZNAME:CET
DTSTART:20221030T010000
END:STANDARD
BEGIN:DAYLIGHT
TZOFFSETFROM:+0100
TZOFFSETTO:+0200
TZNAME:CEST
DTSTART:20230326T010000
END:DAYLIGHT
BEGIN:STANDARD
TZOFFSETFROM:+0200
TZOFFSETTO:+0100
TZNAME:CET
DTSTART:20231029T010000
END:STANDARD
BEGIN:DAYLIGHT
TZOFFSETFROM:+0100
TZOFFSETTO:+0200
TZNAME:CEST
DTSTART:20240331T010000
END:DAYLIGHT
BEGIN:STANDARD
TZOFFSETFROM:+0200
TZOFFSETTO:+0100
TZNAME:CET
DTSTART:20241027T010000
END:STANDARD
BEGIN:DAYLIGHT
TZOFFSETFROM:+0100
TZOFFSETTO:+0200
TZNAME:CEST
DTSTART:20250330T010000
END:DAYLIGHT
BEGIN:STANDARD
TZOFFSETFROM:+0200
TZOFFSETTO:+0100
TZNAME:CET
DTSTART:20251026T010000
END:STANDARD
END:VTIMEZONE
BEGIN:VEVENT
DTSTART;TZID=Europe/Budapest:20240608T160000
DTEND;TZID=Europe/Budapest:20240608T200000
DTSTAMP:20260423T171013
CREATED:20240521T095539Z
LAST-MODIFIED:20240530T075255Z
UID:10000761-1717862400-1717876800@tkbe.hu
SUMMARY:Japán kardforgatás szeminárium
DESCRIPTION:A Zen Akadémia egy alkalmas intenzív japán kardvívás szemináriumot tart\, mely bevezetést nyújt a Katori kardvívásba. Előképzettséget nem igényel\, gyakorló eszközöket biztosítunk. \n\n\n\n\nA szemináriumot Prikkel Antal a Yamato Budo Akadémia vezetője tartja\, aki 29 éve tanulja és gyakorolja a Katori kardvívást. \n\n\n\nIdőpont:2024. június 8. szombat\, 16.00–20.00 \n\n\n\nHelyszín:A Tan Kapuja Buddhista Főiskola\, Szertartásterem (1098 Budapest\, Börzsöny u. 11.) \n\n\n\nAjánlott adomány:10.000 Forint \n\n\n\nJelentkezés\, további információ:info@zenakademia.hu \n\n\n\nTensin Sóden Katori Sintó RjúAz iskola elnevezésének jelentése az “istenek által adományozott makulátlan kard”. Az irányzat 600 éves múltra tekint vissza\, a legrégebbi japán szamuráj kardforgató budzsucu harcművészet. Olyan klasszikus iskola\, amely a korai időkben még különleges harci kiképzést tanítottak a fegyveres technikák mellett: lovaglást\, úszást\, sőt asztrológiát\, jóslást és a füsttel való jelzések rendszerét is. Alapítója Ízasa Csószai Ienao (15. század).
URL:https://tkbe.hu/esemeny/japan-kardforgatas-szeminarium/
LOCATION:A Tan Kapuja Buddhista Főiskola Szertartásterme\, Börzsöny utca 11.\, Budapest\, 1098
ATTACH;FMTTYPE=image/jpeg:https://tkbe.hu/wp-content/uploads/2024/05/japan-kardvivas.jpg
ORGANIZER;CN="Zen Akad%C3%A9mia":MAILTO:info@zenakademia.hu
END:VEVENT
BEGIN:VEVENT
DTSTART;TZID=Europe/Budapest:20210914T180000
DTEND;TZID=Europe/Budapest:20210914T193000
DTSTAMP:20260423T171013
CREATED:20240428T150332Z
LAST-MODIFIED:20240428T150332Z
UID:10000519-1631642400-1631647800@tkbe.hu
SUMMARY:Japán művészeti gyakorlat (online)
DESCRIPTION:A Tan Kapuja Zen Akadémia online művészeti kurzust hirdet: az érdeklődők négy héten át kedd esténként a japán művészetekkel ismerkedhetnek meg aktív résztvevőkként. \n\nA foglalkozások gyakorlati bevezetést nyújtanak a japán művészet különféle területeibe (képző-\, kert-\, harcművészet\, zene\, irodalom) és kifejezetetten olyanoknak szánjuk\, akik még nem tapasztalták meg\, ezek milyen élményt nyújtanak „belülről”. A kurzus során kifejezett figyelmet fordítunk az első nehézségek leküzdésére olyan szellemi kontextusba ágyazva a gyakorlást\, amely segíthet átlendülni a japán művészetek tanulásakor óhatatlanul megjelenő mentális akadályokon.A foglalkozásokon való részvétel semmilyen előképzettséget nem igényel\, különleges eszközök beszerzése sem szükséges hozzá.A foglalkozást vezeti: Dr. Kenéz László\, a Tan Kapuja Buddhista Főiskola oktatójaAlkalmak:2021. szeptember 14. kedd\, 18.002021. szeptember 21. kedd\, 18.002021. szeptember 28. kedd\, 18.002021. október 5. kedd\, 18.00Az online csatlakozásról és a részvétel feltételeiről jelentkezéskor küldünk tájékoztatást.Jelentkezés: kenez.laszlo@gmail.com
URL:https://tkbe.hu/esemeny/japan-muveszeti-gyakorlat-online/
LOCATION:online
ATTACH;FMTTYPE=image/jpeg:https://tkbe.hu/wp-content/uploads/2024/04/241504089_1309986976101909_2140689721510264076_n-Dv56Au.tmp_.jpg
END:VEVENT
BEGIN:VEVENT
DTSTART;TZID=Europe/Budapest:20190926T180000
DTEND;TZID=Europe/Budapest:20190926T200000
DTSTAMP:20260423T171013
CREATED:20240428T150053Z
LAST-MODIFIED:20240428T150053Z
UID:10000494-1569520800-1569528000@tkbe.hu
SUMMARY:Japán zen művészeti kurzus 2019 ősz
DESCRIPTION:2019 őszén hét alkalomból álló japán (zen) művészeti kurzus indul a Zen Akadémia szervezésében. \n\nA kurzus a zen buddhizmushoz kapcsolódó hagyományos művészetekbe nyújt bepillantást\, de az érdeklődőknek lehetőségük lesz a gyakorlatban is kipróbálni a bemutatott tevékenységeket. \nA foglalkozásokra kéthetente\, csütörtök esténként 18.00-tól 20.00 óráig kerül sor. \nElső alkalom: 2019. szeptember 26. \nIdőpontok:Szeptember 26.: Bevezetés. Zene (Kenéz László)Október 10.: Kardforgatás\, kendzsucu (Somogyvári Szabolcs)Október 24.: Tusfestészet\, szumie (Szeremley Anett)November 7.: Teaszertartás\, csadó (Rajzó-Kontor Kornélia)November 21.: Virágrendezés\, ikebana (Hajnal Krisztina)December 5.: Kertművészet (Győri Péter)December 19.: Zen irodalom (Dobosy Antal) \nA foglalkozásokhoz az eszközöket\, anyagokat biztosítjuk! \nA teljes kurzus díja (7×120 perc): 10 000\,- Ft \nJelentkezés: kenez.laszlo@gmail.com \nJelentkezési határidő: 2019. szeptember 10. éjfél
URL:https://tkbe.hu/esemeny/japan-zen-muveszeti-kurzus-2019-osz/
LOCATION:A Tan Kapuja Buddhista Főiskola K2-es terme\, Csengettyű utca 3.\, Budapest\, 1098
ATTACH;FMTTYPE=image/jpeg:https://tkbe.hu/wp-content/uploads/2024/04/zen-kert-5wugcd.tmp_.jpg
ORGANIZER;CN="Ken%C3%A9z L%C3%A1szl%C3%B3":MAILTO:kenez.laszlo@gmail.com
END:VEVENT
BEGIN:VEVENT
DTSTART;TZID=Europe/Budapest:20171122T120000
DTEND;TZID=Europe/Budapest:20171204T170000
DTSTAMP:20260423T171013
CREATED:20240427T174624Z
LAST-MODIFIED:20240427T174624Z
UID:10000161-1511352000-1512406800@tkbe.hu
SUMMARY:Macuo Basó kiállítás a könyvtárban
DESCRIPTION:Macuo Basó\, az egyik legnépszerűbb japán költő 50 évesen\, 1694. november 28-án Oszakában hunyt el. A Tan Kapuja Buddhista Szakkönyvtár új kiállításának keretében könyveivel emlékeznek rá\, aki „az ismert és kedvelt japán műfajt\, a haikut vitte tökélyre\, amely nemcsak Japánban vált népszerűvé\, hanem az egész világon is” – írja Vihar Judit a Macuo Basó legszebb haikui c. kötet bevezetőjében.  \n \nBasó műveit számos nyelvre lefordították\, az angolon kívül spanyol\, japán\, német köteteket lehet megtekinteni\, természetesen a magyar könyvkiadás borítóival egyetemben.A Basó kiállítás december 4-ig tekinthető meg. \nA főképen a Yamadera Basho Memorial Museum látható.
URL:https://tkbe.hu/esemeny/macuo-baso-kiallitas-a-konyvtarban/
LOCATION:A Tan Kapuja Buddhista Szakkönyvtár\, Börzsöny utca 13.\, Budapest\, 1098
ATTACH;FMTTYPE=image/jpeg:https://tkbe.hu/wp-content/uploads/2024/04/24059180_1431437266924333_8035213553261236187_n-m9RxcI.tmp_.jpg
ORGANIZER;CN="library@tkbf.hu":MAILTO:library@tkbf.hu
END:VEVENT
END:VCALENDAR