BEGIN:VCALENDAR
VERSION:2.0
PRODID:-//A Tan Kapuja Buddhista Egyház - ECPv6.15.20//NONSGML v1.0//EN
CALSCALE:GREGORIAN
METHOD:PUBLISH
X-ORIGINAL-URL:https://tkbe.hu
X-WR-CALDESC:Események A Tan Kapuja Buddhista Egyház
REFRESH-INTERVAL;VALUE=DURATION:PT1H
X-Robots-Tag:noindex
X-PUBLISHED-TTL:PT1H
BEGIN:VTIMEZONE
TZID:Europe/Budapest
BEGIN:DAYLIGHT
TZOFFSETFROM:+0100
TZOFFSETTO:+0200
TZNAME:CEST
DTSTART:20210328T010000
END:DAYLIGHT
BEGIN:STANDARD
TZOFFSETFROM:+0200
TZOFFSETTO:+0100
TZNAME:CET
DTSTART:20211031T010000
END:STANDARD
BEGIN:DAYLIGHT
TZOFFSETFROM:+0100
TZOFFSETTO:+0200
TZNAME:CEST
DTSTART:20220327T010000
END:DAYLIGHT
BEGIN:STANDARD
TZOFFSETFROM:+0200
TZOFFSETTO:+0100
TZNAME:CET
DTSTART:20221030T010000
END:STANDARD
BEGIN:DAYLIGHT
TZOFFSETFROM:+0100
TZOFFSETTO:+0200
TZNAME:CEST
DTSTART:20230326T010000
END:DAYLIGHT
BEGIN:STANDARD
TZOFFSETFROM:+0200
TZOFFSETTO:+0100
TZNAME:CET
DTSTART:20231029T010000
END:STANDARD
END:VTIMEZONE
BEGIN:VEVENT
DTSTART;TZID=Europe/Budapest:20220602T180000
DTEND;TZID=Europe/Budapest:20220602T193000
DTSTAMP:20260421T123040
CREATED:20240427T181728Z
LAST-MODIFIED:20240427T181728Z
UID:10000307-1654192800-1654198200@tkbe.hu
SUMMARY:Könyvbemutató: Jóga-szútra - A Patandzsalinak is nevezett Ananta tanítása a tudat leigázásáról
DESCRIPTION:Könyvbemutatót tartunk 2022. június 02-án 18 órától A Tan Kapuja Szertartástermében. \n\nAz esten A Tan Kapuja Kiadó gondozásában\, a kiadó Kelet Kincsei sorozatának első kötete\, a Jóga-szútra – A Patandzsalinak is nevezett Ananta tanítása a tudat leigázásáról készítőivel\, Farkas Attila Mártonnal és Tenigl-Takács Lászlóval beszélget a TKBF rektora\, Karsai Gábor. \nAz eseményt online formában\, élőben is közvetítjük A Tan Kapuja YouTube csatornáján. \nA Jóga-szútra – A Patandzsalinak is nevezett Ananta tanítása a tudat leigázásáról c. könyv megvásárolható A Tan Kapuja Kiadó webshopjában. \nNéhány szó a könyvről:„Patandzsali Jóga-szútrája nem „jógakönyv”\, hanem a spiritualitás vallások és kultúrák feletti\, egyetemes összefoglalója. Továbbá meditációs szöveg\, nem puszta leírás. 30 év után újra fordítva megpróbáltunk egyfajta „klasszikus” egzegetikai művet alkotni\, melyben a szövegfejtés legtöbb eszközét alkalmaztuk: filológiai analízist\, etimologizációt\, hermeneutikai fejtegetést\, más tanításokkal való összevetést\, irodalmi párhuzamot.Közöljük a mű eredeti\, szanszkrit szövegét is\, hogy a mellékelt nyelvtani útmutatások segítségével akár saját értelmezésekre\, megfejtésekre is vállalkozhasson a merészebb olvasó. A buddhizmus iránti elkötelezettségünk miatt régi buddhista rendi neveinket tüntettük fel.” \nA kötet kapcsán korábban felkerült egy egyórás videó is A Tan Kapuja YouTube csatornájára: Patandzsali Jógaszútrája – Egy szakrális szöveg egzegézise. \nMindenkit szeretettel várunk!
URL:https://tkbe.hu/esemeny/konyvbemutato-joga-szutra-a-patandzsalinak-is-nevezett-ananta-tanitasa-a-tudat-leigazasarol/
LOCATION:A Tan Kapuja Buddhista Főiskola Szertartásterme\, Börzsöny utca 11.\, Budapest\, 1098
ATTACH;FMTTYPE=image/png:https://tkbe.hu/wp-content/uploads/2024/04/tkbf_konyvbemutato_fb_event_0602-7B1G7s.tmp_.png
ORGANIZER;CN="kiado@tkbf.hu":MAILTO:kiado@tkbf.hu
END:VEVENT
END:VCALENDAR