BEGIN:VCALENDAR
VERSION:2.0
PRODID:-//A Tan Kapuja Buddhista Egyház - ECPv6.15.20//NONSGML v1.0//EN
CALSCALE:GREGORIAN
METHOD:PUBLISH
X-ORIGINAL-URL:https://tkbe.hu
X-WR-CALDESC:Események A Tan Kapuja Buddhista Egyház
REFRESH-INTERVAL;VALUE=DURATION:PT1H
X-Robots-Tag:noindex
X-PUBLISHED-TTL:PT1H
BEGIN:VTIMEZONE
TZID:Europe/Budapest
BEGIN:DAYLIGHT
TZOFFSETFROM:+0100
TZOFFSETTO:+0200
TZNAME:CEST
DTSTART:20170326T010000
END:DAYLIGHT
BEGIN:STANDARD
TZOFFSETFROM:+0200
TZOFFSETTO:+0100
TZNAME:CET
DTSTART:20171029T010000
END:STANDARD
BEGIN:DAYLIGHT
TZOFFSETFROM:+0100
TZOFFSETTO:+0200
TZNAME:CEST
DTSTART:20180325T010000
END:DAYLIGHT
BEGIN:STANDARD
TZOFFSETFROM:+0200
TZOFFSETTO:+0100
TZNAME:CET
DTSTART:20181028T010000
END:STANDARD
BEGIN:DAYLIGHT
TZOFFSETFROM:+0100
TZOFFSETTO:+0200
TZNAME:CEST
DTSTART:20190331T010000
END:DAYLIGHT
BEGIN:STANDARD
TZOFFSETFROM:+0200
TZOFFSETTO:+0100
TZNAME:CET
DTSTART:20191027T010000
END:STANDARD
END:VTIMEZONE
BEGIN:VEVENT
DTSTART;TZID=Europe/Budapest:20181116T180000
DTEND;TZID=Europe/Budapest:20181116T200000
DTSTAMP:20260419T184009
CREATED:20240427T182149Z
LAST-MODIFIED:20240427T182149Z
UID:10000390-1542391200-1542398400@tkbe.hu
SUMMARY:A szellemlények nyolc osztálya
DESCRIPTION:John M. Reynolds a Jungdrung Ten Gye Dü De – Magyarországi Bönpo Közösség meghívására 2018. november 16-án\, este 18:00-tól a TKBF szertartástermében tart előadást. \n\nReynolds A lélek tibeti fogalma című\, nemrég a Sambhala Tibet Segítő Társaság gondozásában magyarul is megjelent könyve alapján beszél arról\, hogy mindennapi életünk tevékenységei közepette\, hogyan és milyen módon kerülünk kapcsolatba a nem látható lényekkel\, ezen belül is a szellemlények nyolc osztályával. Ártalmatlannak tűnő tetteinknek milyen hatása van rájuk és hogyan reagálnak azokra\, milyen zavarokat\, mentális és fizikai betegségeket képesek okozni az embereknek. Továbbá a környezet szennyezése hogyan befolyásolja a velük való kapcsolatunk\, hogyan hatnak ránk és ha még lehetséges\, hogyan állítható vissza a harmónia. \nA program felajánlás alapú. Mindenkit szeretettel várnak! \nJohn M. Reynolds november 17-18-án és 24-25-én hosszabb dzogcsen tanításokat is ad a Sambhala Tibet Központban. A részletekről bővebben ezen a linken olvashat. \nwww.jungdrungbon.huwww.vajranatha.comwww.tibet.hu
URL:https://tkbe.hu/esemeny/a-szellemlenyek-nyolc-osztalya/
LOCATION:A Tan Kapuja Buddhista Főiskola Szertartásterme\, Börzsöny utca 11.\, Budapest\, 1098
ATTACH;FMTTYPE=image/jpeg:https://tkbe.hu/wp-content/uploads/2024/04/45740607_1934106543348024_7337746351549054976_n-LINr1U.tmp_.jpg
ORGANIZER;CN="Cs%C3%A1ki E%C3%B6rs":MAILTO:jungdrungtengyedude@gmail.com
END:VEVENT
END:VCALENDAR