BEGIN:VCALENDAR
VERSION:2.0
PRODID:-//A Tan Kapuja Buddhista Egyház - ECPv6.15.20//NONSGML v1.0//EN
CALSCALE:GREGORIAN
METHOD:PUBLISH
X-WR-CALNAME:A Tan Kapuja Buddhista Egyház
X-ORIGINAL-URL:https://tkbe.hu
X-WR-CALDESC:Események A Tan Kapuja Buddhista Egyház
REFRESH-INTERVAL;VALUE=DURATION:PT1H
X-Robots-Tag:noindex
X-PUBLISHED-TTL:PT1H
BEGIN:VTIMEZONE
TZID:Europe/Budapest
BEGIN:DAYLIGHT
TZOFFSETFROM:+0100
TZOFFSETTO:+0200
TZNAME:CEST
DTSTART:20230326T010000
END:DAYLIGHT
BEGIN:STANDARD
TZOFFSETFROM:+0200
TZOFFSETTO:+0100
TZNAME:CET
DTSTART:20231029T010000
END:STANDARD
BEGIN:DAYLIGHT
TZOFFSETFROM:+0100
TZOFFSETTO:+0200
TZNAME:CEST
DTSTART:20240331T010000
END:DAYLIGHT
BEGIN:STANDARD
TZOFFSETFROM:+0200
TZOFFSETTO:+0100
TZNAME:CET
DTSTART:20241027T010000
END:STANDARD
BEGIN:DAYLIGHT
TZOFFSETFROM:+0100
TZOFFSETTO:+0200
TZNAME:CEST
DTSTART:20250330T010000
END:DAYLIGHT
BEGIN:STANDARD
TZOFFSETFROM:+0200
TZOFFSETTO:+0100
TZNAME:CET
DTSTART:20251026T010000
END:STANDARD
END:VTIMEZONE
BEGIN:VEVENT
DTSTART;TZID=Europe/Budapest:20241011T183000
DTEND;TZID=Europe/Budapest:20241013T180000
DTSTAMP:20260422T193204
CREATED:20240917T081859Z
LAST-MODIFIED:20240917T081906Z
UID:10000857-1728671400-1728842400@tkbe.hu
SUMMARY:Khenpo Gelek Jinpa: Thögal - a tiszta fény meditáció magyarázata
DESCRIPTION:Khenpo Gelek Jinpa – tagközösségünk\, a Jungdrung Ten Gye Dü De Magyarországi Bönpo Közösség – meghívására hosszú szünet után ismét Budapestre látogat és folytatja a Gyalwa Csaktri szövegének magyarázatát\, mely a Dzogcsen Zsangzsung Nyengyü-höz tartozó gyakorlati kézikönyv. \n\n\n\nA most következő fejezet fő témája\, melyet több részletben fog magyarázni\, a tiszta fény gyakorlata\, vagyis a thögal. Három részből áll: részletezi az elvonulás ideális körülményeit\, a megjelenő külső\, belső és titkos akadályok elhárításának módját\, majd pedig a thögal víziók megjelenését és fejlődését tárgyalja a szöveg. \n\n\n\n\n\n\n\nMint azt többen tudják Khenpo Gelek a Gyalwa Csaktri kommentárszövegének tanításába 2015-ben kezdett bele\, és a szövegen részletesen végighaladva az alapvető előkészítő gyakorlatoktól\, a trekcsö gyakorlásán keresztül jutottunk a thögal gyakorlatokig. 2019-ben\, belekostolhattunk bizonyos thögál víziók felkeltésével kapcsolatos gyakorlatokba egy egyhetes elvonulás keretében Mánfán\, most ennek folytatása következik.Ezen gyakorlatok\, egyfajta stabilitás igényelnek a tudat természetében való időzésben\, de persze mindenki számára nyitott. \n\n\n\nA tanítás ismét A Tan Kapuja Buddhista Főiskola Szertartástermében lesz 2024. október 11-13 között. \n\n\n\nTervezett menetrend: \n\n\n\nOktóber 11. péntek:18:30 – 20:00 Tanítás \n\n\n\nOktóber 12. szombat:9:30 – 12:30 Tanítás12:30 – 15:00 Ebédszünet15:00 – 18:00 Tanítás \n\n\n\nOktóber 13. vasárnap:9:30 – 12:30 Tanítás12:30 – 15:00 Ebédszünet15:00 – 18:00 Tanítás \n\n\n\nA tanítások alatt időnként tartunk egy-egy rövid szünetet is. \n\n\n\nHozzájárulás:Nagylelkű felajánlás: 30 000 FtTámogató felajánlás: 25 000 FtEgyesületi tagoknak: 20 000 FtTovábbi kedvezményes lehetőségekről érdeklődhettek a jungdrungtengyedude@gmail.com -on. \n\n\n\nVárunk mindenkit szeretettel! \n\n\n\n—Jungdrung Ten Gye Dü DeMagyarországi Bönpo Közösségwww.jungdrungbon.huAdó 1%: 18746628-1-43
URL:https://tkbe.hu/esemeny/khenpo-gelek-jinpa-thogal-a-tiszta-feny-meditacio-magyarazata/
LOCATION:A Tan Kapuja Buddhista Főiskola Szertartásterme\, Börzsöny utca 11.\, Budapest\, 1098
ATTACH;FMTTYPE=image/jpeg:https://tkbe.hu/wp-content/uploads/2024/09/khenpogelek-e1726560851839.jpg
ORGANIZER;CN="Jungdrung Ten Gye D%C3%BC De Magyarorsz%C3%A1gi B%C3%B6npo K%C3%B6z%C3%B6ss%C3%A9g":MAILTO:jungdrungtengyedude@gmail.com
END:VEVENT
END:VCALENDAR