BEGIN:VCALENDAR
VERSION:2.0
PRODID:-//A Tan Kapuja Buddhista Egyház - ECPv6.15.20//NONSGML v1.0//EN
CALSCALE:GREGORIAN
METHOD:PUBLISH
X-ORIGINAL-URL:https://tkbe.hu
X-WR-CALDESC:Események A Tan Kapuja Buddhista Egyház
REFRESH-INTERVAL;VALUE=DURATION:PT1H
X-Robots-Tag:noindex
X-PUBLISHED-TTL:PT1H
BEGIN:VTIMEZONE
TZID:Europe/Budapest
BEGIN:DAYLIGHT
TZOFFSETFROM:+0100
TZOFFSETTO:+0200
TZNAME:CEST
DTSTART:20240331T010000
END:DAYLIGHT
BEGIN:STANDARD
TZOFFSETFROM:+0200
TZOFFSETTO:+0100
TZNAME:CET
DTSTART:20241027T010000
END:STANDARD
BEGIN:DAYLIGHT
TZOFFSETFROM:+0100
TZOFFSETTO:+0200
TZNAME:CEST
DTSTART:20250330T010000
END:DAYLIGHT
BEGIN:STANDARD
TZOFFSETFROM:+0200
TZOFFSETTO:+0100
TZNAME:CET
DTSTART:20251026T010000
END:STANDARD
BEGIN:DAYLIGHT
TZOFFSETFROM:+0100
TZOFFSETTO:+0200
TZNAME:CEST
DTSTART:20260329T010000
END:DAYLIGHT
BEGIN:STANDARD
TZOFFSETFROM:+0200
TZOFFSETTO:+0100
TZNAME:CET
DTSTART:20261025T010000
END:STANDARD
END:VTIMEZONE
BEGIN:VEVENT
DTSTART;TZID=Europe/Budapest:20250411T180000
DTEND;TZID=Europe/Budapest:20250413T180000
DTSTAMP:20260420T120541
CREATED:20250323T130535Z
LAST-MODIFIED:20250408T193221Z
UID:10001242-1744394400-1744567200@tkbe.hu
SUMMARY:Zsangzsung Nyengyü "A tizenkét kicsi tantra." - Khenchen Tenpa Yungdrung Rinpocse tanítása
DESCRIPTION:Tagközösségünk\, a Jungdrung Ten Gye Dü De meghívására ad tanítást Magyarországon Khenchen Tenpa Yungdrung Rinpocse a húsvét előtti hétvégén\, április 11 és 13 között.  \n\n\n\n\n\n\n\nA tanítás témája a várva várt következő rész a Zsangzsung Nyengyüből: \n\n\n\nA tizenkét kicsi tantra2023-ban\, Khenchen Rinpoche belekezdett a Zsangzsung Nyengyü szövegének szisztematikus magyarázatába\, egészen az elejéről kezdve és egymásra épülve.A jungdrung bön hagyomány dzogcsen tanításai között is kiemelkedő jelentőséggel bír a Zsangzsung Nyengyü\, vagyis Zsangzsung szóbeli hagyománya. A többi bön és nyingma dzogcsen tanítással ellentétben ez ugyanis nem terma\, elrejtett „kincs”\, hanem töretlen vonalon tovább adott tanítás\, mely a mai napig mesterről tanítványra szállt.A Zsangzsung Nyengyü fő részei a kinyilatkozások átadási vonala (bka’ rgyud) és a tapasztalati átadás vonala (nyams rgyud)\, ezekből az előbbit tartalmazza a Kangyur\, és fő szövegteste „A kinyilatkozások átadásának négy köre” (bka’ rgyud skor bzhi)\, mely külső\, belső\, titkos és legtitkosabb körből\, szakaszokból áll. Eddig meghallgathattuk Rinpocsétól a külső körből\, mely főleg a dzogcsen filozófiai nézetének kifejtését foglalja magába\, „Az öt test önmagától-felkélő útmutatását” (sku lnga rang khrid) és „A nézet általános kifejtésének tizenkét útmutató fejezetét” (phyi lta ba spyi gcod).A következő tanítás a népszerű „Tizenkét kicsi tantra”\, mely ennek a külső körnek a fő szövege. A következő idézet a tibeti szövegből lett kiemelve tartalmi ismertetőnek: \n\n\n\n„A tizenkét kicsi tantra örökkévaló versének felvázolása: \n\n\n\nKa – Az eredendő minden alapja az önmagát-felismerő tudatosság.Kha – A spontán tökéletes ösvény erőfeszítéstől és fejlődéstől mentes.Ga – A gyümölcs spontán tökéletes úgy ahogy van.Nga – Az igaz természetet nem lehet vizsgálni.Ca – Az igaz természeten nem lehet meditálni.Cha – Az igaz természet tekintetében nincs [tanusítandó] magaviselet.Ja – A tudat példája az ég hasonlata.Nya – A tudat jele a tudat természete.Ta – A tudat jelentése a jelenségek valósága.Tha – A valóság születetlen dimenziójábanDa – az akadálytalan eredendő bölcsesség időzik.Na – Ez a születéstől és elmúlástól mentes egylényegiség.” \n\n\n\nA tervezett program: \n\n\n\nÁprilis 11. péntek:18:30 – 20:00 Tanítás \n\n\n\nÁprilis 12. szombat:9:30 – 12:30 Tanítás12:30 – 15:00 Ebédszünet15:00 – 18:00 Tanítás \n\n\n\nÁprilis 13. vasárnap:9:30 – 12:30 Tanítás12:30 – 15:00 Ebédszünet15:00 – 18:00 Tanítás \n\n\n\nA tanítások alatt időnként tartunk egy-egy rövid szünetet is. \n\n\n\nAkik nem tudnak személyesen eljönni  Khenchen Rinpoche a tanítására\, azoknak van lehetőségük online követni. A következő linken tudnak regisztrálni: \n\n\n\nhttps://us06web.zoom.us/…/WN_zhbk2GbNSTiM4aUAN9VwrA… \n\n\n\n \n\n\n\nHozzájárulás:Nagylelkű felajánlás: 30 000 FtTámogató felajánlás: 25 000 FtEgyesületi tagoknak:20 000 FtTovábbi kedvezményes lehetőségekről érdeklődhettek a jungdrungtengyedude@gmail.com -on. \n\n\n\njungdrungtengyedude@gmail.com
URL:https://tkbe.hu/esemeny/zsangzsung-nyengyu-tizenket-kicsi-tantra-khenchen-tenpa-yungdrung-rinpocse-tanitasa/
LOCATION:Zöld Kakas Líceum\, Hurok utca 11.\, Budapest\, 1091
ATTACH;FMTTYPE=image/jpeg:https://tkbe.hu/wp-content/uploads/2025/03/jungdrung_202503.jpg
ORGANIZER;CN="Jungdrung Ten Gye D%C3%BC De Magyarorsz%C3%A1gi B%C3%B6npo K%C3%B6z%C3%B6ss%C3%A9g":MAILTO:jungdrungtengyedude@gmail.com
END:VEVENT
END:VCALENDAR