BEGIN:VCALENDAR
VERSION:2.0
PRODID:-//A Tan Kapuja Buddhista Egyház - ECPv6.15.20//NONSGML v1.0//EN
CALSCALE:GREGORIAN
METHOD:PUBLISH
X-WR-CALNAME:A Tan Kapuja Buddhista Egyház
X-ORIGINAL-URL:https://tkbe.hu
X-WR-CALDESC:Események A Tan Kapuja Buddhista Egyház
REFRESH-INTERVAL;VALUE=DURATION:PT1H
X-Robots-Tag:noindex
X-PUBLISHED-TTL:PT1H
BEGIN:VTIMEZONE
TZID:Europe/Budapest
BEGIN:DAYLIGHT
TZOFFSETFROM:+0100
TZOFFSETTO:+0200
TZNAME:CEST
DTSTART:20180325T010000
END:DAYLIGHT
BEGIN:STANDARD
TZOFFSETFROM:+0200
TZOFFSETTO:+0100
TZNAME:CET
DTSTART:20181028T010000
END:STANDARD
BEGIN:DAYLIGHT
TZOFFSETFROM:+0100
TZOFFSETTO:+0200
TZNAME:CEST
DTSTART:20190331T010000
END:DAYLIGHT
BEGIN:STANDARD
TZOFFSETFROM:+0200
TZOFFSETTO:+0100
TZNAME:CET
DTSTART:20191027T010000
END:STANDARD
BEGIN:DAYLIGHT
TZOFFSETFROM:+0100
TZOFFSETTO:+0200
TZNAME:CEST
DTSTART:20200329T010000
END:DAYLIGHT
BEGIN:STANDARD
TZOFFSETFROM:+0200
TZOFFSETTO:+0100
TZNAME:CET
DTSTART:20201025T010000
END:STANDARD
END:VTIMEZONE
BEGIN:VEVENT
DTSTART;TZID=Europe/Budapest:20190219T073000
DTEND;TZID=Europe/Budapest:20190219T083000
DTSTAMP:20260422T192650
CREATED:20240428T132515Z
LAST-MODIFIED:20240428T132515Z
UID:10000478-1550561400-1550565000@tkbe.hu
SUMMARY:Kenjutsu - Japán kardvívás (kezdőknek)
DESCRIPTION:Szerdánként kezdőknek tart japán kardvívás oktatást Baranyi György A Tan Kapuja Buddhista Főiskolán. \n\nA Jikishin Kage-ryū Kenjutsu stílusnak több ága is létezik. Itt Suzuki Kimiyoshi sensei irányításával a Naganuma-ha tanításait képviselik. \nTörténet: \nEgy Aizu Hyūga no Kami Iko (1452-1538) nevű szamuráj 1490-ben megalapította a Kage-rjū (Az árnyék iskolája) nevű kenjutsu stílust\, majd Sugimoto Bizen no Kami (1467-1524) létrehozta a Kashima Shinkage-ryū iskolát. A stílus ötödik örököse\, Kamiya Denshinsai Sadamitsu (1582-1663) változtatta az iskola nevét Jikishin-ryūra. Ez változott Jikishin Seitoha-ra a hatodik nagymester\, Takahasi Danjōzaemon Shigeharu (1610-1690) által\, míg végül a Jikishinkage-ryū (ősi árnyék legújabb iskolája) nevet a hetedik nagymester adta\, Yamada Heizaemon (1639-1716). \nYamada Heizaemon súlyos sérülést szenvedett tizennyolc éves korában\, egy bokutoval vívott párbaj során. Nem is edzett harminckét éves koráig\, amikor is először hallott Takahashi Danjōzaemon iskolájáról\, ahol a tanítványok védőmaszkot és védőkesztyűt viseltek\, így megvédhették magukat a gyakori sérülésektől. Gondolkodás nélkül jelentkezett tanulónak és negyvenhat éves korára meg is szerezte a Menkyo Kaiden fokozatot. Sajnálkozva jegyezte meg tanítványainak\, hogy mennyire hiányolja az igazi szellemet és bátorságot a gyakorlásból\, és milyen sokan koncentrálnak csupán a katák sulykolására. Ekkor kezdte kialakítani saját tréning rendszerét\, mely lehetővé tette a tanítványoknak\, hogy teljes erővel sújthassanak le az ellenfelükre\, de ne kelljen súlyos sérülésektől tartaniuk. Harmadik fia – az iskola nyolcadik örököse – Naganuma Shirozaemon Kunisato (1688-1767) fejezte be édesapja munkáját. \nA teljes védőfelszerelés kezdetben még csak az arcvédőből és a kesztyűből állt (men és kote). „Ahogy a törzsedet csak az általad viselt kimono vékony anyaga védi\, úgy tanít meg a fájdalom\, hogy ezen az érzékeny területen kerüld el a találatot a keiko során.” Később bevezették a testet védő páncélt és ezt a védőfelszerelést összekötötték a Shinai geikoval. E gyakorlási módszernek nagy szerepe volt a Kendō kialakításában. \nA Jikishin Kage-ryūban nagyon fontos a bokken használata is\, amellyel a test minden részére vágunk\, a fejre\, törzsre\, karra és a lábakra is. A bokken mellett van még egy speciális eszköze is a gyakorlásnak\, ez a kard hosszának megfelelő nehéz fából készült husáng. Ezt nemcsak erőfejlesztésre\, hanem néhány tradicionális kata bemutatására is használjuk. A katanát az iai gyakorlatok során\, illetve a tameshigiri gyakorlatoknál vesszük elő. \nStílusunk XIV. nagymestere a japán reformáció időszakának egyik leghíresebb kardvívója\, Sakakibara Kenkichi (1829-1894) volt. Két legjobb tanítványa Yamada Jirōkichi (1863-1930) és Matsudaira Yasutoshi (1835-1880?)\, aki a Jikishin Kage-ryū tradicionális változatát oktatta. Yasutoshi legügyesebb tanítványa volt Makita Shigekatsu (1849-1914)\, aki a polgárháború után Hokkaidōra költözött\, Aizu-ban élt és vált ennek a stílusnak az egyik legismertebb mesterévé. Halála után tiszteletére Atsuta faluban emlékművet emeltek. \nEz a település Makita Shigekatsu idejében egy nagyobb város volt. Sok halász jó módban élt ott\, még az 1930-as években is\, de azóta megváltoztak a tengeráramlatok és nem tudnak ott megélni a halászatból. Így ma már nagyon kicsi ez a település. Shigekatsunak nyolc gyermeke született\, négy fiú és négy lány. Jikishin Kage-ryū Kenjutsut csak egyik fia tanult tőle\, de később ő sem vitte tovább az iskolát. Családjában a harcművészetek útjára (fia után)\, a Gōjū-ryū Karate-dō és a Jikishin Kage-ryū Kenjutsu elsajátításában\, oktatásában legkisebb unokája\, mesterünk Suzuki Kimiyoshi lépett. \nForrás: Jikishin Kage-ryū Kenjutsu
URL:https://tkbe.hu/esemeny/kenjutsu-japan-kardvivas-kezdoknek/
ATTACH;FMTTYPE=image/jpeg:https://tkbe.hu/wp-content/uploads/2024/04/shimalong-4nWmJK.tmp_.jpg
ORGANIZER;CN="Baranyi Gy%C3%B6rgy":MAILTO:jikishinkageryu@gmail.com
END:VEVENT
BEGIN:VEVENT
DTSTART;TZID=Europe/Budapest:20190219T073000
DTEND;TZID=Europe/Budapest:20190219T083000
DTSTAMP:20260422T192650
CREATED:20240428T145705Z
LAST-MODIFIED:20240428T145705Z
UID:10000489-1550561400-1550565000@tkbe.hu
SUMMARY:Kenjutsu - Japán kardvívás (kezdőknek)
DESCRIPTION:Szerdánként kezdőknek tart japán kardvívás oktatást Baranyi György A Tan Kapuja Buddhista Főiskolán. \n\nA Jikishin Kage-ryū Kenjutsu stílusnak több ága is létezik. Itt Suzuki Kimiyoshi sensei irányításával a Naganuma-ha tanításait képviselik. \nTörténet: \nEgy Aizu Hyūga no Kami Iko (1452-1538) nevű szamuráj 1490-ben megalapította a Kage-rjū (Az árnyék iskolája) nevű kenjutsu stílust\, majd Sugimoto Bizen no Kami (1467-1524) létrehozta a Kashima Shinkage-ryū iskolát. A stílus ötödik örököse\, Kamiya Denshinsai Sadamitsu (1582-1663) változtatta az iskola nevét Jikishin-ryūra. Ez változott Jikishin Seitoha-ra a hatodik nagymester\, Takahasi Danjōzaemon Shigeharu (1610-1690) által\, míg végül a Jikishinkage-ryū (ősi árnyék legújabb iskolája) nevet a hetedik nagymester adta\, Yamada Heizaemon (1639-1716). \nYamada Heizaemon súlyos sérülést szenvedett tizennyolc éves korában\, egy bokutoval vívott párbaj során. Nem is edzett harminckét éves koráig\, amikor is először hallott Takahashi Danjōzaemon iskolájáról\, ahol a tanítványok védőmaszkot és védőkesztyűt viseltek\, így megvédhették magukat a gyakori sérülésektől. Gondolkodás nélkül jelentkezett tanulónak és negyvenhat éves korára meg is szerezte a Menkyo Kaiden fokozatot. Sajnálkozva jegyezte meg tanítványainak\, hogy mennyire hiányolja az igazi szellemet és bátorságot a gyakorlásból\, és milyen sokan koncentrálnak csupán a katák sulykolására. Ekkor kezdte kialakítani saját tréning rendszerét\, mely lehetővé tette a tanítványoknak\, hogy teljes erővel sújthassanak le az ellenfelükre\, de ne kelljen súlyos sérülésektől tartaniuk. Harmadik fia – az iskola nyolcadik örököse – Naganuma Shirozaemon Kunisato (1688-1767) fejezte be édesapja munkáját. \nA teljes védőfelszerelés kezdetben még csak az arcvédőből és a kesztyűből állt (men és kote). „Ahogy a törzsedet csak az általad viselt kimono vékony anyaga védi\, úgy tanít meg a fájdalom\, hogy ezen az érzékeny területen kerüld el a találatot a keiko során.” Később bevezették a testet védő páncélt és ezt a védőfelszerelést összekötötték a Shinai geikoval. E gyakorlási módszernek nagy szerepe volt a Kendō kialakításában. \nA Jikishin Kage-ryūban nagyon fontos a bokken használata is\, amellyel a test minden részére vágunk\, a fejre\, törzsre\, karra és a lábakra is. A bokken mellett van még egy speciális eszköze is a gyakorlásnak\, ez a kard hosszának megfelelő nehéz fából készült husáng. Ezt nemcsak erőfejlesztésre\, hanem néhány tradicionális kata bemutatására is használjuk. A katanát az iai gyakorlatok során\, illetve a tameshigiri gyakorlatoknál vesszük elő. \nStílusunk XIV. nagymestere a japán reformáció időszakának egyik leghíresebb kardvívója\, Sakakibara Kenkichi (1829-1894) volt. Két legjobb tanítványa Yamada Jirōkichi (1863-1930) és Matsudaira Yasutoshi (1835-1880?)\, aki a Jikishin Kage-ryū tradicionális változatát oktatta. Yasutoshi legügyesebb tanítványa volt Makita Shigekatsu (1849-1914)\, aki a polgárháború után Hokkaidōra költözött\, Aizu-ban élt és vált ennek a stílusnak az egyik legismertebb mesterévé. Halála után tiszteletére Atsuta faluban emlékművet emeltek. \nEz a település Makita Shigekatsu idejében egy nagyobb város volt. Sok halász jó módban élt ott\, még az 1930-as években is\, de azóta megváltoztak a tengeráramlatok és nem tudnak ott megélni a halászatból. Így ma már nagyon kicsi ez a település. Shigekatsunak nyolc gyermeke született\, négy fiú és négy lány. Jikishin Kage-ryū Kenjutsut csak egyik fia tanult tőle\, de később ő sem vitte tovább az iskolát. Családjában a harcművészetek útjára (fia után)\, a Gōjū-ryū Karate-dō és a Jikishin Kage-ryū Kenjutsu elsajátításában\, oktatásában legkisebb unokája\, mesterünk Suzuki Kimiyoshi lépett. \nForrás: Jikishin Kage-ryū Kenjutsu
URL:https://tkbe.hu/esemeny/kenjutsu-japan-kardvivas-kezdoknek-2/
ATTACH;FMTTYPE=image/jpeg:https://tkbe.hu/wp-content/uploads/2024/04/shimalong-4nWmJK.tmp_.jpg
ORGANIZER;CN="Baranyi Gy%C3%B6rgy":MAILTO:jikishinkageryu@gmail.com
END:VEVENT
END:VCALENDAR