BEGIN:VCALENDAR
VERSION:2.0
PRODID:-//A Tan Kapuja Buddhista Egyház - ECPv6.15.20//NONSGML v1.0//EN
CALSCALE:GREGORIAN
METHOD:PUBLISH
X-ORIGINAL-URL:https://tkbe.hu
X-WR-CALDESC:Események A Tan Kapuja Buddhista Egyház
REFRESH-INTERVAL;VALUE=DURATION:PT1H
X-Robots-Tag:noindex
X-PUBLISHED-TTL:PT1H
BEGIN:VTIMEZONE
TZID:Europe/Budapest
BEGIN:DAYLIGHT
TZOFFSETFROM:+0100
TZOFFSETTO:+0200
TZNAME:CEST
DTSTART:20160327T010000
END:DAYLIGHT
BEGIN:STANDARD
TZOFFSETFROM:+0200
TZOFFSETTO:+0100
TZNAME:CET
DTSTART:20161030T010000
END:STANDARD
BEGIN:DAYLIGHT
TZOFFSETFROM:+0100
TZOFFSETTO:+0200
TZNAME:CEST
DTSTART:20170326T010000
END:DAYLIGHT
BEGIN:STANDARD
TZOFFSETFROM:+0200
TZOFFSETTO:+0100
TZNAME:CET
DTSTART:20171029T010000
END:STANDARD
BEGIN:DAYLIGHT
TZOFFSETFROM:+0100
TZOFFSETTO:+0200
TZNAME:CEST
DTSTART:20180325T010000
END:DAYLIGHT
BEGIN:STANDARD
TZOFFSETFROM:+0200
TZOFFSETTO:+0100
TZNAME:CET
DTSTART:20181028T010000
END:STANDARD
END:VTIMEZONE
BEGIN:VEVENT
DTSTART;TZID=Europe/Budapest:20171001T170000
DTEND;TZID=Europe/Budapest:20171031T103000
DTSTAMP:20260425T161823
CREATED:20240427T174407Z
LAST-MODIFIED:20240427T174407Z
UID:10000149-1506877200-1509445800@tkbe.hu
SUMMARY:Vietnami buddhista kulturális hónap a Tan Kapuján
DESCRIPTION:A Tan Kapuja Buddhista Főiskola új programsorozatában távoli buddhista országokat és azok kultúráit mutatja be egy teljes hónapon keresztül. Októberben a téma Vietnám. A programok a Magyarországi Vietnami Buddhista Egyesülettel együttműködve kerülnek megrendezésre. \n\nProgramok\nMegnyitóVasárnap\, Október 1. | 17:00Thich Thien Bao és Jelen János \nKalligráfiaCsütörtök\, Október 5. | 18:00Thich Thien Bao és Nguyen Kim Anh \nGasztronómiaCsütörtök\, Október 12. | 18:00Ételkostoló\, max 30 fő részére \nNépművészetCsütörtök\, Október 19. | 18:00Zene\, népviselet és tea meditáció \nÚtibeszámolóSzerda\, Október 25. | 18:00Némethy András \nIrodalomCsütörtök\, Október 26. | 18:00Költészet és műfordítás \nZáróestVasárnap\, Október 29. | 17:00Thich Thien Bao és Jelen János \nTovábbi programok: \n– állandó kiállítás\, melynek témái: vietnami buddhista templomok\, festmények.– szerdánként vietnami filmklub. \nA rendezvényen való részvétel ingyenes\, azonban regisztrációhoz kötött.
URL:https://tkbe.hu/esemeny/vietnami-buddhista-kulturalis-honap-a-tan-kapujan/
LOCATION:A Tan Kapuja Buddhista Egyház és Főiskola\, Börzsöny utca 11\, Budapest\, 1098
ATTACH;FMTTYPE=image/jpeg:https://tkbe.hu/wp-content/uploads/2024/04/22007590_1547170161970057_6008861556757940923_n-JOa2Ah.tmp_.jpg
ORGANIZER;CN="tankapu@tkbf.hu":MAILTO:tankapu@tkbf.hu
END:VEVENT
BEGIN:VEVENT
DTSTART;TZID=Europe/Budapest:20171017T180000
DTEND;TZID=Europe/Budapest:20171017T200000
DTSTAMP:20260425T161823
CREATED:20240427T182049Z
LAST-MODIFIED:20240427T182049Z
UID:10000370-1508263200-1508270400@tkbe.hu
SUMMARY:Vietnámi irodalmi est
DESCRIPTION:A Tan Kapuja Buddhista Főiskola új programsorozatában távoli buddhista országokat és azok kultúráit mutatja be egy teljes hónapon keresztül. Októberben a Magyarországi Vietnámi Buddhista Egyesülettel együttműködve létrehozott programokon keresztül ismerkedhet meg a közönség ennek a távoli\, csodálatos országnak a kultúrájával. \n\nOktóber 17-én Irodalmi est\nMeghívott vietnámi műfordítók tartanak előadást a vietnámi irodalomról és a magyar irodalommal kapcsolatos élményeikről. Az előadás után lehetőség lesz beszélgetni az előadókkal. \nA meghívott vendégek:\nGiap Van Chung – Magyar Arany Érdemkereszttel kitüntetett fordító\, aki többek között Márai Sándor\, Szabó Magda\, Kertész Imre műveit fordította vietnámi nyelvre\, valamint számos vietnámi novellát magyarra. \nPhan Anh Son – A főiskolának ajándékozott „Béke minden lépésben” cimű Thich Nhat Hanh-könyv fordítója. Ezen kívül sok híres magyar költő (Petőfi Sándor\, József Attila\, Juhász Gyula\, Tóth Árpád) verseit fordította vietnámi nyelvre. \nA programra várnak mindenkit szeretettel\, regisztráció nélkül!
URL:https://tkbe.hu/esemeny/vietnami-irodalmi-est/
LOCATION:A Tan Kapuja Buddhista Egyház és Főiskola\, Börzsöny utca 11\, Budapest\, 1098
ATTACH;FMTTYPE=image/jpeg:https://tkbe.hu/wp-content/uploads/2024/04/gallery_sight_thumbr_365_1493021380-ed3OQA.tmp_.jpg
ORGANIZER;CN="Fenyvesi Bogl%C3%A1rka":MAILTO:fenyvesi.boglárka@tkbf.hu
END:VEVENT
BEGIN:VEVENT
DTSTART;TZID=Europe/Budapest:20171018T180000
DTEND;TZID=Europe/Budapest:20171018T200000
DTSTAMP:20260425T161823
CREATED:20240427T182051Z
LAST-MODIFIED:20240427T182051Z
UID:10000371-1508349600-1508356800@tkbe.hu
SUMMARY:Vietnámi filmklub
DESCRIPTION:Szerda esténként a Vietnámi Buddhista Kulturális Hónap keretében filmvetítésekkel várják a szervezők az érdeklődőket a Tan Kapuján. Ezúttal A Csendes Amerikai című klasszikust vetítik. \n\nEgy fiatal amerikai orvos\, Alden Pyle (Brendan Fraser) 1952 őszén a forrongó Vietnámba érkezik. Nagy lelkesedéssel lát neki küldetésének\, hogy gazdasági segélyprogramjával segítse a szabadságáért harcoló vietnámi népet. Saigonban találkozik és összebarátkozik a London Times tudósítójával\, Thomas Fowlerrel (Michael Caine). Rövidesen azonban elbűvöli és valósággal rabul ejti Fowler fiatal vietnámi szeretője\, Phuong (Do Thi Hai Yen)\, aki épp olyan gyönyörű\, egzotikus és titokzatos\, mint maga Vietnám. A három ember elsöprő erejű\, viharos szerelmi háromszögbe sodródik\, mely meglepő felfedezésekhez\, s végül gyilkossághoz vezet.  \nForrás: Port.hu
URL:https://tkbe.hu/esemeny/vietnami-filmklub/
LOCATION:A Tan Kapuja Buddhista Egyház és Főiskola\, Börzsöny utca 11\, Budapest\, 1098
ATTACH;FMTTYPE=image/png:https://tkbe.hu/wp-content/uploads/2024/04/unnamed_2-uX3DEd.tmp_.png
ORGANIZER;CN="Fenyvesi Bogl%C3%A1rka":MAILTO:fenyvesi.boglárka@tkbf.hu
END:VEVENT
BEGIN:VEVENT
DTSTART;TZID=Europe/Budapest:20171019T180000
DTEND;TZID=Europe/Budapest:20171019T200000
DTSTAMP:20260425T161823
CREATED:20240427T182053Z
LAST-MODIFIED:20240427T182053Z
UID:10000373-1508436000-1508443200@tkbe.hu
SUMMARY:Vietnámi teameditáció
DESCRIPTION:A Tan Kapuja Buddhista Főiskola új programsorozatában távoli buddhista országokat és azok kultúráit mutatja be egy teljes hónapon keresztül. Októberben a Magyarországi Vietnámi Buddhista Egyesülettel együttműködve létrehozott programokon keresztül ismerkedhet meg a közönség ennek a távoli\, csodálatos országnak a kultúrájával. \n\nOktóber 19-én teameditáció\nA buddhizmus alapgyakorlata a meditáció. Elcsendesíti a tudatot\, segít rálátni a bennünk lévő és a minket körülvevő világ működésére. Nem csak üléskor tudunk meditálni\, hanem amikor megyünk\, megállunk\, megpihenünk vagy dolgozunk.A teameditáció is ilyen gyakorlat. Alkalmat teremt arra\, hogy együtt legyünk\, meghallgassuk egymást\, a nehézségekre\, akadályokra választ találjunk\, így okozva egymásnak örömöt\, boldogságot. \nAz esti tea meditáció során visszatérünk önmagunkhoz\, kifejezzük érzéseinket\, meghallgatjuk egymást\, hogy megértésre és szeretetre találjunk. \nA teameditációt a tiszteletreméltó Thich Thien Bao mester vezeti. Házigazdaként a Tan Kapuja Buddhista Egyház vezetői: Mireisz László\, Dobosy Antal\, Tátrai Tibor és Cser Zoltán lesznek jelen. \nA bemutatón való részvétel ingyenes\, azonban regisztrációhoz kötött!
URL:https://tkbe.hu/esemeny/vietnami-teameditacio/
LOCATION:A Tan Kapuja Buddhista Egyház és Főiskola\, Börzsöny utca 11\, Budapest\, 1098
ATTACH;FMTTYPE=image/jpeg:https://tkbe.hu/wp-content/uploads/2024/04/22406363_1562887567064983_1254449418226012283_n_0-j5JOrw.tmp_.jpg
ORGANIZER;CN="Fenyvesi Bogl%C3%A1rka":MAILTO:fenyvesi.boglárka@tkbf.hu
END:VEVENT
BEGIN:VEVENT
DTSTART;TZID=Europe/Budapest:20171029T190000
DTEND;TZID=Europe/Budapest:20171029T210000
DTSTAMP:20260425T161823
CREATED:20240427T182118Z
LAST-MODIFIED:20240427T182118Z
UID:10000379-1509303600-1509310800@tkbe.hu
SUMMARY:A Vietnámi buddhista kulturális hónap záróünnepsége
DESCRIPTION:A Tan Kapuja Buddhista Főiskola új programsorozatában távoli buddhista országokat és azok kultúráit mutatja be egy teljes hónapon keresztül. Októberben a Magyarországi Vietnámi Buddhista Egyesülettel együttműködve létrehozott programokon keresztül ismerkedhet meg a közönség ennek a távoli\, csodálatos országnak a kultúrájával. \n\nAz estén vietnámi népzenészek\, néptáncosok és egy buddhista énekkórus szórakoztatja majd a vendégeket.A programok között továbbá filmvetítés nyereményjátékok is szerepelnek. A vendégek a büfé kínálatából válogathatnak a rendezvény alatt. \nÜnnepi beszédet mondanak a részt vevő közösségek és a szervezők\, majd ünnepélyes együttműködési megállapodást köt a Tan Kapuja Buddhista Egyház és Főiskola\, valamint a Magyarországi Vietnámi Buddhista Kulturális Központ.
URL:https://tkbe.hu/esemeny/a-vietnami-buddhista-kulturalis-honap-zarounnepsege/
ATTACH;FMTTYPE=image/jpeg:https://tkbe.hu/wp-content/uploads/2024/04/20110819204707_14-Hf6Lu3.tmp_.jpg
END:VEVENT
END:VCALENDAR