BEGIN:VCALENDAR
VERSION:2.0
PRODID:-//A Tan Kapuja Buddhista Egyház - ECPv6.15.20//NONSGML v1.0//EN
CALSCALE:GREGORIAN
METHOD:PUBLISH
X-ORIGINAL-URL:https://tkbe.hu
X-WR-CALDESC:Események A Tan Kapuja Buddhista Egyház
REFRESH-INTERVAL;VALUE=DURATION:PT1H
X-Robots-Tag:noindex
X-PUBLISHED-TTL:PT1H
BEGIN:VTIMEZONE
TZID:Europe/Budapest
BEGIN:DAYLIGHT
TZOFFSETFROM:+0100
TZOFFSETTO:+0200
TZNAME:CEST
DTSTART:20180325T010000
END:DAYLIGHT
BEGIN:STANDARD
TZOFFSETFROM:+0200
TZOFFSETTO:+0100
TZNAME:CET
DTSTART:20181028T010000
END:STANDARD
BEGIN:DAYLIGHT
TZOFFSETFROM:+0100
TZOFFSETTO:+0200
TZNAME:CEST
DTSTART:20190331T010000
END:DAYLIGHT
BEGIN:STANDARD
TZOFFSETFROM:+0200
TZOFFSETTO:+0100
TZNAME:CET
DTSTART:20191027T010000
END:STANDARD
BEGIN:DAYLIGHT
TZOFFSETFROM:+0100
TZOFFSETTO:+0200
TZNAME:CEST
DTSTART:20200329T010000
END:DAYLIGHT
BEGIN:STANDARD
TZOFFSETFROM:+0200
TZOFFSETTO:+0100
TZNAME:CET
DTSTART:20201025T010000
END:STANDARD
END:VTIMEZONE
BEGIN:VEVENT
DTSTART;TZID=Europe/Budapest:20190629T090000
DTEND;TZID=Europe/Budapest:20190630T130000
DTSTAMP:20260420T115435
CREATED:20240427T173755Z
LAST-MODIFIED:20240427T173755Z
UID:10000092-1561798800-1561899600@tkbe.hu
SUMMARY:Jantra jóga kezdő kurzus Marosvásárhelyen
DESCRIPTION:A Csögyal Namkhai Norbu Rinpocse által átadott Jantra jóga\, vagy „Mozgás jógája” egy ősi tibeti jógarendszer\, ami a Nagy Tökéletesség-Dzogcsen tanítás része. \n\nEredeti szövegét\, amelynek címe A Nap és a Hold egyesítése\, Vairócsana\, a híres fordító írta le a 8. században. A szöveghez tartozó nélkülözhetetlen szóbeli magyarázatok átadási lánca azóta megszakítatlan. A Jantra jóga gyakorlása által a fizikai testünk és energiáink kiegyensúlyozódnak\, légzésünk rendezetté válik\, tudatunk ezáltal tud túllépni a gondolkozáson és ítélkezésen\, felfedezve az ún. elmélyedés állapotát\, a tudat természetét. \nA kurzuson a Jantra jóga előkészítő gyakorlatait fogjuk megtanulni: a Kilences légzést\, az ízületek lazításának öt gyakorlatát\, a Nyolc mozgást a prána tisztítására\, valamint a vezetékek uralásának öt gyakorlatát. \nA kurzus két napos\, nyitott azok számára is\, akik teljesen kezdők és nincs semmilyen előképzettségük a jógában. A kurzus felajánlás alapú\, adománydobozt helyezünk ki. \nIdőpont: 2019. június 29. (szombat) és június 30. (vasárnap)Program: mindkét nap 9-től 13 óráig tart a gyakorlás. \nJelentkezni a cserzoltan55@gmail.com címen lehet.
URL:https://tkbe.hu/esemeny/jantra-joga-kezdo-kurzus-marosvasarhelyen/
ATTACH;FMTTYPE=image/jpeg:https://tkbe.hu/wp-content/uploads/2024/04/jantra-marosvasarhely-18aGkL.tmp_.jpg
ORGANIZER;CN="Cser Zolt%C3%A1n":MAILTO:cser.zoltan@tkbf.hu
END:VEVENT
END:VCALENDAR