BEGIN:VCALENDAR
VERSION:2.0
PRODID:-//A Tan Kapuja Buddhista Egyház - ECPv6.15.20//NONSGML v1.0//EN
CALSCALE:GREGORIAN
METHOD:PUBLISH
X-ORIGINAL-URL:https://tkbe.hu
X-WR-CALDESC:Események A Tan Kapuja Buddhista Egyház
REFRESH-INTERVAL;VALUE=DURATION:PT1H
X-Robots-Tag:noindex
X-PUBLISHED-TTL:PT1H
BEGIN:VTIMEZONE
TZID:Europe/Budapest
BEGIN:DAYLIGHT
TZOFFSETFROM:+0100
TZOFFSETTO:+0200
TZNAME:CEST
DTSTART:20240331T010000
END:DAYLIGHT
BEGIN:STANDARD
TZOFFSETFROM:+0200
TZOFFSETTO:+0100
TZNAME:CET
DTSTART:20241027T010000
END:STANDARD
BEGIN:DAYLIGHT
TZOFFSETFROM:+0100
TZOFFSETTO:+0200
TZNAME:CEST
DTSTART:20250330T010000
END:DAYLIGHT
BEGIN:STANDARD
TZOFFSETFROM:+0200
TZOFFSETTO:+0100
TZNAME:CET
DTSTART:20251026T010000
END:STANDARD
BEGIN:DAYLIGHT
TZOFFSETFROM:+0100
TZOFFSETTO:+0200
TZNAME:CEST
DTSTART:20260329T010000
END:DAYLIGHT
BEGIN:STANDARD
TZOFFSETFROM:+0200
TZOFFSETTO:+0100
TZNAME:CET
DTSTART:20261025T010000
END:STANDARD
END:VTIMEZONE
BEGIN:VEVENT
DTSTART;TZID=Europe/Budapest:20250204T180000
DTEND;TZID=Europe/Budapest:20250204T190000
DTSTAMP:20260424T155857
CREATED:20240916T162845Z
LAST-MODIFIED:20250923T112804Z
UID:10000948-1738692000-1738695600@tkbe.hu
SUMMARY:Meditáció A Tan Szigete Közösség szervezésében
DESCRIPTION:A Tan Szigete Közösség (Dhammadípaszangha) személyes jelenlét mellett tartja meg meditációs alkalmait\, melyre mindenkit szeretettel várnak A Tan Kapuja Buddhista Főiskolán. \n\n\n\n\nA közös meditációs gyakorlásokon a théraváda vonalhoz tartozó\, thai erdei szerzetesrend meditációs gyakorlatával lehet megismerkedni. \n\n\n\nA meditációkat vezetik: Farkas Pál (A Tan Kapuja Buddhista Főiskola professzora\, egykori rektora)\, valamint A Tan Szigete Közösség dharmatanítói. \n\n\n\nA gyakorláshoz lehetőség van online formában is csatlakozni. \n\n\n\nMEGKÉRJÜK A CSATLAKOZÓKAT\, HOGY AMIKOR BELÉPNEK AZ ONLINE MEDITÁCIÓS TEREMBE\, LEGYENEK SZÍVESEK ÉS KAPCSOLJÁK KI A MIKROFONJUKAT\, hogy senkit ne zavarjunk meg a gyakorlásban.Köszönet érte! \n\n\n\nA meditációra 17:50 és 18:05 között lehet bejelentkezni. \n\n\n\nLINK: https://meet.google.com/wwi-pufx-penMEET alkalmazáson belüli meeting code: wwi-pufx-pen
URL:https://tkbe.hu/esemeny/meditacio-a-tan-szigete-kozosseg-szervezeseben-3/2025-02-04/
LOCATION:A Tan Kapuja Buddhista Főiskola – Zen terem\, Csengettyű u. 3.\, Budapest\, 1098\, Hungary
ATTACH;FMTTYPE=image/jpeg:https://tkbe.hu/wp-content/uploads/2024/09/KAL07723-scaled.jpg
ORGANIZER;CN="R%C3%A1ba G%C3%A9za":MAILTO:dhammapada.alapitvany@gmail.com
END:VEVENT
BEGIN:VEVENT
DTSTART;TZID=Europe/Budapest:20250212T180000
DTEND;TZID=Europe/Budapest:20250212T193000
DTSTAMP:20260424T155857
CREATED:20250208T105748Z
LAST-MODIFIED:20250208T110145Z
UID:10001215-1739383200-1739388600@tkbe.hu
SUMMARY:Vallásközi párbeszéd A Tan Kapuján
DESCRIPTION:Február 12-én ismét vallásközi párbeszéd A Tan Kapuja Buddhista Főiskolán. \n\n\n\nA havonta megrendezésre kerülő vallásközi párbeszédes beszélgetések egyes alkalmain a hazánkban is gyakorolható/elérhető öt vallás – buddhista\, hindu/vaisnava\, keresztény\, muszlim\, zsidó – egy-egy hazai képviselője vesz részt\, így a kedves érdeklődőknek igen széleskörű megismerésre nyílik lehetősége egy adott téma kapcsán. A beszélgetésekre egy épp aktuális témában kerül sor és minden vallás képviselője megpróbálja megvilágítani a saját vallásának\, nézetének szemszögéből az adott kérdést\, érdekes és izgalmas példákat hozva vallásának tanításaiból is. \n\n\n\nA sorozaton főként a 2014-ben életre keltett Isten tudja… vallásközi párbeszédes projektben is részt vevő tanítók vállalnak szerepet. \n\n\n\n \n\n\n\n\n\n\n\nA februári 12-i beszélgetés címe és témája: \n\n\n\nA teremtő és a teremtett isten(?)\, avagy vallások a mesterséges intelligenciáról. \n\n\n\nA beszélgetésen részt vesznek: \n\n\n\n\nCsenki András – református lelkész\n\n\n\nDobosy Antal – zen buddhista tanító\n\n\n\nMadhupati dász (Mérő Mátyás) – vaisnava (Krisna-hívő) lelkész\n\n\n\nRadvánszki Péter – rabbi\n\n\n\nSulok Zoltán Szabolcs – muszlim hitoktató\n\n\n\n\nA beszélgetést moderálja: \n\n\n\nRába Géza\, A Tan Kapuja kommunikációs vezetője\, valamit az Isten tudja… – vallásközi párbeszédes projekt megálmodója\, alapítója. \n\n\n\nIdőpont: 2025. február 12. (szerda) 18:00-19:30 \n\n\n\nHelyszín: A Tan Kapuja Buddhista Főiskola – Kőrösi terem. \n\n\n\nMinden kedves érdeklődőt szeretettel várunk! \n\n\n\n2025. továbi beszélgetéseinek időpontjai: \n\n\n\n2025. március 12. \n\n\n\n2025. április 16. \n\n\n\n2025. május 07. \n\n\n\nA korábbi beszélgetések megtekinthetők A Tan Kapuja YouTube csatornáján: \n\n\n\nHit\, remény\, öröm\, szeretet a különböző vallásokban – Vallásközi párbeszéd A Tan Kapuján (2024. 12. 11.) \n\n\n\nMegosztottság vagy együttműködés? – Vallásközi párbeszéd A Tan Kapuján (2024.11.20.)
URL:https://tkbe.hu/esemeny/vallaskozi-parbeszed-a-tan-kapujan/
LOCATION:A Tan Kapuja Buddhista Főiskola – Kőrösi terem\, Börzsöny u. 11.\, Budapest\, 1098\, Hungary
ATTACH;FMTTYPE=image/png:https://tkbe.hu/wp-content/uploads/2025/02/TKBF_Vallaskozi_Parbeszed_2024_1000x600.png
ORGANIZER;CN="A Tan Kapuja Buddhista F%C5%91iskola":MAILTO:tankapu@tkbf.hu
END:VEVENT
BEGIN:VEVENT
DTSTART;TZID=Europe/Budapest:20250218T180000
DTEND;TZID=Europe/Budapest:20250218T190000
DTSTAMP:20260424T155857
CREATED:20240916T162845Z
LAST-MODIFIED:20250923T112804Z
UID:10000950-1739901600-1739905200@tkbe.hu
SUMMARY:Meditáció A Tan Szigete Közösség szervezésében
DESCRIPTION:A Tan Szigete Közösség (Dhammadípaszangha) személyes jelenlét mellett tartja meg meditációs alkalmait\, melyre mindenkit szeretettel várnak A Tan Kapuja Buddhista Főiskolán. \n\n\n\n\nA közös meditációs gyakorlásokon a théraváda vonalhoz tartozó\, thai erdei szerzetesrend meditációs gyakorlatával lehet megismerkedni. \n\n\n\nA meditációkat vezetik: Farkas Pál (A Tan Kapuja Buddhista Főiskola professzora\, egykori rektora)\, valamint A Tan Szigete Közösség dharmatanítói. \n\n\n\nA gyakorláshoz lehetőség van online formában is csatlakozni. \n\n\n\nMEGKÉRJÜK A CSATLAKOZÓKAT\, HOGY AMIKOR BELÉPNEK AZ ONLINE MEDITÁCIÓS TEREMBE\, LEGYENEK SZÍVESEK ÉS KAPCSOLJÁK KI A MIKROFONJUKAT\, hogy senkit ne zavarjunk meg a gyakorlásban.Köszönet érte! \n\n\n\nA meditációra 17:50 és 18:05 között lehet bejelentkezni. \n\n\n\nLINK: https://meet.google.com/wwi-pufx-penMEET alkalmazáson belüli meeting code: wwi-pufx-pen
URL:https://tkbe.hu/esemeny/meditacio-a-tan-szigete-kozosseg-szervezeseben-3/2025-02-18/
LOCATION:A Tan Kapuja Buddhista Főiskola – Zen terem\, Csengettyű u. 3.\, Budapest\, 1098\, Hungary
ATTACH;FMTTYPE=image/jpeg:https://tkbe.hu/wp-content/uploads/2024/09/KAL07723-scaled.jpg
ORGANIZER;CN="R%C3%A1ba G%C3%A9za":MAILTO:dhammapada.alapitvany@gmail.com
END:VEVENT
BEGIN:VEVENT
DTSTART;TZID=Europe/Budapest:20250225T180000
DTEND;TZID=Europe/Budapest:20250225T190000
DTSTAMP:20260424T155857
CREATED:20240916T162845Z
LAST-MODIFIED:20250923T112804Z
UID:10000951-1740506400-1740510000@tkbe.hu
SUMMARY:Meditáció A Tan Szigete Közösség szervezésében
DESCRIPTION:A Tan Szigete Közösség (Dhammadípaszangha) személyes jelenlét mellett tartja meg meditációs alkalmait\, melyre mindenkit szeretettel várnak A Tan Kapuja Buddhista Főiskolán. \n\n\n\n\nA közös meditációs gyakorlásokon a théraváda vonalhoz tartozó\, thai erdei szerzetesrend meditációs gyakorlatával lehet megismerkedni. \n\n\n\nA meditációkat vezetik: Farkas Pál (A Tan Kapuja Buddhista Főiskola professzora\, egykori rektora)\, valamint A Tan Szigete Közösség dharmatanítói. \n\n\n\nA gyakorláshoz lehetőség van online formában is csatlakozni. \n\n\n\nMEGKÉRJÜK A CSATLAKOZÓKAT\, HOGY AMIKOR BELÉPNEK AZ ONLINE MEDITÁCIÓS TEREMBE\, LEGYENEK SZÍVESEK ÉS KAPCSOLJÁK KI A MIKROFONJUKAT\, hogy senkit ne zavarjunk meg a gyakorlásban.Köszönet érte! \n\n\n\nA meditációra 17:50 és 18:05 között lehet bejelentkezni. \n\n\n\nLINK: https://meet.google.com/wwi-pufx-penMEET alkalmazáson belüli meeting code: wwi-pufx-pen
URL:https://tkbe.hu/esemeny/meditacio-a-tan-szigete-kozosseg-szervezeseben-3/2025-02-25/
LOCATION:A Tan Kapuja Buddhista Főiskola – Zen terem\, Csengettyű u. 3.\, Budapest\, 1098\, Hungary
ATTACH;FMTTYPE=image/jpeg:https://tkbe.hu/wp-content/uploads/2024/09/KAL07723-scaled.jpg
ORGANIZER;CN="R%C3%A1ba G%C3%A9za":MAILTO:dhammapada.alapitvany@gmail.com
END:VEVENT
END:VCALENDAR