BEGIN:VCALENDAR
VERSION:2.0
PRODID:-//A Tan Kapuja Buddhista Egyház - ECPv6.15.20//NONSGML v1.0//EN
CALSCALE:GREGORIAN
METHOD:PUBLISH
X-ORIGINAL-URL:https://tkbe.hu
X-WR-CALDESC:Események A Tan Kapuja Buddhista Egyház
REFRESH-INTERVAL;VALUE=DURATION:PT1H
X-Robots-Tag:noindex
X-PUBLISHED-TTL:PT1H
BEGIN:VTIMEZONE
TZID:Europe/Budapest
BEGIN:DAYLIGHT
TZOFFSETFROM:+0100
TZOFFSETTO:+0200
TZNAME:CEST
DTSTART:20180325T010000
END:DAYLIGHT
BEGIN:STANDARD
TZOFFSETFROM:+0200
TZOFFSETTO:+0100
TZNAME:CET
DTSTART:20181028T010000
END:STANDARD
BEGIN:DAYLIGHT
TZOFFSETFROM:+0100
TZOFFSETTO:+0200
TZNAME:CEST
DTSTART:20190331T010000
END:DAYLIGHT
BEGIN:STANDARD
TZOFFSETFROM:+0200
TZOFFSETTO:+0100
TZNAME:CET
DTSTART:20191027T010000
END:STANDARD
BEGIN:DAYLIGHT
TZOFFSETFROM:+0100
TZOFFSETTO:+0200
TZNAME:CEST
DTSTART:20200329T010000
END:DAYLIGHT
BEGIN:STANDARD
TZOFFSETFROM:+0200
TZOFFSETTO:+0100
TZNAME:CET
DTSTART:20201025T010000
END:STANDARD
BEGIN:DAYLIGHT
TZOFFSETFROM:+0100
TZOFFSETTO:+0200
TZNAME:CEST
DTSTART:20210328T010000
END:DAYLIGHT
BEGIN:STANDARD
TZOFFSETFROM:+0200
TZOFFSETTO:+0100
TZNAME:CET
DTSTART:20211031T010000
END:STANDARD
BEGIN:DAYLIGHT
TZOFFSETFROM:+0100
TZOFFSETTO:+0200
TZNAME:CEST
DTSTART:20220327T010000
END:DAYLIGHT
BEGIN:STANDARD
TZOFFSETFROM:+0200
TZOFFSETTO:+0100
TZNAME:CET
DTSTART:20221030T010000
END:STANDARD
BEGIN:DAYLIGHT
TZOFFSETFROM:+0100
TZOFFSETTO:+0200
TZNAME:CEST
DTSTART:20230326T010000
END:DAYLIGHT
BEGIN:STANDARD
TZOFFSETFROM:+0200
TZOFFSETTO:+0100
TZNAME:CET
DTSTART:20231029T010000
END:STANDARD
BEGIN:DAYLIGHT
TZOFFSETFROM:+0100
TZOFFSETTO:+0200
TZNAME:CEST
DTSTART:20240331T010000
END:DAYLIGHT
BEGIN:STANDARD
TZOFFSETFROM:+0200
TZOFFSETTO:+0100
TZNAME:CET
DTSTART:20241027T010000
END:STANDARD
BEGIN:DAYLIGHT
TZOFFSETFROM:+0100
TZOFFSETTO:+0200
TZNAME:CEST
DTSTART:20250330T010000
END:DAYLIGHT
BEGIN:STANDARD
TZOFFSETFROM:+0200
TZOFFSETTO:+0100
TZNAME:CET
DTSTART:20251026T010000
END:STANDARD
BEGIN:DAYLIGHT
TZOFFSETFROM:+0100
TZOFFSETTO:+0200
TZNAME:CEST
DTSTART:20260329T010000
END:DAYLIGHT
BEGIN:STANDARD
TZOFFSETFROM:+0200
TZOFFSETTO:+0100
TZNAME:CET
DTSTART:20261025T010000
END:STANDARD
END:VTIMEZONE
BEGIN:VEVENT
DTSTART;TZID=Europe/Budapest:20250113T180000
DTEND;TZID=Europe/Budapest:20250113T193000
DTSTAMP:20260424T172522
CREATED:20250106T094013Z
LAST-MODIFIED:20250106T155814Z
UID:10000919-1736791200-1736796600@tkbe.hu
SUMMARY:Hétfő Esték A Tan Kapuján: Schreiner Dénes A monoteista vallások szent szövegei c. főiskolai jegyzetének bemutatója
DESCRIPTION:Az idei Hétfő Esték A Tan Kapuján sorozatunk első 2025-ös estjén Schreiner Dénes A monoteista vallások szent szövegei c. főiskolai jegyzetét mutatjuk be. A január 13-án 18 órakor kezdődő esten a szerzővel Karsai Gábor A Tan Kapuja Buddhista Főiskola rektora beszélget a Főiskola Kőrösi termében. \n\n\n\n\n\n\n\nSchreiner Dénes könyvéről a szerző néhány sora: \n\n\n\n„A szöveggyűjtemény a három nagy monoteista vallás szent szövegeiből\, azaz a Bibliából és a Koránból ad válogatást hozzátartozó kérdésekkel és feladatokkal együtt. A szövegek tehát nem ölelik fel a három vallás teljes történetét\, a qumráni tekercsekkel kivételt tettem\, mert kiemelkedő jelentőségűek a zsidó és keresztény vallás története szempontjából is. Az összeállítás során törekedtem átfogó képet adni e három vallás szövegeinek gazdagságáról mind tartalmi\, mind műfaji és stiláris szempontból. A gyűjtemény nem teológiai\, hanem vallástörténeti szempontokat követ\, azaz elsődlegesen nem a vallásgyakorlást\, hanem a feltételezhető vallástörténeti kontextus rekonstruálását célozza. Ezen keresztül sikerülhet a három vallás közös és eltérő elemeinek megismerése és megértése\, így egyúttal lehetővé válik a más kultúrákkal és vallásokkal való összehasonlítása is.” \n\n\n\nMindenkit szeretettel várunk A Tan Kapuja Buddhista Főiskolán ezen a hétfő estén (is)! \n\n\n\nA 2024/25-ös Hétfő Esték A Tan Kapuján további eseményei:\n\n\n\n\njanuár 20. 18h\n\n\n\n\nTakács László Kétszívű folyó című elbeszélés-kötetének bemutatója. \n\n\n\n\njanuár 27. 18h\n\n\n\n\nBeszélgetés Cser Zoltánnal.
URL:https://tkbe.hu/esemeny/hetfo-estek-a-tan-kapujan-schreiner-denes-a-monoteista-vallasok-szent-szovegei-c-foiskolai-jegyzetenek-bemutatoja/
LOCATION:A Tan Kapuja Buddhista Főiskola – Kőrösi terem\, Börzsöny u. 11.\, Budapest\, 1098\, Hungary
ATTACH;FMTTYPE=image/png:https://tkbe.hu/wp-content/uploads/2025/01/TKBF_konyvbemutato_hetfo_estek_FB_event-PART2-1000x600-03.png
ORGANIZER;CN="A Tan Kapuja Buddhista F%C5%91iskola":MAILTO:tankapu@tkbf.hu
END:VEVENT
BEGIN:VEVENT
DTSTART;TZID=Europe/Budapest:20210118T190000
DTEND;TZID=Europe/Budapest:20210118T200000
DTSTAMP:20260424T172522
CREATED:20240427T175429Z
LAST-MODIFIED:20240427T175429Z
UID:10000185-1610996400-1611000000@tkbe.hu
SUMMARY:Tragikus voyeur / Filozófiai kísérletek - Schreiner Dénessel Karsai Gábor beszélget (online)
DESCRIPTION:Hétfő esték A Tan Kapuján című\, A Tan Kapuja Buddhista Főiskola tanítói által tartott online előadássorozat január 18-i eseménye. \n\n2021. január 18. 19:00Tragikus voyeur/Filozófiai kísérletekSchreiner Dénessel Karsai Gábor beszélget (online)Schreiner Dénes új könyve kapcsán a szerzővel Karsai Gábor beszélget. A kötetben lévő szövegek az emberi létezés néhány alapvető jelenségét kívánják körüljárni. Szóba kerülnek a sírás és a mosolygás\, a halál és a gyász\, a játék és az élet\, az autózás és a városi tér\, a testiség és a tárgyiság\, a transzcendentális Harmadik alakzatai. E fenomének vizsgálatával egy olyan antropológiához juthatunk\, mely nemcsak az emberi létmód mélyebb megértését vonhatja maga után\, hanem a világban létezés\, a többi létezőhöz fűződő viszony új mintázatait is.A fenti időpontban a https://tkbe.hu/live oldalon\, vagy A Tan Kapuja YouTube csatornáján \nHÉTFŐ ESTÉK A TAN KAPUJÁNA Tan Kapuja Buddhista Egyház és A Tan Kapuja Buddhista Főiskola vezetői és tanítói online gyakorlásaik során lehetőséget szeretnének nyújtani a közös gyakorlásra és az ismeretszerzésre a koronavírus okozta rendkívüli időkben is\, így vállalva közösséget minden érző lénnyel. Az Egyház közösségeinek gyakorlása mellett a Főiskola tanítói december 21-től\, hétfőnként\, egy hétalkalmas előadás-sorozatot indítanak útjára\, melyet a https://tkbe.hu/live oldalon\, vagy A Tan Kapuja YouTube csatornáján követhetnek nyomon a tisztelt érdeklődők. \nA sorozat további előadásai: 2021. január 25. 19:00„Annál mi van\, a semmi ősebb” – a semmi problémájaBalikó György előadása  \n2021. február 01. 19:00Túl a jón és a rosszon\, az erkölcs felülnézetből – miként lesz az erkölcskövetésből megvilágosodás)Takács László előadása \nA sorozat korábbi előadásai:2020. december 21. 19:00Az ötödik Buddha\, aki még nem BuddhaCser Zoltán előadása \n2020. december 28. 19:00Elkötelezett buddhizmus (Engaged Buddhism) – a buddhista elvek alkalmazása a mindennapokbanFöldiné Irtl Melinda előadása \n2021. január 04. 19:00Hangszeres zen meditáció (sakuhacsi – japán bambuszfuvola)Kenéz László vezetésével \n2021. január 11. 19:00Mivégre változik minden? És ez jó vagy sem?Karsai Gábor előadása
URL:https://tkbe.hu/esemeny/tragikus-voyeur-filozofiai-kiserletek-schreiner-denessel-karsai-gabor-beszelget-online-2/
LOCATION:www.tkbe.hu/live\, illetve A Tan Kapuja YouTube csatornája
ATTACH;FMTTYPE=image/png:https://tkbe.hu/wp-content/uploads/2024/04/tkhetfok_schreinerdenes_uj-kDoezW.tmp_.png
END:VEVENT
BEGIN:VEVENT
DTSTART;TZID=Europe/Budapest:20210118T190000
DTEND;TZID=Europe/Budapest:20210118T200000
DTSTAMP:20260424T172522
CREATED:20240427T175427Z
LAST-MODIFIED:20240427T175427Z
UID:10000180-1610996400-1611000000@tkbe.hu
SUMMARY:Tragikus voyeur / Filozófiai kísérletek - Schreiner Dénessel Karsai Gábor beszélget (online)
DESCRIPTION:Hétfő esték A Tan Kapuján című\, A Tan Kapuja Buddhista Főiskola tanítói által tartott online előadássorozat január 18-i eseménye. \n\n2021. január 18. 19:00Tragikus voyeur/Filozófiai kísérletekSchreiner Dénessel Karsai Gábor beszélget (online)Schreiner Dénes új könyve kapcsán a szerzővel Karsai Gábor beszélget. A kötetben lévő szövegek az emberi létezés néhány alapvető jelenségét kívánják körüljárni. Szóba kerülnek a sírás és a mosolygás\, a halál és a gyász\, a játék és az élet\, az autózás és a városi tér\, a testiség és a tárgyiság\, a transzcendentális Harmadik alakzatai. E fenomének vizsgálatával egy olyan antropológiához juthatunk\, mely nemcsak az emberi létmód mélyebb megértését vonhatja maga után\, hanem a világban létezés\, a többi létezőhöz fűződő viszony új mintázatait is.A fenti időpontban a https://tkbe.hu/live oldalon\, vagy A Tan Kapuja YouTube csatornáján \nHÉTFŐ ESTÉK A TAN KAPUJÁNA Tan Kapuja Buddhista Egyház és A Tan Kapuja Buddhista Főiskola vezetői és tanítói online gyakorlásaik során lehetőséget szeretnének nyújtani a közös gyakorlásra és az ismeretszerzésre a koronavírus okozta rendkívüli időkben is\, így vállalva közösséget minden érző lénnyel. Az Egyház közösségeinek gyakorlása mellett a Főiskola tanítói december 21-től\, hétfőnként\, egy hétalkalmas előadás-sorozatot indítanak útjára\, melyet a https://tkbe.hu/live oldalon\, vagy A Tan Kapuja YouTube csatornáján követhetnek nyomon a tisztelt érdeklődők. \nA sorozat további előadásai: 2021. január 25. 19:00„Annál mi van\, a semmi ősebb” – a semmi problémájaBalikó György előadása  \n2021. február 01. 19:00Túl a jón és a rosszon\, az erkölcs felülnézetből – miként lesz az erkölcskövetésből megvilágosodás)Takács László előadása \nA sorozat korábbi előadásai:2020. december 21. 19:00Az ötödik Buddha\, aki még nem BuddhaCser Zoltán előadása \n2020. december 28. 19:00Elkötelezett buddhizmus (Engaged Buddhism) – a buddhista elvek alkalmazása a mindennapokbanFöldiné Irtl Melinda előadása \n2021. január 04. 19:00Hangszeres zen meditáció (sakuhacsi – japán bambuszfuvola)Kenéz László vezetésével \n2021. január 11. 19:00Mivégre változik minden? És ez jó vagy sem?Karsai Gábor előadása
URL:https://tkbe.hu/esemeny/tragikus-voyeur-filozofiai-kiserletek-schreiner-denessel-karsai-gabor-beszelget-online/
LOCATION:www.tkbe.hu/live\, illetve A Tan Kapuja YouTube csatornája
ATTACH;FMTTYPE=image/png:https://tkbe.hu/wp-content/uploads/2024/04/tkhetfok_schreinerdenes_uj-ZpdEuf.tmp_.png
END:VEVENT
BEGIN:VEVENT
DTSTART;TZID=Europe/Budapest:20191021T163000
DTEND;TZID=Europe/Budapest:20191021T180000
DTSTAMP:20260424T172522
CREATED:20240427T182104Z
LAST-MODIFIED:20240427T182104Z
UID:10000375-1571675400-1571680800@tkbe.hu
SUMMARY:Schreiner Dénes új könyvének bemutatója
DESCRIPTION:Schreiner Dénes Kis halogatások könyve című kötetének bemutatóján a szerzővel Rába Géza beszélget. \n\nA kiadó honlapján található: \nA körülrajongott író legújabb művének dedikálására már összegyűlt a sok ájtatos képű irodalomgyalázó. A hosszan kígyózó sor tagjainak persze fogalmuk sincs\, mi minden fog történni\, míg az utolsó dedikáltató\, a méltán közutálatnak örvendő Bakegér sorra kerül. Ám az elgyötört arcú mester sem sejti\, hogy megpróbáltatásai miképp fognak véget érni. Az átkozott Bakegér ezalatt türelmesen várakozik\, és mikor eljön az ő pillanata\, akcióba lendül. \n„Schreiner… magabiztos\, egyéni hangja nem üres utalásrendszerrel\, hanem egzisztenciálisan átélt és mélyen átérzett tapasztalatokkal\, a tárgyi és lelki világ árnyalt megfigyelésével teremt olyan szövegvilágokat\, melyekben irodalmi és filozófiai utalásai nem a semmibe hullanak.”(Sári B. László\, Magyar Narancs) \n„Schreiner hétköznapi csodákat kereső\, ám attól meg nem menekülő hősei… készek a létezés minden irracionalitásának átélésére.”
URL:https://tkbe.hu/esemeny/schreiner-denes-uj-konyvenek-bemutatoja/
LOCATION:A Tan Kapuja szakkönyvtára\, Börzsöny utca 13.\, Budapest\, 1098
ATTACH;FMTTYPE=image/jpeg:https://tkbe.hu/wp-content/uploads/2024/04/schreiner-denes-kis-halogatasok-konyve-tFrTVP.tmp_.jpg
END:VEVENT
END:VCALENDAR