BEGIN:VCALENDAR
VERSION:2.0
PRODID:-//A Tan Kapuja Buddhista Egyház - ECPv6.15.20//NONSGML v1.0//EN
CALSCALE:GREGORIAN
METHOD:PUBLISH
X-ORIGINAL-URL:https://tkbe.hu
X-WR-CALDESC:Események A Tan Kapuja Buddhista Egyház
REFRESH-INTERVAL;VALUE=DURATION:PT1H
X-Robots-Tag:noindex
X-PUBLISHED-TTL:PT1H
BEGIN:VTIMEZONE
TZID:Europe/Budapest
BEGIN:DAYLIGHT
TZOFFSETFROM:+0100
TZOFFSETTO:+0200
TZNAME:CEST
DTSTART:20180325T010000
END:DAYLIGHT
BEGIN:STANDARD
TZOFFSETFROM:+0200
TZOFFSETTO:+0100
TZNAME:CET
DTSTART:20181028T010000
END:STANDARD
BEGIN:DAYLIGHT
TZOFFSETFROM:+0100
TZOFFSETTO:+0200
TZNAME:CEST
DTSTART:20190331T010000
END:DAYLIGHT
BEGIN:STANDARD
TZOFFSETFROM:+0200
TZOFFSETTO:+0100
TZNAME:CET
DTSTART:20191027T010000
END:STANDARD
BEGIN:DAYLIGHT
TZOFFSETFROM:+0100
TZOFFSETTO:+0200
TZNAME:CEST
DTSTART:20200329T010000
END:DAYLIGHT
BEGIN:STANDARD
TZOFFSETFROM:+0200
TZOFFSETTO:+0100
TZNAME:CET
DTSTART:20201025T010000
END:STANDARD
BEGIN:DAYLIGHT
TZOFFSETFROM:+0100
TZOFFSETTO:+0200
TZNAME:CEST
DTSTART:20210328T010000
END:DAYLIGHT
BEGIN:STANDARD
TZOFFSETFROM:+0200
TZOFFSETTO:+0100
TZNAME:CET
DTSTART:20211031T010000
END:STANDARD
BEGIN:DAYLIGHT
TZOFFSETFROM:+0100
TZOFFSETTO:+0200
TZNAME:CEST
DTSTART:20220327T010000
END:DAYLIGHT
BEGIN:STANDARD
TZOFFSETFROM:+0200
TZOFFSETTO:+0100
TZNAME:CET
DTSTART:20221030T010000
END:STANDARD
BEGIN:DAYLIGHT
TZOFFSETFROM:+0100
TZOFFSETTO:+0200
TZNAME:CEST
DTSTART:20230326T010000
END:DAYLIGHT
BEGIN:STANDARD
TZOFFSETFROM:+0200
TZOFFSETTO:+0100
TZNAME:CET
DTSTART:20231029T010000
END:STANDARD
BEGIN:DAYLIGHT
TZOFFSETFROM:+0100
TZOFFSETTO:+0200
TZNAME:CEST
DTSTART:20240331T010000
END:DAYLIGHT
BEGIN:STANDARD
TZOFFSETFROM:+0200
TZOFFSETTO:+0100
TZNAME:CET
DTSTART:20241027T010000
END:STANDARD
BEGIN:DAYLIGHT
TZOFFSETFROM:+0100
TZOFFSETTO:+0200
TZNAME:CEST
DTSTART:20250330T010000
END:DAYLIGHT
BEGIN:STANDARD
TZOFFSETFROM:+0200
TZOFFSETTO:+0100
TZNAME:CET
DTSTART:20251026T010000
END:STANDARD
BEGIN:DAYLIGHT
TZOFFSETFROM:+0100
TZOFFSETTO:+0200
TZNAME:CEST
DTSTART:20260329T010000
END:DAYLIGHT
BEGIN:STANDARD
TZOFFSETFROM:+0200
TZOFFSETTO:+0100
TZNAME:CET
DTSTART:20261025T010000
END:STANDARD
BEGIN:DAYLIGHT
TZOFFSETFROM:+0100
TZOFFSETTO:+0200
TZNAME:CEST
DTSTART:20270328T010000
END:DAYLIGHT
BEGIN:STANDARD
TZOFFSETFROM:+0200
TZOFFSETTO:+0100
TZNAME:CET
DTSTART:20271031T010000
END:STANDARD
END:VTIMEZONE
BEGIN:VEVENT
DTSTART;TZID=Europe/Budapest:20260422T180000
DTEND;TZID=Europe/Budapest:20260422T210000
DTSTAMP:20260426T063210
CREATED:20240530T073518Z
LAST-MODIFIED:20260223T090108Z
UID:10001290-1776880800-1776891600@tkbe.hu
SUMMARY:Zen szertartás és beszélgetés
DESCRIPTION:A Tan Kapuja Zen Közösség közös gyakorlást és zen szertartást tart minden szerdán a Börzsöny utcai Dharma-teremben 18:00 órai kezdettel. A szertartáson szívesen látnak érdeklődőket is\, akik szeretnék megismerni a zen gyakorlatát. \n\n\n\n\nAzok részére\, akik nem tudnak részt venni a jelenléti szertartáson\, lehetőség van az online szertartáson részvenni! \n\n\n\n\nAz online szertartást 18:00 órai kezdettel tartják a Zoom alkalmazás segítségével\, amelyhez az alábbi linken lehet csatlakozni: https://us02web.zoom.us/j/85991747314 \n\n\n\nÉrdeklőni az info@zen.hu e-mail címen lehetséges.
URL:https://tkbe.hu/esemeny/zen-szertartas-es-beszelgetes-2/2026-04-22/
LOCATION:A Tan Kapuja Buddhista Főiskola Sarokdharma terme\, Börzsöny u. 11.\, Budapest\, 1098\, Magyarország
ATTACH;FMTTYPE=image/jpeg:https://tkbe.hu/wp-content/uploads/2024/05/zazen-mudra-e1771604752355.jpg
ORGANIZER;CN="A Tan Kapuja Zen K%C3%B6z%C3%B6ss%C3%A9g":MAILTO:info@zen.hu
END:VEVENT
BEGIN:VEVENT
DTSTART;TZID=Europe/Budapest:20240329T180000
DTEND;TZID=Europe/Budapest:20240331T180000
DTSTAMP:20260426T063210
CREATED:20240427T172534Z
LAST-MODIFIED:20240427T172534Z
UID:10000052-1711735200-1711908000@tkbe.hu
SUMMARY:Tavaszi áldó szertartás
DESCRIPTION:Nagy örömünkre szolgál bejelenteni\, hogy Khenzur Nyima Wangyal rinpocse 2024. március 29-31. között ismét elvégzi a Tavaszi Áldó Szertartást a Főiskola Nagytermében. \n\nKhenzur rinpocsét arra kértük\, hogy ez alkalommal is olvassa fel Budapesten a Százezer nága című szöveget\, mely szöveg a bön hagyomány alapítójától\, Tönpa Shenrab buddhától ered. Tönpa Shenrab buddha ezt a tanítást a nágák birodalmában adta azért\, hogy általa helyreálljon a harmónia az emberek és a nágák között. Khenzur rinpocse pár éve azt mondta erről a szövegről\, hogy egyfajta megvallással ér fel: egy megvallás a nágák és szellemlények irányába\, akikről nem veszünk tudomást és ebből adódóan folyton zavarjuk őket\, mindennapi tevékenységünkkel ártunk nekik. Ezt a szöveget szokták tavasszal szerte Tibetben felolvasni\, hogy helyreálljon a béke a szellemlények és a helyiek közt\, elcsitítandó a felbőszített szellemlények ártó\, betegségeket okozó tevékenységét. Semmi sem lehetne alkalmasabb a tavaszi kinyílásra\, mint egy ilyen tisztító\, áldó szertartás. Hagyományosan\, amikor egy láma ellátogat egy házhoz\, hogy elrecitáljon egy szöveget\, az azt jelenti\, hogy imáját kiterjeszti a ház lakóira\, ami a mi esetünkben a gyakorlók közössége\, akik ott rendszeresen összegyűlnek\, a barátokra és szeretteinkre is. \nKhenzur Nyima Wangyal rinpocse hagyományvonalunk elismert dzogcsen tanítója\, aki a szertartás elvégzése mellett erre vonatozó magyarázatokkal is ellát majd minket. \nA programon való részvételhez felajánlásotokat szeretnénk kérni a tanító számára\, ami a ti lehetőségeitekhez\, illetve nagylelkűségetekre szabott (ajánlott adományi összeg: 10.000-15.000 forint). Aki az interneten keresztül szeretne résztvenni a programon\, annak a Zoom oldalon lesz lehetősége becsatlakozni. Ehhez a linket és a belépési jelszavakat lentebb találjátok. Fontos! Aki interneten keresztül vesz részt a programon\, az adományát az alábbi PayPal számlán teheti meg. Ha nem áll PayPal a rendelkezésetekre\, kérlek vegyétek fel velünk a kapcsolatot és biztosan találunk megoldást! \nTopic: The weekend Lubom Ritual and Meditation for World PeaceJoin Zoom Meetinghttps://us06web.zoom.us/j/85303250136?pwd=68K4kquwCZJHJKlVDxGOU3SltXzSfd…Meeting ID: 853 0325 0136Passcode: Naljorling \nPAY PALhttps://www.paypal.com/paypalme/dzogchenNaldjorLing?country.x=FR&locale…. \nA program: \nMárcius 29. péntek:18.00 – 20.00: előkészületek\, bevezető \nMárcius 30. 31. szombaton és vasárnap: 9.00 – 12.00: szertartás\, imák\, meditáció12.00 – 15.00: ebédszünet15.00 – 18.00: szertartás\, imák\, meditáció \nVisszajelzéseiteket az alábbi email-címre küldjétek:jungdrungtengyedude@gmail.com \nÖrömmel és sok-sok szeretettel:Jungdrung Ten Gye Dü De Magyarországi Bönpo Közösség
URL:https://tkbe.hu/esemeny/tavaszi-aldo-szertartas/
LOCATION:A Tan Kapuja Központ\, Börzsöny utca 11.\, Budapest\, 1098
ATTACH;FMTTYPE=image/jpeg:https://tkbe.hu/wp-content/uploads/2024/04/tavaszi-tibeti-aldo-szertartas-EVthyJ.tmp_.jpg
ORGANIZER;CN="Jungdrung Ten Gye D%C3%BC De":MAILTO:jungdrungtengyedude@gmail.com
END:VEVENT
BEGIN:VEVENT
DTSTART;TZID=Europe/Budapest:20231005T190000
DTEND;TZID=Europe/Budapest:20231005T203000
DTSTAMP:20260426T063210
CREATED:20240427T182022Z
LAST-MODIFIED:20240427T182022Z
UID:10000359-1696532400-1696537800@tkbe.hu
SUMMARY:Mantrázás a Megvilágosodásért Most - Laár András mantra-szertartása
DESCRIPTION:Mantra-szertartást vezet A Tan Kapuján 2023. október 5-én 19 órai kezdettel Laár András (zenész/humorista/előadóművész) A Tan Kapuja Buddhista Egyház 108 alapítójának egyike. \n\nA Mantrázás a Megvilágosodásért Most című rendezvényről bővebben Laár András szavaival: \n„A három szakaszból álló zenei- és csönd-szertartás célja a bűvös hangok és a mantrák zengetésével megidézni azok belső\, dimenzókat átható erejét\, hogy egy szubtilisebb\, finomabb tudat-lét tapasztalói\, megélői lehessünk. A mantrák rejtett hatása jelenhet meg a hangokban\, és csöndekben\, amikor is a Megvilágosodás és a Most eszméje összekapcsolódik a Létezés Zengésével\, és vibráló Csöndjével.” \nA szertartás ingyenes\, mindenkit szeretettel várunk!
URL:https://tkbe.hu/esemeny/mantrazas-a-megvilagosodasert-most-laar-andras-mantra-szertartasa/
LOCATION:A Tan Kapuja Buddhista Főiskola Szertartásterme\, Börzsöny utca 11.\, Budapest\, 1098
ATTACH;FMTTYPE=image/jpeg:https://tkbe.hu/wp-content/uploads/2024/04/laar1-NvP37E.tmp_-scaled.jpg
ORGANIZER;CN="info@tkbe.hu":MAILTO:info@tkbe.hu
END:VEVENT
BEGIN:VEVENT
DTSTART;TZID=Europe/Budapest:20220131T180000
DTEND;TZID=Europe/Budapest:20220131T210000
DTSTAMP:20260426T063210
CREATED:20240427T175631Z
LAST-MODIFIED:20240427T175631Z
UID:10000193-1643652000-1643662800@tkbe.hu
SUMMARY:Holdújév ünnepség 2022
DESCRIPTION:Holdújév ünnepséget tart A Tan Kapuja Buddhista Egyház 2022. január 31-én hétfőn 18 órától\, melyet online elérhetővé tesz mindenki számára. \n\nSzerte a világon minden buddhista közösség\, így A Tan Kapuja Buddhista Egyház is megünnepli a holdújév kezdetét\, és az ősi hagyományokat megőrizve az elkövetkező (hold)évre előrejelzést\, jóslatot ad az ősi orákulumrendszerek segítségével.  \nA legendák szerint a Sárga Császár trónra lépése óta számoljuk a kínai újévet\, mely egész Ázsiában az év kezdetét jelzi. Az újév napja mindig a napkör 315. fokához legközelebb álló újhold\, ami azt jelenti\, hogy a Nap a Vízöntő jegyében áll és találkozik a Holddal. Ekkor indul el a növényeknél a nedvkeringés\, ezért ezt a napot a tavaszkezdet ünnepének is nevezik. Ilyenkor a hagyományok szerint 15 napig ünnepelnek\, és ekkor hangzanak el az újévi jóslatok is. A buddhizmusban a Buddha Srávasztíban végrehajtott 15 csodáját ünneplik ekkor. \nAz ünnepség szertartással kezdődik 18 órakor\, majd rövid szünet után következik a háromszor félórás jóslat az elkövetkező évről. \nA szertartást vezetik: Mireisz László\, Dobosy Antal és Cser Zoltán. A szertartás keretein belül Kenéz László sakuhacsi (japán bambuszfurulya) művész tart hangszeres meditációt. \nA szertartást követően Mireisz László a Ji-King\, Laár András a nyugati\, Cser Zoltán pedig a kínai asztrológia alapján méri föl az előttünk álló egy évet\, a (kínai) víz-tigris évét. \nMinden jelenség az időben kél\,Az idő folytonossága mindent áthat.Az idő az úr\, akinek birtokában van a vadzsra\,Kinek természete a nappal és az éjszaka.(Kálacsakra-tantra)\nA koronavírus-járványra való tekintettel az ünnepséget személyesen nem\, de online\, élőben lehet követni az interneten. A teljes rendezvényt élőben közvetítjük a www.tkbe.hu/live oldalon és A Tan Kapuja YouTube csatornáján.
URL:https://tkbe.hu/esemeny/holdujev-unnepseg-2022/
LOCATION:www.tkbe.hu/live\, illetve A Tan Kapuja YouTube csatornája
ATTACH;FMTTYPE=image/jpeg:https://tkbe.hu/wp-content/uploads/2024/04/ujhold-bHkO5A.tmp_.jpg
ORGANIZER;CN="info@tkbe.hu":MAILTO:info@tkbe.hu
END:VEVENT
BEGIN:VEVENT
DTSTART;TZID=Europe/Budapest:20211218T180000
DTEND;TZID=Europe/Budapest:20211218T200000
DTSTAMP:20260426T063210
CREATED:20240427T182439Z
LAST-MODIFIED:20240427T182439Z
UID:10000425-1639850400-1639857600@tkbe.hu
SUMMARY:Maitréja ünnepség 2021
DESCRIPTION:Az idei évben a rendkívüli helyzetre való tekintettel\, a decemberi Maitréja ünnepséget ismét online formában tartja meg A Tan Kapuja Buddhista Egyház\, melyhez így bárki csatlakozhat\, a világ bármely pontjáról. \n\nHagyományos év végi ünnepségünket\, az eljövendő világkorszak Buddhája\, Maitréja (szeretet) tiszteletére tartjuk meg minden év decemberében\, a téli napforduló körüli időszakban. Maitréja alakját a szeretet köti össze a karácsony ünnepével; az évnek ebben a szakában\, a téli napforduló környékén fordítsuk figyelmünket erre az egyetemes\, világot összetartó erőre\, mely segít kikerülnünk a sötétségből. \nA 18 órakor kezdődő ünnepélyes szertartást vezetik: Mireisz László\, Dobosy Antal és Cser Zoltán.A szertartást követően 19.30-tól: Zenei meditáció a TKBF tanárai és hallgatói részvételével \nAz ünnepséghez A Tan Kapuja YouTube csatornáján lehet csatlakozni.Időpont: 2021. december 18. szombat\, 18.00 órától \nAz ünnepséget megelőzően 17 órától a TanKapu30 és A Nincs-kapu című könyvek kettős könyvbemutatójára kerül sor ugyancsak A Tan Kapuja YouTube csatornájának élő közvetítésében. \nAz ünnepséget követően 20 órától a Menedék c. film premier előtti bemutatóját tartjuk meg ugyancsak A Tan Kapuja YouTube csatornáján élőben. \nJavasoljuk\, hogy mielőtt leülnek a képernyő elé érdemes maguk elé készíteni egy kis Buddha szobrot\, egy gyertyát (vagy mécsest) és egy füstölőt! \nA szertartás teljes szövege elérhető – és így akár végig is követhető – erre a linkre kattintva: https://www.tkbe.hu/sites/default/files/tkbe_szertartaskonyv.pdf \nSzeretettel várja a közösségek gyakorlóit\, minden volt és jelenlegi diákját\, valamint minden kedves barátját és az érdeklődőket A Tan Kapuja Buddhista Egyház!
URL:https://tkbe.hu/esemeny/maitreja-unnepseg-2021/
LOCATION:A Tan Kapuja YouTube csatornája
ATTACH;FMTTYPE=image/jpeg:https://tkbe.hu/wp-content/uploads/2024/04/maitreya_buddha_the_next_buddha-0qbL7f.tmp_-e1733469606250.jpg
ORGANIZER;CN="info@tkbe.hu":MAILTO:info@tkbe.hu
END:VEVENT
BEGIN:VEVENT
DTSTART;TZID=Europe/Budapest:20200906T150000
DTEND;TZID=Europe/Budapest:20200906T180000
DTSTAMP:20260426T063210
CREATED:20240427T181839Z
LAST-MODIFIED:20240427T181839Z
UID:10000333-1599404400-1599415200@tkbe.hu
SUMMARY:Szertartásterem avatás Mánfán
DESCRIPTION:A Tan Kapuja Buddhista Egyház közössége szeretettel meghívja az érdeklődőket a mánfai központ szertartástermének avatására. \n\nAz ünnepi szertartást vezeti:Mireisz László – A Tan Kapuja Buddhista Egyház elnökeCser Zoltán – A Tan Kapuja Buddhista Egyház igazgatójaDobosy Antal – A Tan Kapuja Zen Közösség apátjaBuddhista mantra énekeket ad elő:Laár András – előadóművész\, A Tan Kapuja Buddhista Főiskola vendégtanítójaVendég:Karsai Gábor – A Tan Kapuja Buddhista Főiskola rektora \nAz esemény ingyenesen látogatható\, de regisztrációhoz kötött. \nA rendezvény maximális létszáma 108 fő. \nJelentkezéshez kattints ide
URL:https://tkbe.hu/esemeny/szertartasterem-avatas-manfan/
LOCATION:Mánfa Buddhista Oktatási\, Kulturális és Elvonulási Központ\, Fábián Béla utca 87.\, Mánfa\, 7304
ATTACH;FMTTYPE=image/jpeg:https://tkbe.hu/wp-content/uploads/2024/04/manfa_vagott_30logo-wARS1R.tmp_.jpg
END:VEVENT
BEGIN:VEVENT
DTSTART;TZID=Europe/Budapest:20191010T180000
DTEND;TZID=Europe/Budapest:20191010T200000
DTSTAMP:20260426T063210
CREATED:20240428T150227Z
LAST-MODIFIED:20240428T150227Z
UID:10000496-1570730400-1570737600@tkbe.hu
SUMMARY:A szertartások szerepe a buddhizmusban
DESCRIPTION:A buddhizmus nagy iskoláiban mindig is komoly jelentőséggel bírtak a szertartások. A szertartások kommunikációs formák\, mozgásos meditációk és az ösvény lépéseit tanító gyakorlatok. Az előadás során bepillantást nyerünk a théraváda\, mahájána\, zen\, tantrák valamint a dzogcsen tanításokban szereplő szertartások világába. \n\nIdőpontok:– 2019. október 3-án (csütörtökön) 18 órától 20 óráig– 2019. október 10-én (csütörtökön) 18 órától 20 óráig \nAz előadás felajánlás alapú\, adománydobozt helyezünk ki. \nKérjük\, hogy a következő űrlap kitöltésével regisztráljatok\, hogy tudjuk\, hány emberre számíthatunk: kattints ide
URL:https://tkbe.hu/esemeny/a-szertartasok-szerepe-a-buddhizmusban/
LOCATION:A Tan Kapuja Buddhista Főiskola Szertartásterme\, Börzsöny utca 11.\, Budapest\, 1098
ATTACH;FMTTYPE=image/jpeg:https://tkbe.hu/wp-content/uploads/2024/04/20191003-cserzoli-h0UrxN.tmp_.jpg
ORGANIZER;CN="Cser Zolt%C3%A1n":MAILTO:cser.zoltan@tkbf.hu
END:VEVENT
BEGIN:VEVENT
DTSTART;TZID=Europe/Budapest:20190628T150000
DTEND;TZID=Europe/Budapest:20190628T170000
DTSTAMP:20260426T063210
CREATED:20240427T181808Z
LAST-MODIFIED:20240427T181808Z
UID:10000320-1561734000-1561741200@tkbe.hu
SUMMARY:Chöd szertartás és átadás
DESCRIPTION:Chöd szertartás és átadás a Tan Kapuja szertartástermében \n\nAz ulánbátori Tarvalin (Tharpaling) kolostor apátja és többi szerzetese a Dzsagar Molom (tib.: rgya gar smon lam) hagyományvonalához (tib.: rgyud) tartozó lüijin (tib.: lus sbyin) szertartást fogják bemutatni\, valamint rövid prezentációt tartanak a lüijin (Csö-vágás) értelméről és a Dzsagar Molom hagyományvonalról. Ezen kiivül a Sambalkhundev\, Sambanyarzed és egyéb könyvekről szóbeli átadást (tib.: lung) adnak. \nAz esemény felajánlás alapú.
URL:https://tkbe.hu/esemeny/chod-szertartas-es-atadas/
LOCATION:A Tan Kapuja Buddhista Egyház és Főiskola\, Börzsöny utca 11\, Budapest\, 1098
ATTACH;FMTTYPE=image/jpeg:https://tkbe.hu/wp-content/uploads/2024/04/20190628-chod-MmHSSI.tmp_.jpg
END:VEVENT
BEGIN:VEVENT
DTSTART;TZID=Europe/Budapest:20190518T170000
DTEND;TZID=Europe/Budapest:20190518T234500
DTSTAMP:20260426T063210
CREATED:20240427T181654Z
LAST-MODIFIED:20240427T181654Z
UID:10000296-1558198800-1558223100@tkbe.hu
SUMMARY:Vészák-ünnepség és sztúpaavatás
DESCRIPTION:2019. május 18-án szombaton 18 órától tartjuk a Buddha születése\, megvilágosodása és parinirvánába távozásának ünnepét az Egyház Dharma-csarnokában. \n\nAz ünnepség előtt 17 órától a Csengettyű utcai épületünk udvarán épült sztúpát avatjuk fel. \nAz avatás és a buddhista szertartás után körülbelül 19.30-tól a Han You Magyar-Koreai Kulturális és Művészeti Alapítvány Mugunghwa tánccsoportja lép fel. \n20 órától rövid szünet\, ahol frissítők és az aprósütemények fogyasztása mellett a Nagyteremben Sántha Eszter mandala- és üvegfestő munkáiban gyönyörködhet minden jelen lévő. \n20.30-tól A monostor gyermekei című (bhutáni-magyar-holland dokumentumfilm – 74 perc\, 2017) filmet vetítjük le\, majd vendégünk\, Valcsicsák Zoltán\, a Magyar-Bhutáni Baráti Társaság vezetője Veres Károly segítségével avat be bennünket a film kulisszatitkaiba\, mélyebb hátterébe! \nVégül\, a nagyon kitartóak 23 órától Cser Zoltán vezetésével telihold-meditáción vehetnek részt! \n \n17.00: Sztúpaavatás \n18.00: Ünnepség\, szertartás \n19:30: Mugunghwa tánccsoport \n20.00: szünet \n20:30: Filmvetítés és beszélgetés \n23.00: Telihold meditáció \n \nA programokban kivételesen gazdag ünnepségünkre szeretettel várjuk a közösségek gyakorlóit\, minden volt és jelenlegi diákunkat és minden kedves barátunkat! \nMireisz LászlóA Tan Kapuja BUddhista Egyház elnüke \nFotó: Sujan Vaidya / Unsplash \nSujan Vaidya
URL:https://tkbe.hu/esemeny/veszak-unnepseg-es-sztupaavatas/
LOCATION:A Tan Kapuja Buddhista Főiskola Szertartásterme\, Börzsöny utca 11.\, Budapest\, 1098
ATTACH;FMTTYPE=image/jpeg:https://tkbe.hu/wp-content/uploads/2024/04/sujan-vaidya-586615-unsplash-bVBeh3.tmp_-scaled.jpg
ORGANIZER;CN="info@tkbe.hu":MAILTO:info@tkbe.hu
END:VEVENT
BEGIN:VEVENT
DTSTART;TZID=Europe/Budapest:20190312T100000
DTEND;TZID=Europe/Budapest:20190321T130000
DTSTAMP:20260426T063210
CREATED:20240427T172331Z
LAST-MODIFIED:20240427T172331Z
UID:10000045-1552384800-1553173200@tkbe.hu
SUMMARY:Lubum Nagyváradon - Khenzur Nyima Wangyal Rinpoche
DESCRIPTION:Nagy örömmel tudatjuk\, hogy Khenzur Nyima Wangyal Rinpocse újra megtisztel minket a jelenlétével és vezeti a meditációnkat. Ez a negyedik alkalom\, hogy Nagyváradra látogat a Lubum nága szertartás\, bemutatására. \n\n„A Lubum nága szertartás egy beismerés. A Buddha Tönpa Serab Miwo által tanított Lubum nága szertartás egy beismerés. Amikor beismerést teszünk\, akkor a nágák boldogok\, ha nem teszünk\, akkor nem azok\, és számos nehézséggel találjuk szembe magunk\, negatív dolgok történnek. A beismerés nem csak az emberi lényekre vonatkozik\, hanem az összes jelenségre\, fákra\, az öt elemre. Azt hisszük\, hogy mi irányítunk\, mi használjuk az erőt\, de ez tévedés. Irányítjuk a teret ahol élünk\, a földet\, az öt elemet\, a vizet\, a tüzet\, és így a külső öt elemtől negatív dolgokat kapunk vissza a belső öt elemünkbe. Sok magyarázatunk van erre a kapcsolatra a bönpo és más tanításokban is. Mindenestre tisztelnünk kell. Tisztelnünk kell a teret mint a valóságunk példájaként\, hogy hogyan létezünk. Ha tiszteljük\, tudjuk ezt\, akkor megérthetjük. Ha nem tiszteljük\, nem fogjuk tudni megérteni.” (Khenzur Nyima Wangyal) \nA szervezők kérik\, hogyha lehetséges\, akkor az elvonulás teljes idejére jelentkezzenek. Persze\, ha ideje csak egy percet vagy egy hétvégét enged\, akkor is várják szerettel! \nAnyagiak: A szervezők nem tudják megbecsülni ennek az értékes tanításnak az értékét Euróban. A saját költség az adomány. A hozzájárulás segít a láma és családja költségeinek fedezésében.
URL:https://tkbe.hu/esemeny/lubum-nagyvaradon-khenzur-nyima-wangyal-rinpoche/
ATTACH;FMTTYPE=image/jpeg:https://tkbe.hu/wp-content/uploads/2024/04/khenzur_nyima_wangyal_rinpoche-uIZCm5.tmp_.jpg
ORGANIZER;CN="Pall Magdolna":MAILTO:pmagdolna83@gmail.com
END:VEVENT
BEGIN:VEVENT
DTSTART;TZID=Europe/Budapest:20190311T160000
DTEND;TZID=Europe/Budapest:20190311T173000
DTSTAMP:20260426T063210
CREATED:20240427T181318Z
LAST-MODIFIED:20240427T181318Z
UID:10000235-1552320000-1552325400@tkbe.hu
SUMMARY:Búcsúztató szertartás Dr. Fehér Judit emlékére
DESCRIPTION:2019. március 11-én 16 órától búcsúztató szertartás tartunk Dr. Fehér Judit emlékére A Tan Kapuja szertartástermében. \nKiváló barátunk\, társunk és tanítónk\, A Tan Kapuja Buddhista Főiskola nyugalmazott főiskolai tanára\, okleveles orientalista (tibeti)\, angol-indológia szakos előadó\, a nyelvtudomány kandidátusa\, Dr. Fehér Judit 2019. február 12-én kedden elhunyt. (A teljes gyászhír itt olvasható.) \nTiszteletére és emlékére A Tan Kapuja búcsúztató szertartást rendez a temetését megelőző napon\, 2019. március 11-én 16 órától A Tan Kapuja Szertartástermében. \nA szertartást Mireisz László A Tan Kapuja Buddhista Egyház elnöke és Cser Zoltán\, a TKBE igazgatója vezetik. \nMindenkit szeretettel várunk\, aki ismerte\, és szerette kedves barátunkat!
URL:https://tkbe.hu/esemeny/bucsuztato-szertartas-dr-feher-judit-emlekere/
LOCATION:A Tan Kapuja Buddhista Főiskola Szertartásterme\, Börzsöny utca 11.\, Budapest\, 1098
ATTACH;FMTTYPE=image/jpeg:https://tkbe.hu/wp-content/uploads/2024/04/large-EuGMlx.tmp_.jpg
ORGANIZER;CN="info@tkbe.hu":MAILTO:info@tkbe.hu
END:VEVENT
END:VCALENDAR