BEGIN:VCALENDAR
VERSION:2.0
PRODID:-//A Tan Kapuja Buddhista Egyház - ECPv6.15.20//NONSGML v1.0//EN
CALSCALE:GREGORIAN
METHOD:PUBLISH
X-ORIGINAL-URL:https://tkbe.hu
X-WR-CALDESC:Események A Tan Kapuja Buddhista Egyház
REFRESH-INTERVAL;VALUE=DURATION:PT1H
X-Robots-Tag:noindex
X-PUBLISHED-TTL:PT1H
BEGIN:VTIMEZONE
TZID:Europe/Budapest
BEGIN:DAYLIGHT
TZOFFSETFROM:+0100
TZOFFSETTO:+0200
TZNAME:CEST
DTSTART:20240331T010000
END:DAYLIGHT
BEGIN:STANDARD
TZOFFSETFROM:+0200
TZOFFSETTO:+0100
TZNAME:CET
DTSTART:20241027T010000
END:STANDARD
BEGIN:DAYLIGHT
TZOFFSETFROM:+0100
TZOFFSETTO:+0200
TZNAME:CEST
DTSTART:20250330T010000
END:DAYLIGHT
BEGIN:STANDARD
TZOFFSETFROM:+0200
TZOFFSETTO:+0100
TZNAME:CET
DTSTART:20251026T010000
END:STANDARD
BEGIN:DAYLIGHT
TZOFFSETFROM:+0100
TZOFFSETTO:+0200
TZNAME:CEST
DTSTART:20260329T010000
END:DAYLIGHT
BEGIN:STANDARD
TZOFFSETFROM:+0200
TZOFFSETTO:+0100
TZNAME:CET
DTSTART:20261025T010000
END:STANDARD
END:VTIMEZONE
BEGIN:VEVENT
DTSTART;TZID=Europe/Budapest:20251104T180000
DTEND;TZID=Europe/Budapest:20251104T190000
DTSTAMP:20260419T153839
CREATED:20240916T162845Z
LAST-MODIFIED:20250923T112804Z
UID:10000987-1762279200-1762282800@tkbe.hu
SUMMARY:Meditáció A Tan Szigete Közösség szervezésében
DESCRIPTION:A Tan Szigete Közösség (Dhammadípaszangha) személyes jelenlét mellett tartja meg meditációs alkalmait\, melyre mindenkit szeretettel várnak A Tan Kapuja Buddhista Főiskolán. \n\n\n\n\nA közös meditációs gyakorlásokon a théraváda vonalhoz tartozó\, thai erdei szerzetesrend meditációs gyakorlatával lehet megismerkedni. \n\n\n\nA meditációkat vezetik: Farkas Pál (A Tan Kapuja Buddhista Főiskola professzora\, egykori rektora)\, valamint A Tan Szigete Közösség dharmatanítói. \n\n\n\nA gyakorláshoz lehetőség van online formában is csatlakozni. \n\n\n\nMEGKÉRJÜK A CSATLAKOZÓKAT\, HOGY AMIKOR BELÉPNEK AZ ONLINE MEDITÁCIÓS TEREMBE\, LEGYENEK SZÍVESEK ÉS KAPCSOLJÁK KI A MIKROFONJUKAT\, hogy senkit ne zavarjunk meg a gyakorlásban.Köszönet érte! \n\n\n\nA meditációra 17:50 és 18:05 között lehet bejelentkezni. \n\n\n\nLINK: https://meet.google.com/wwi-pufx-penMEET alkalmazáson belüli meeting code: wwi-pufx-pen
URL:https://tkbe.hu/esemeny/meditacio-a-tan-szigete-kozosseg-szervezeseben-3/2025-11-04/
LOCATION:A Tan Kapuja Buddhista Főiskola – Zen terem\, Csengettyű u. 3.\, Budapest\, 1098\, Hungary
ATTACH;FMTTYPE=image/jpeg:https://tkbe.hu/wp-content/uploads/2024/09/KAL07723-scaled.jpg
ORGANIZER;CN="R%C3%A1ba G%C3%A9za":MAILTO:dhammapada.alapitvany@gmail.com
END:VEVENT
BEGIN:VEVENT
DTSTART;TZID=Europe/Budapest:20251105T180000
DTEND;TZID=Europe/Budapest:20251105T210000
DTSTAMP:20260419T153839
CREATED:20240530T073518Z
LAST-MODIFIED:20260223T090108Z
UID:10001266-1762365600-1762376400@tkbe.hu
SUMMARY:Zen szertartás és beszélgetés
DESCRIPTION:A Tan Kapuja Zen Közösség közös gyakorlást és zen szertartást tart minden szerdán a Börzsöny utcai Dharma-teremben 18:00 órai kezdettel. A szertartáson szívesen látnak érdeklődőket is\, akik szeretnék megismerni a zen gyakorlatát. \n\n\n\n\nAzok részére\, akik nem tudnak részt venni a jelenléti szertartáson\, lehetőség van az online szertartáson részvenni! \n\n\n\n\nAz online szertartást 18:00 órai kezdettel tartják a Zoom alkalmazás segítségével\, amelyhez az alábbi linken lehet csatlakozni: https://us02web.zoom.us/j/85991747314 \n\n\n\nÉrdeklőni az info@zen.hu e-mail címen lehetséges.
URL:https://tkbe.hu/esemeny/zen-szertartas-es-beszelgetes-2/2025-11-05/
LOCATION:A Tan Kapuja Buddhista Főiskola Sarokdharma terme\, Börzsöny u. 11.\, Budapest\, 1098\, Magyarország
ATTACH;FMTTYPE=image/jpeg:https://tkbe.hu/wp-content/uploads/2024/05/zazen-mudra-e1771604752355.jpg
ORGANIZER;CN="A Tan Kapuja Zen K%C3%B6z%C3%B6ss%C3%A9g":MAILTO:info@zen.hu
END:VEVENT
BEGIN:VEVENT
DTSTART;TZID=Europe/Budapest:20251106T173000
DTEND;TZID=Europe/Budapest:20251106T190000
DTSTAMP:20260419T153839
CREATED:20251103T110130Z
LAST-MODIFIED:20251103T111318Z
UID:10001639-1762450200-1762455600@tkbe.hu
SUMMARY:Vallásközi párbeszéd A Tan Kapuján
DESCRIPTION:November 6-án Halál és elmúlás címmel vallásközi párbeszédre kerül sor A Tan Kapuja Buddhista Főiskolán. \n\n\n\n\n\n\n\nA Tan Kapuján megrendezésre kerülő vallásközi párbeszédes beszélgetések egyes alkalmain a hazánkban is gyakorolható/elérhető öt vallás – buddhista\, hindu/vaisnava\, keresztény\, muszlim\, zsidó – egy-egy hazai képviselője vesz részt\, így a kedves érdeklődőknek igen széleskörű megismerésre nyílik lehetősége egy adott téma kapcsán. A beszélgetésekre egy épp aktuális témában kerül sor és minden vallás képviselője megpróbálja megvilágítani a saját vallásának\, nézetének szemszögéből az adott kérdést\, érdekes és izgalmas példákat hozva vallásának tanításaiból is. \n\n\n\nA sorozaton főként a 2014-ben életre keltett Isten tudja… vallásközi párbeszédes projektben is részt vevő tanítók vállalnak szerepet. \n\n\n\nA november 6-i beszélgetés címe és témája: \n\n\n\nHalál és elmúlás – hogyan közelítenek a különböző vallások az elkerülhetetlenhez? \n\n\n\nA beszélgetésen részt vesznek: \n\n\n\n\nCaitanya dász (Karádi Csaba) – vaisnava (Krisna-hívő) lelkész\n\n\n\nCsenki András – református lelkész\n\n\n\nCser Zoltán – buddhista tanító\n\n\n\nRadnóti Zoltán – rabbi\n\n\n\nSulok Zoltán Szabolcs – muszlim hitoktató\n\n\n\n\nA beszélgetést moderálja: \n\n\n\nRába Géza\, A Tan Kapuja kommunikációs vezetője\, valamit az Isten tudja… – vallásközi párbeszédes projekt megálmodója\, alapítója. \n\n\n\nIdőpont: 2025. november 6. (szerda) 17:30-19:00 \n\n\n\nHelyszín: A Tan Kapuja Buddhista Főiskola – Kőrösi terem. \n\n\n\nMinden kedves érdeklődőt szeretettel várunk! \n\n\n\n2025. további beszélgetéseinek időpontjai: \n\n\n\n2025. november 26. \n\n\n\n2025. december 10. \n\n\n\nA korábbi beszélgetések megtekinthetők A Tan Kapuja YouTube csatornáján: \n\n\n\nA teremtő és a teremtett isten(?)\, avagy vallások a mesterséges intelligenciáról (2025. március 24.) \n\n\n\nHit\, remény\, öröm\, szeretet a különböző vallásokban – Vallásközi párbeszéd A Tan Kapuján (2024. 12. 11.) \n\n\n\nMegosztottság vagy együttműködés? – Vallásközi párbeszéd A Tan Kapuján (2024.11.20.)
URL:https://tkbe.hu/esemeny/vallaskozi-parbeszed-a-tan-kapujan-2/
LOCATION:A Tan Kapuja Buddhista Főiskola\, Börzsöny utca 11.\, Budapest\, 1098
ATTACH;FMTTYPE=image/png:https://tkbe.hu/wp-content/uploads/2025/02/TKBF_Vallaskozi_Parbeszed_2024_FB_EVENT_COVER02.png
ORGANIZER;CN="A Tan Kapuja Buddhista F%C5%91iskola":MAILTO:tankapu@tkbf.hu
END:VEVENT
BEGIN:VEVENT
DTSTART;TZID=Europe/Budapest:20251106T180000
DTEND;TZID=Europe/Budapest:20251106T190000
DTSTAMP:20260419T153839
CREATED:20250912T032958Z
LAST-MODIFIED:20250930T052738Z
UID:10001576-1762452000-1762455600@tkbe.hu
SUMMARY:Buddhista esték Mánfán
DESCRIPTION:Csütörtök esténként megnyílik a Mánfai Elvonulási Központ békés és csendes tere.  \n\n\n\n\n\n\n\nKözös meditációs gyakorlatokkal\, rövid tanításokkal és kötetlen beszélgetéssel várunk minden kedves érdeklődőt. Aki csak most ismerkedik a buddhizmussal\, az is bátran vegyen részt az eseményen\, ide nem kell előzetes tudás\, elég a nyitottság és a kíváncsiság.Javasoljuk a könnyű\, laza ruházatot (a helyszínen is lehetőség van az átöltözésre).Az est házigazdája: Jakab Gábor dharmatanító\, a Mánfai Elvonulási Központ vezetője.Az esemény ingyenes.További információ: 70/657-3160 \n\n\n\nIdőpontok 2025 őszén: \n\n\n\n\nSzeptember: 04.\, 11.\, 18.\n\n\n\nOktóber: 09.\, 16.\n\n\n\nNovember: 06.\, 13.\, 20.\n\n\n\nDecember: 04 – ezen a napon Budapesten gyakorlunk közösen A Tan Kapuján.\n\n\n\nDecember 11.
URL:https://tkbe.hu/esemeny/buddhista-estek-manfan/2025-11-06/
LOCATION:Mánfa Buddhista Oktatási\, Kulturális és Elvonulási Központ\, Fábián Béla utca 87.\, Mánfa\, 7304
ATTACH;FMTTYPE=image/jpeg:https://tkbe.hu/wp-content/uploads/2025/09/539544893_1317534440411508_312215301064621169_n.jpg
ORGANIZER;CN="A Tan Kapuja Buddhista Egyh%C3%A1z":MAILTO:info@tkbe.hu
END:VEVENT
BEGIN:VEVENT
DTSTART;TZID=Europe/Budapest:20251106T180000
DTEND;TZID=Europe/Budapest:20251106T193000
DTSTAMP:20260419T153839
CREATED:20250912T040445Z
LAST-MODIFIED:20250912T054200Z
UID:10001599-1762452000-1762457400@tkbe.hu
SUMMARY:Buddhista meditációs gyakorlás A Tan Kapuján
DESCRIPTION:Csütörtök esténként 18 órától 19.30-ig A Tan Kapuja Buddhista Egyház által szervezett közös\, személyes jelenlétű buddhista meditációs gyakorlásra invitálunk minden kedves érdeklődőt A Tan Kapuja Szertartástermébe. \n\n\n\n\n\n\n\nA csütörtök esti meditációkat minden alkalommal A Tan Kapuja Buddhista Egyház dharmatanítói vezetik. A gyakorlások során rövid szertartásra\, meditációra és tanítóbeszédre is sor kerül. \n\n\n\nAz őszi gyakorlások témája: a nem mozgó testtartás és a mozgó légzés gyakorlata. \n\n\n\n\n\n\n\nA gyakorlások időpontjai és tanítói 2025 őszén: \n\n\n\nszeptember 18.: Harangozó Tamás \n\n\n\nszeptember 25.: Czakó László \n\n\n\noktóber 2.: Földiné Irtl Melinda \n\n\n\noktóber 9.: Bán-Horváth Attila \n\n\n\noktóber 16.: Cser Zoltán \n\n\n\noktóber 30.: Szeremley Levente \n\n\n\nnovember 6.: Tenger George \n\n\n\nnovember 13.: Rába Géza \n\n\n\nnovember 20.: Bialkó László Gergő \n\n\n\nnovember 27.: Lévai Roland \n\n\n\ndecember 4.: Jakab Gábor \n\n\n\ndecember 11.: Csörgő Zoltán \n\n\n\nMindenkit szeretettel várunk közös gyakorlásainkra! \n\n\n\nA Buddha fénye áradjon minden érző lényre!
URL:https://tkbe.hu/esemeny/buddhista-meditacios-gyakorlas-a-tan-kapujan/2025-11-06/
LOCATION:A Tan Kapuja Buddhista Főiskola Szertartásterme\, Börzsöny utca 11.\, Budapest\, 1098
ATTACH;FMTTYPE=image/jpeg:https://tkbe.hu/wp-content/uploads/2024/09/TKkozosegi_csutortok-1-scaled.jpg
ORGANIZER;CN="A Tan Kapuja Buddhista Egyh%C3%A1z":MAILTO:info@tkbe.hu
END:VEVENT
BEGIN:VEVENT
DTSTART;TZID=Europe/Budapest:20251111T180000
DTEND;TZID=Europe/Budapest:20251111T190000
DTSTAMP:20260419T153839
CREATED:20240916T162845Z
LAST-MODIFIED:20250923T112804Z
UID:10000988-1762884000-1762887600@tkbe.hu
SUMMARY:Meditáció A Tan Szigete Közösség szervezésében
DESCRIPTION:A Tan Szigete Közösség (Dhammadípaszangha) személyes jelenlét mellett tartja meg meditációs alkalmait\, melyre mindenkit szeretettel várnak A Tan Kapuja Buddhista Főiskolán. \n\n\n\n\nA közös meditációs gyakorlásokon a théraváda vonalhoz tartozó\, thai erdei szerzetesrend meditációs gyakorlatával lehet megismerkedni. \n\n\n\nA meditációkat vezetik: Farkas Pál (A Tan Kapuja Buddhista Főiskola professzora\, egykori rektora)\, valamint A Tan Szigete Közösség dharmatanítói. \n\n\n\nA gyakorláshoz lehetőség van online formában is csatlakozni. \n\n\n\nMEGKÉRJÜK A CSATLAKOZÓKAT\, HOGY AMIKOR BELÉPNEK AZ ONLINE MEDITÁCIÓS TEREMBE\, LEGYENEK SZÍVESEK ÉS KAPCSOLJÁK KI A MIKROFONJUKAT\, hogy senkit ne zavarjunk meg a gyakorlásban.Köszönet érte! \n\n\n\nA meditációra 17:50 és 18:05 között lehet bejelentkezni. \n\n\n\nLINK: https://meet.google.com/wwi-pufx-penMEET alkalmazáson belüli meeting code: wwi-pufx-pen
URL:https://tkbe.hu/esemeny/meditacio-a-tan-szigete-kozosseg-szervezeseben-3/2025-11-11/
LOCATION:A Tan Kapuja Buddhista Főiskola – Zen terem\, Csengettyű u. 3.\, Budapest\, 1098\, Hungary
ATTACH;FMTTYPE=image/jpeg:https://tkbe.hu/wp-content/uploads/2024/09/KAL07723-scaled.jpg
ORGANIZER;CN="R%C3%A1ba G%C3%A9za":MAILTO:dhammapada.alapitvany@gmail.com
END:VEVENT
BEGIN:VEVENT
DTSTART;TZID=Europe/Budapest:20251112T180000
DTEND;TZID=Europe/Budapest:20251112T210000
DTSTAMP:20260419T153839
CREATED:20240530T073518Z
LAST-MODIFIED:20260223T090108Z
UID:10001267-1762970400-1762981200@tkbe.hu
SUMMARY:Zen szertartás és beszélgetés
DESCRIPTION:A Tan Kapuja Zen Közösség közös gyakorlást és zen szertartást tart minden szerdán a Börzsöny utcai Dharma-teremben 18:00 órai kezdettel. A szertartáson szívesen látnak érdeklődőket is\, akik szeretnék megismerni a zen gyakorlatát. \n\n\n\n\nAzok részére\, akik nem tudnak részt venni a jelenléti szertartáson\, lehetőség van az online szertartáson részvenni! \n\n\n\n\nAz online szertartást 18:00 órai kezdettel tartják a Zoom alkalmazás segítségével\, amelyhez az alábbi linken lehet csatlakozni: https://us02web.zoom.us/j/85991747314 \n\n\n\nÉrdeklőni az info@zen.hu e-mail címen lehetséges.
URL:https://tkbe.hu/esemeny/zen-szertartas-es-beszelgetes-2/2025-11-12/
LOCATION:A Tan Kapuja Buddhista Főiskola Sarokdharma terme\, Börzsöny u. 11.\, Budapest\, 1098\, Magyarország
ATTACH;FMTTYPE=image/jpeg:https://tkbe.hu/wp-content/uploads/2024/05/zazen-mudra-e1771604752355.jpg
ORGANIZER;CN="A Tan Kapuja Zen K%C3%B6z%C3%B6ss%C3%A9g":MAILTO:info@zen.hu
END:VEVENT
BEGIN:VEVENT
DTSTART;TZID=Europe/Budapest:20251113T180000
DTEND;TZID=Europe/Budapest:20251113T190000
DTSTAMP:20260419T153839
CREATED:20250912T032958Z
LAST-MODIFIED:20250930T052738Z
UID:10001577-1763056800-1763060400@tkbe.hu
SUMMARY:Buddhista esték Mánfán
DESCRIPTION:Csütörtök esténként megnyílik a Mánfai Elvonulási Központ békés és csendes tere.  \n\n\n\n\n\n\n\nKözös meditációs gyakorlatokkal\, rövid tanításokkal és kötetlen beszélgetéssel várunk minden kedves érdeklődőt. Aki csak most ismerkedik a buddhizmussal\, az is bátran vegyen részt az eseményen\, ide nem kell előzetes tudás\, elég a nyitottság és a kíváncsiság.Javasoljuk a könnyű\, laza ruházatot (a helyszínen is lehetőség van az átöltözésre).Az est házigazdája: Jakab Gábor dharmatanító\, a Mánfai Elvonulási Központ vezetője.Az esemény ingyenes.További információ: 70/657-3160 \n\n\n\nIdőpontok 2025 őszén: \n\n\n\n\nSzeptember: 04.\, 11.\, 18.\n\n\n\nOktóber: 09.\, 16.\n\n\n\nNovember: 06.\, 13.\, 20.\n\n\n\nDecember: 04 – ezen a napon Budapesten gyakorlunk közösen A Tan Kapuján.\n\n\n\nDecember 11.
URL:https://tkbe.hu/esemeny/buddhista-estek-manfan/2025-11-13/
LOCATION:Mánfa Buddhista Oktatási\, Kulturális és Elvonulási Központ\, Fábián Béla utca 87.\, Mánfa\, 7304
ATTACH;FMTTYPE=image/jpeg:https://tkbe.hu/wp-content/uploads/2025/09/539544893_1317534440411508_312215301064621169_n.jpg
ORGANIZER;CN="A Tan Kapuja Buddhista Egyh%C3%A1z":MAILTO:info@tkbe.hu
END:VEVENT
BEGIN:VEVENT
DTSTART;TZID=Europe/Budapest:20251113T180000
DTEND;TZID=Europe/Budapest:20251113T193000
DTSTAMP:20260419T153839
CREATED:20250912T040445Z
LAST-MODIFIED:20250912T054200Z
UID:10001600-1763056800-1763062200@tkbe.hu
SUMMARY:Buddhista meditációs gyakorlás A Tan Kapuján
DESCRIPTION:Csütörtök esténként 18 órától 19.30-ig A Tan Kapuja Buddhista Egyház által szervezett közös\, személyes jelenlétű buddhista meditációs gyakorlásra invitálunk minden kedves érdeklődőt A Tan Kapuja Szertartástermébe. \n\n\n\n\n\n\n\nA csütörtök esti meditációkat minden alkalommal A Tan Kapuja Buddhista Egyház dharmatanítói vezetik. A gyakorlások során rövid szertartásra\, meditációra és tanítóbeszédre is sor kerül. \n\n\n\nAz őszi gyakorlások témája: a nem mozgó testtartás és a mozgó légzés gyakorlata. \n\n\n\n\n\n\n\nA gyakorlások időpontjai és tanítói 2025 őszén: \n\n\n\nszeptember 18.: Harangozó Tamás \n\n\n\nszeptember 25.: Czakó László \n\n\n\noktóber 2.: Földiné Irtl Melinda \n\n\n\noktóber 9.: Bán-Horváth Attila \n\n\n\noktóber 16.: Cser Zoltán \n\n\n\noktóber 30.: Szeremley Levente \n\n\n\nnovember 6.: Tenger George \n\n\n\nnovember 13.: Rába Géza \n\n\n\nnovember 20.: Bialkó László Gergő \n\n\n\nnovember 27.: Lévai Roland \n\n\n\ndecember 4.: Jakab Gábor \n\n\n\ndecember 11.: Csörgő Zoltán \n\n\n\nMindenkit szeretettel várunk közös gyakorlásainkra! \n\n\n\nA Buddha fénye áradjon minden érző lényre!
URL:https://tkbe.hu/esemeny/buddhista-meditacios-gyakorlas-a-tan-kapujan/2025-11-13/
LOCATION:A Tan Kapuja Buddhista Főiskola Szertartásterme\, Börzsöny utca 11.\, Budapest\, 1098
ATTACH;FMTTYPE=image/jpeg:https://tkbe.hu/wp-content/uploads/2024/09/TKkozosegi_csutortok-1-scaled.jpg
ORGANIZER;CN="A Tan Kapuja Buddhista Egyh%C3%A1z":MAILTO:info@tkbe.hu
END:VEVENT
BEGIN:VEVENT
DTSTART;TZID=Europe/Budapest:20251118T180000
DTEND;TZID=Europe/Budapest:20251118T190000
DTSTAMP:20260419T153840
CREATED:20240916T162845Z
LAST-MODIFIED:20250923T112804Z
UID:10000989-1763488800-1763492400@tkbe.hu
SUMMARY:Meditáció A Tan Szigete Közösség szervezésében
DESCRIPTION:A Tan Szigete Közösség (Dhammadípaszangha) személyes jelenlét mellett tartja meg meditációs alkalmait\, melyre mindenkit szeretettel várnak A Tan Kapuja Buddhista Főiskolán. \n\n\n\n\nA közös meditációs gyakorlásokon a théraváda vonalhoz tartozó\, thai erdei szerzetesrend meditációs gyakorlatával lehet megismerkedni. \n\n\n\nA meditációkat vezetik: Farkas Pál (A Tan Kapuja Buddhista Főiskola professzora\, egykori rektora)\, valamint A Tan Szigete Közösség dharmatanítói. \n\n\n\nA gyakorláshoz lehetőség van online formában is csatlakozni. \n\n\n\nMEGKÉRJÜK A CSATLAKOZÓKAT\, HOGY AMIKOR BELÉPNEK AZ ONLINE MEDITÁCIÓS TEREMBE\, LEGYENEK SZÍVESEK ÉS KAPCSOLJÁK KI A MIKROFONJUKAT\, hogy senkit ne zavarjunk meg a gyakorlásban.Köszönet érte! \n\n\n\nA meditációra 17:50 és 18:05 között lehet bejelentkezni. \n\n\n\nLINK: https://meet.google.com/wwi-pufx-penMEET alkalmazáson belüli meeting code: wwi-pufx-pen
URL:https://tkbe.hu/esemeny/meditacio-a-tan-szigete-kozosseg-szervezeseben-3/2025-11-18/
LOCATION:A Tan Kapuja Buddhista Főiskola – Zen terem\, Csengettyű u. 3.\, Budapest\, 1098\, Hungary
ATTACH;FMTTYPE=image/jpeg:https://tkbe.hu/wp-content/uploads/2024/09/KAL07723-scaled.jpg
ORGANIZER;CN="R%C3%A1ba G%C3%A9za":MAILTO:dhammapada.alapitvany@gmail.com
END:VEVENT
BEGIN:VEVENT
DTSTART;TZID=Europe/Budapest:20251119T180000
DTEND;TZID=Europe/Budapest:20251119T210000
DTSTAMP:20260419T153840
CREATED:20240530T073518Z
LAST-MODIFIED:20260223T090108Z
UID:10001268-1763575200-1763586000@tkbe.hu
SUMMARY:Zen szertartás és beszélgetés
DESCRIPTION:A Tan Kapuja Zen Közösség közös gyakorlást és zen szertartást tart minden szerdán a Börzsöny utcai Dharma-teremben 18:00 órai kezdettel. A szertartáson szívesen látnak érdeklődőket is\, akik szeretnék megismerni a zen gyakorlatát. \n\n\n\n\nAzok részére\, akik nem tudnak részt venni a jelenléti szertartáson\, lehetőség van az online szertartáson részvenni! \n\n\n\n\nAz online szertartást 18:00 órai kezdettel tartják a Zoom alkalmazás segítségével\, amelyhez az alábbi linken lehet csatlakozni: https://us02web.zoom.us/j/85991747314 \n\n\n\nÉrdeklőni az info@zen.hu e-mail címen lehetséges.
URL:https://tkbe.hu/esemeny/zen-szertartas-es-beszelgetes-2/2025-11-19/
LOCATION:A Tan Kapuja Buddhista Főiskola Sarokdharma terme\, Börzsöny u. 11.\, Budapest\, 1098\, Magyarország
ATTACH;FMTTYPE=image/jpeg:https://tkbe.hu/wp-content/uploads/2024/05/zazen-mudra-e1771604752355.jpg
ORGANIZER;CN="A Tan Kapuja Zen K%C3%B6z%C3%B6ss%C3%A9g":MAILTO:info@zen.hu
END:VEVENT
BEGIN:VEVENT
DTSTART;TZID=Europe/Budapest:20251120T180000
DTEND;TZID=Europe/Budapest:20251120T190000
DTSTAMP:20260419T153840
CREATED:20250912T032958Z
LAST-MODIFIED:20250930T052738Z
UID:10001578-1763661600-1763665200@tkbe.hu
SUMMARY:Buddhista esték Mánfán
DESCRIPTION:Csütörtök esténként megnyílik a Mánfai Elvonulási Központ békés és csendes tere.  \n\n\n\n\n\n\n\nKözös meditációs gyakorlatokkal\, rövid tanításokkal és kötetlen beszélgetéssel várunk minden kedves érdeklődőt. Aki csak most ismerkedik a buddhizmussal\, az is bátran vegyen részt az eseményen\, ide nem kell előzetes tudás\, elég a nyitottság és a kíváncsiság.Javasoljuk a könnyű\, laza ruházatot (a helyszínen is lehetőség van az átöltözésre).Az est házigazdája: Jakab Gábor dharmatanító\, a Mánfai Elvonulási Központ vezetője.Az esemény ingyenes.További információ: 70/657-3160 \n\n\n\nIdőpontok 2025 őszén: \n\n\n\n\nSzeptember: 04.\, 11.\, 18.\n\n\n\nOktóber: 09.\, 16.\n\n\n\nNovember: 06.\, 13.\, 20.\n\n\n\nDecember: 04 – ezen a napon Budapesten gyakorlunk közösen A Tan Kapuján.\n\n\n\nDecember 11.
URL:https://tkbe.hu/esemeny/buddhista-estek-manfan/2025-11-20/
LOCATION:Mánfa Buddhista Oktatási\, Kulturális és Elvonulási Központ\, Fábián Béla utca 87.\, Mánfa\, 7304
ATTACH;FMTTYPE=image/jpeg:https://tkbe.hu/wp-content/uploads/2025/09/539544893_1317534440411508_312215301064621169_n.jpg
ORGANIZER;CN="A Tan Kapuja Buddhista Egyh%C3%A1z":MAILTO:info@tkbe.hu
END:VEVENT
BEGIN:VEVENT
DTSTART;TZID=Europe/Budapest:20251120T180000
DTEND;TZID=Europe/Budapest:20251120T193000
DTSTAMP:20260419T153840
CREATED:20250912T040445Z
LAST-MODIFIED:20250912T054200Z
UID:10001601-1763661600-1763667000@tkbe.hu
SUMMARY:Buddhista meditációs gyakorlás A Tan Kapuján
DESCRIPTION:Csütörtök esténként 18 órától 19.30-ig A Tan Kapuja Buddhista Egyház által szervezett közös\, személyes jelenlétű buddhista meditációs gyakorlásra invitálunk minden kedves érdeklődőt A Tan Kapuja Szertartástermébe. \n\n\n\n\n\n\n\nA csütörtök esti meditációkat minden alkalommal A Tan Kapuja Buddhista Egyház dharmatanítói vezetik. A gyakorlások során rövid szertartásra\, meditációra és tanítóbeszédre is sor kerül. \n\n\n\nAz őszi gyakorlások témája: a nem mozgó testtartás és a mozgó légzés gyakorlata. \n\n\n\n\n\n\n\nA gyakorlások időpontjai és tanítói 2025 őszén: \n\n\n\nszeptember 18.: Harangozó Tamás \n\n\n\nszeptember 25.: Czakó László \n\n\n\noktóber 2.: Földiné Irtl Melinda \n\n\n\noktóber 9.: Bán-Horváth Attila \n\n\n\noktóber 16.: Cser Zoltán \n\n\n\noktóber 30.: Szeremley Levente \n\n\n\nnovember 6.: Tenger George \n\n\n\nnovember 13.: Rába Géza \n\n\n\nnovember 20.: Bialkó László Gergő \n\n\n\nnovember 27.: Lévai Roland \n\n\n\ndecember 4.: Jakab Gábor \n\n\n\ndecember 11.: Csörgő Zoltán \n\n\n\nMindenkit szeretettel várunk közös gyakorlásainkra! \n\n\n\nA Buddha fénye áradjon minden érző lényre!
URL:https://tkbe.hu/esemeny/buddhista-meditacios-gyakorlas-a-tan-kapujan/2025-11-20/
LOCATION:A Tan Kapuja Buddhista Főiskola Szertartásterme\, Börzsöny utca 11.\, Budapest\, 1098
ATTACH;FMTTYPE=image/jpeg:https://tkbe.hu/wp-content/uploads/2024/09/TKkozosegi_csutortok-1-scaled.jpg
ORGANIZER;CN="A Tan Kapuja Buddhista Egyh%C3%A1z":MAILTO:info@tkbe.hu
END:VEVENT
BEGIN:VEVENT
DTSTART;TZID=Europe/Budapest:20251125T180000
DTEND;TZID=Europe/Budapest:20251125T190000
DTSTAMP:20260419T153840
CREATED:20251124T131903Z
LAST-MODIFIED:20251124T132047Z
UID:10000990-1764093600-1764097200@tkbe.hu
SUMMARY:Meditáció A Tan Szigete Közösség szervezésében
DESCRIPTION:A november 25-i keddre tervezett meditáció ELMARAD! Következő kedd esti meditációnk december 2-án lesz. \n\n\n\nA Tan Szigete Közösség (Dhammadípaszangha) személyes jelenlét mellett tartja meg meditációs alkalmait\, melyre mindenkit szeretettel várnak A Tan Kapuja Buddhista Főiskolán. \n\n\n\n\nA közös meditációs gyakorlásokon a théraváda vonalhoz tartozó\, thai erdei szerzetesrend meditációs gyakorlatával lehet megismerkedni. \n\n\n\nA meditációkat vezetik: Farkas Pál (A Tan Kapuja Buddhista Főiskola professzora\, egykori rektora)\, valamint A Tan Szigete Közösség dharmatanítói. \n\n\n\nA gyakorláshoz lehetőség van online formában is csatlakozni. \n\n\n\nMEGKÉRJÜK A CSATLAKOZÓKAT\, HOGY AMIKOR BELÉPNEK AZ ONLINE MEDITÁCIÓS TEREMBE\, LEGYENEK SZÍVESEK ÉS KAPCSOLJÁK KI A MIKROFONJUKAT\, hogy senkit ne zavarjunk meg a gyakorlásban.Köszönet érte! \n\n\n\nA meditációra 17:50 és 18:05 között lehet bejelentkezni. \n\n\n\nLINK: https://meet.google.com/wwi-pufx-penMEET alkalmazáson belüli meeting code: wwi-pufx-pen
URL:https://tkbe.hu/esemeny/meditacio-a-tan-szigete-kozosseg-szervezeseben-5/
LOCATION:A Tan Kapuja Buddhista Főiskola – Zen terem\, Csengettyű u. 3.\, Budapest\, 1098\, Hungary
ATTACH;FMTTYPE=image/jpeg:https://tkbe.hu/wp-content/uploads/2024/09/KAL07723-scaled.jpg
END:VEVENT
BEGIN:VEVENT
DTSTART;TZID=Europe/Budapest:20251126T180000
DTEND;TZID=Europe/Budapest:20251126T210000
DTSTAMP:20260419T153840
CREATED:20240530T073518Z
LAST-MODIFIED:20260223T090108Z
UID:10001269-1764180000-1764190800@tkbe.hu
SUMMARY:Zen szertartás és beszélgetés
DESCRIPTION:A Tan Kapuja Zen Közösség közös gyakorlást és zen szertartást tart minden szerdán a Börzsöny utcai Dharma-teremben 18:00 órai kezdettel. A szertartáson szívesen látnak érdeklődőket is\, akik szeretnék megismerni a zen gyakorlatát. \n\n\n\n\nAzok részére\, akik nem tudnak részt venni a jelenléti szertartáson\, lehetőség van az online szertartáson részvenni! \n\n\n\n\nAz online szertartást 18:00 órai kezdettel tartják a Zoom alkalmazás segítségével\, amelyhez az alábbi linken lehet csatlakozni: https://us02web.zoom.us/j/85991747314 \n\n\n\nÉrdeklőni az info@zen.hu e-mail címen lehetséges.
URL:https://tkbe.hu/esemeny/zen-szertartas-es-beszelgetes-2/2025-11-26/
LOCATION:A Tan Kapuja Buddhista Főiskola Sarokdharma terme\, Börzsöny u. 11.\, Budapest\, 1098\, Magyarország
ATTACH;FMTTYPE=image/jpeg:https://tkbe.hu/wp-content/uploads/2024/05/zazen-mudra-e1771604752355.jpg
ORGANIZER;CN="A Tan Kapuja Zen K%C3%B6z%C3%B6ss%C3%A9g":MAILTO:info@zen.hu
END:VEVENT
BEGIN:VEVENT
DTSTART;TZID=Europe/Budapest:20251127T180000
DTEND;TZID=Europe/Budapest:20251127T193000
DTSTAMP:20260419T153840
CREATED:20250912T040445Z
LAST-MODIFIED:20250912T054200Z
UID:10001602-1764266400-1764271800@tkbe.hu
SUMMARY:Buddhista meditációs gyakorlás A Tan Kapuján
DESCRIPTION:Csütörtök esténként 18 órától 19.30-ig A Tan Kapuja Buddhista Egyház által szervezett közös\, személyes jelenlétű buddhista meditációs gyakorlásra invitálunk minden kedves érdeklődőt A Tan Kapuja Szertartástermébe. \n\n\n\n\n\n\n\nA csütörtök esti meditációkat minden alkalommal A Tan Kapuja Buddhista Egyház dharmatanítói vezetik. A gyakorlások során rövid szertartásra\, meditációra és tanítóbeszédre is sor kerül. \n\n\n\nAz őszi gyakorlások témája: a nem mozgó testtartás és a mozgó légzés gyakorlata. \n\n\n\n\n\n\n\nA gyakorlások időpontjai és tanítói 2025 őszén: \n\n\n\nszeptember 18.: Harangozó Tamás \n\n\n\nszeptember 25.: Czakó László \n\n\n\noktóber 2.: Földiné Irtl Melinda \n\n\n\noktóber 9.: Bán-Horváth Attila \n\n\n\noktóber 16.: Cser Zoltán \n\n\n\noktóber 30.: Szeremley Levente \n\n\n\nnovember 6.: Tenger George \n\n\n\nnovember 13.: Rába Géza \n\n\n\nnovember 20.: Bialkó László Gergő \n\n\n\nnovember 27.: Lévai Roland \n\n\n\ndecember 4.: Jakab Gábor \n\n\n\ndecember 11.: Csörgő Zoltán \n\n\n\nMindenkit szeretettel várunk közös gyakorlásainkra! \n\n\n\nA Buddha fénye áradjon minden érző lényre!
URL:https://tkbe.hu/esemeny/buddhista-meditacios-gyakorlas-a-tan-kapujan/2025-11-27/
LOCATION:A Tan Kapuja Buddhista Főiskola Szertartásterme\, Börzsöny utca 11.\, Budapest\, 1098
ATTACH;FMTTYPE=image/jpeg:https://tkbe.hu/wp-content/uploads/2024/09/TKkozosegi_csutortok-1-scaled.jpg
ORGANIZER;CN="A Tan Kapuja Buddhista Egyh%C3%A1z":MAILTO:info@tkbe.hu
END:VEVENT
BEGIN:VEVENT
DTSTART;TZID=Europe/Budapest:20251127T190000
DTEND;TZID=Europe/Budapest:20251127T213000
DTSTAMP:20260419T153840
CREATED:20241128T115856Z
LAST-MODIFIED:20250703T130326Z
UID:10001514-1764270000-1764279000@tkbe.hu
SUMMARY:Gyógyító Buddha gyakorlás
DESCRIPTION:Gyógyító Buddha gyakorlásra invitál minden kedves érdeklődőt a Gyógyító Buddha Közössége gyakorlócsoport minden hónap utolsó csütörtökén 18 órától az online térben. \n\n\n\n\nA gyakorlás pontos menetrendje:19.00-19.30: CáLung gyakorlat19.30-20.00: Siné (Samatha) meditáció20.00-20.30: Lhagtong (Vipasszana) meditáció20.30-21:30: Gyógyító Buddha vagy Cewang Rigdzin hosszú élet gyakorlata. \n\n\n\nA gyakorlást Jakab Katalin\, a Főiskola egykori tanítója\, Gyógyító Buddha beavatással rendelkező gyakorlatvezető tartja.A gyakorláson való részvétel felajánlás alapú\, illetve minden indokolt esetben ingyenes. \n\n\n\nMindenkit szeretettel várnak! \n\n\n\nA gyakorlásra az alábbi (Google MEET) linken várják az érdeklődőket: kattintson ide.
URL:https://tkbe.hu/esemeny/gyogyito-buddha-gyakorlas-2/2025-11-27/
LOCATION:online
ATTACH;FMTTYPE=image/jpeg:https://tkbe.hu/wp-content/uploads/2024/04/buddha-weekly-0mantra-around-medicine-buddha-3mflvW.tmp_.jpg
ORGANIZER;CN="Jakab Katalin":MAILTO:jakabk@tkbf.hu
END:VEVENT
END:VCALENDAR