BEGIN:VCALENDAR
VERSION:2.0
PRODID:-//A Tan Kapuja Buddhista Egyház - ECPv6.15.20//NONSGML v1.0//EN
CALSCALE:GREGORIAN
METHOD:PUBLISH
X-WR-CALNAME:A Tan Kapuja Buddhista Egyház
X-ORIGINAL-URL:https://tkbe.hu
X-WR-CALDESC:Események A Tan Kapuja Buddhista Egyház
REFRESH-INTERVAL;VALUE=DURATION:PT1H
X-Robots-Tag:noindex
X-PUBLISHED-TTL:PT1H
BEGIN:VTIMEZONE
TZID:Europe/Budapest
BEGIN:DAYLIGHT
TZOFFSETFROM:+0100
TZOFFSETTO:+0200
TZNAME:CEST
DTSTART:20240331T010000
END:DAYLIGHT
BEGIN:STANDARD
TZOFFSETFROM:+0200
TZOFFSETTO:+0100
TZNAME:CET
DTSTART:20241027T010000
END:STANDARD
BEGIN:DAYLIGHT
TZOFFSETFROM:+0100
TZOFFSETTO:+0200
TZNAME:CEST
DTSTART:20250330T010000
END:DAYLIGHT
BEGIN:STANDARD
TZOFFSETFROM:+0200
TZOFFSETTO:+0100
TZNAME:CET
DTSTART:20251026T010000
END:STANDARD
BEGIN:DAYLIGHT
TZOFFSETFROM:+0100
TZOFFSETTO:+0200
TZNAME:CEST
DTSTART:20260329T010000
END:DAYLIGHT
BEGIN:STANDARD
TZOFFSETFROM:+0200
TZOFFSETTO:+0100
TZNAME:CET
DTSTART:20261025T010000
END:STANDARD
END:VTIMEZONE
BEGIN:VEVENT
DTSTART;TZID=Europe/Budapest:20251202T180000
DTEND;TZID=Europe/Budapest:20251202T190000
DTSTAMP:20260421T102804
CREATED:20251124T124337Z
LAST-MODIFIED:20251124T124518Z
UID:10000991-1764698400-1764702000@tkbe.hu
SUMMARY:Meditáció A Tan Szigete Közösség szervezésében
DESCRIPTION:A Tan Szigete Közösség (Dhammadípaszangha) személyes jelenlét mellett tartja meg meditációs alkalmait\, melyre mindenkit szeretettel várnak A Tan Kapuja Buddhista Főiskolán. \n\n\n\n\nA közös meditációs gyakorlásokon a théraváda vonalhoz tartozó\, thai erdei szerzetesrend meditációs gyakorlatával lehet megismerkedni. \n\n\n\nA meditációkat vezetik: Farkas Pál (A Tan Kapuja Buddhista Főiskola professzora\, egykori rektora)\, valamint A Tan Szigete Közösség dharmatanítói. \n\n\n\nA gyakorláshoz lehetőség van online formában is csatlakozni. \n\n\n\nMEGKÉRJÜK A CSATLAKOZÓKAT\, HOGY AMIKOR BELÉPNEK AZ ONLINE MEDITÁCIÓS TEREMBE\, LEGYENEK SZÍVESEK ÉS KAPCSOLJÁK KI A MIKROFONJUKAT\, hogy senkit ne zavarjunk meg a gyakorlásban.Köszönet érte! \n\n\n\nA meditációra 17:50 és 18:05 között lehet bejelentkezni. \n\n\n\nLINK: https://meet.google.com/wwi-pufx-penMEET alkalmazáson belüli meeting code: wwi-pufx-pen
URL:https://tkbe.hu/esemeny/meditacio-a-tan-szigete-kozosseg-szervezeseben-4/2025-12-02/
LOCATION:A Tan Kapuja Buddhista Főiskola – Zen terem\, Csengettyű u. 3.\, Budapest\, 1098\, Hungary
ATTACH;FMTTYPE=image/jpeg:https://tkbe.hu/wp-content/uploads/2024/09/KAL07723-scaled.jpg
END:VEVENT
BEGIN:VEVENT
DTSTART;TZID=Europe/Budapest:20251203T180000
DTEND;TZID=Europe/Budapest:20251203T210000
DTSTAMP:20260421T102804
CREATED:20240530T073518Z
LAST-MODIFIED:20260223T090108Z
UID:10001270-1764784800-1764795600@tkbe.hu
SUMMARY:Zen szertartás és beszélgetés
DESCRIPTION:A Tan Kapuja Zen Közösség közös gyakorlást és zen szertartást tart minden szerdán a Börzsöny utcai Dharma-teremben 18:00 órai kezdettel. A szertartáson szívesen látnak érdeklődőket is\, akik szeretnék megismerni a zen gyakorlatát. \n\n\n\n\nAzok részére\, akik nem tudnak részt venni a jelenléti szertartáson\, lehetőség van az online szertartáson részvenni! \n\n\n\n\nAz online szertartást 18:00 órai kezdettel tartják a Zoom alkalmazás segítségével\, amelyhez az alábbi linken lehet csatlakozni: https://us02web.zoom.us/j/85991747314 \n\n\n\nÉrdeklőni az info@zen.hu e-mail címen lehetséges.
URL:https://tkbe.hu/esemeny/zen-szertartas-es-beszelgetes-2/2025-12-03/
LOCATION:A Tan Kapuja Buddhista Főiskola Sarokdharma terme\, Börzsöny u. 11.\, Budapest\, 1098\, Magyarország
ATTACH;FMTTYPE=image/jpeg:https://tkbe.hu/wp-content/uploads/2024/05/zazen-mudra-e1771604752355.jpg
ORGANIZER;CN="A Tan Kapuja Zen K%C3%B6z%C3%B6ss%C3%A9g":MAILTO:info@zen.hu
END:VEVENT
BEGIN:VEVENT
DTSTART;TZID=Europe/Budapest:20251204T180000
DTEND;TZID=Europe/Budapest:20251204T190000
DTSTAMP:20260421T102804
CREATED:20250912T032958Z
LAST-MODIFIED:20250930T052738Z
UID:10001579-1764871200-1764874800@tkbe.hu
SUMMARY:Buddhista esték Mánfán
DESCRIPTION:Csütörtök esténként megnyílik a Mánfai Elvonulási Központ békés és csendes tere.  \n\n\n\n\n\n\n\nKözös meditációs gyakorlatokkal\, rövid tanításokkal és kötetlen beszélgetéssel várunk minden kedves érdeklődőt. Aki csak most ismerkedik a buddhizmussal\, az is bátran vegyen részt az eseményen\, ide nem kell előzetes tudás\, elég a nyitottság és a kíváncsiság.Javasoljuk a könnyű\, laza ruházatot (a helyszínen is lehetőség van az átöltözésre).Az est házigazdája: Jakab Gábor dharmatanító\, a Mánfai Elvonulási Központ vezetője.Az esemény ingyenes.További információ: 70/657-3160 \n\n\n\nIdőpontok 2025 őszén: \n\n\n\n\nSzeptember: 04.\, 11.\, 18.\n\n\n\nOktóber: 09.\, 16.\n\n\n\nNovember: 06.\, 13.\, 20.\n\n\n\nDecember: 04 – ezen a napon Budapesten gyakorlunk közösen A Tan Kapuján.\n\n\n\nDecember 11.
URL:https://tkbe.hu/esemeny/buddhista-estek-manfan/2025-12-04/
LOCATION:Mánfa Buddhista Oktatási\, Kulturális és Elvonulási Központ\, Fábián Béla utca 87.\, Mánfa\, 7304
ATTACH;FMTTYPE=image/jpeg:https://tkbe.hu/wp-content/uploads/2025/09/539544893_1317534440411508_312215301064621169_n.jpg
ORGANIZER;CN="A Tan Kapuja Buddhista Egyh%C3%A1z":MAILTO:info@tkbe.hu
END:VEVENT
BEGIN:VEVENT
DTSTART;TZID=Europe/Budapest:20251204T180000
DTEND;TZID=Europe/Budapest:20251204T193000
DTSTAMP:20260421T102804
CREATED:20250912T040445Z
LAST-MODIFIED:20250912T054200Z
UID:10001603-1764871200-1764876600@tkbe.hu
SUMMARY:Buddhista meditációs gyakorlás A Tan Kapuján
DESCRIPTION:Csütörtök esténként 18 órától 19.30-ig A Tan Kapuja Buddhista Egyház által szervezett közös\, személyes jelenlétű buddhista meditációs gyakorlásra invitálunk minden kedves érdeklődőt A Tan Kapuja Szertartástermébe. \n\n\n\n\n\n\n\nA csütörtök esti meditációkat minden alkalommal A Tan Kapuja Buddhista Egyház dharmatanítói vezetik. A gyakorlások során rövid szertartásra\, meditációra és tanítóbeszédre is sor kerül. \n\n\n\nAz őszi gyakorlások témája: a nem mozgó testtartás és a mozgó légzés gyakorlata. \n\n\n\n\n\n\n\nA gyakorlások időpontjai és tanítói 2025 őszén: \n\n\n\nszeptember 18.: Harangozó Tamás \n\n\n\nszeptember 25.: Czakó László \n\n\n\noktóber 2.: Földiné Irtl Melinda \n\n\n\noktóber 9.: Bán-Horváth Attila \n\n\n\noktóber 16.: Cser Zoltán \n\n\n\noktóber 30.: Szeremley Levente \n\n\n\nnovember 6.: Tenger George \n\n\n\nnovember 13.: Rába Géza \n\n\n\nnovember 20.: Bialkó László Gergő \n\n\n\nnovember 27.: Lévai Roland \n\n\n\ndecember 4.: Jakab Gábor \n\n\n\ndecember 11.: Csörgő Zoltán \n\n\n\nMindenkit szeretettel várunk közös gyakorlásainkra! \n\n\n\nA Buddha fénye áradjon minden érző lényre!
URL:https://tkbe.hu/esemeny/buddhista-meditacios-gyakorlas-a-tan-kapujan/2025-12-04/
LOCATION:A Tan Kapuja Buddhista Főiskola Szertartásterme\, Börzsöny utca 11.\, Budapest\, 1098
ATTACH;FMTTYPE=image/jpeg:https://tkbe.hu/wp-content/uploads/2024/09/TKkozosegi_csutortok-1-scaled.jpg
ORGANIZER;CN="A Tan Kapuja Buddhista Egyh%C3%A1z":MAILTO:info@tkbe.hu
END:VEVENT
BEGIN:VEVENT
DTSTART;TZID=Europe/Budapest:20251209T180000
DTEND;TZID=Europe/Budapest:20251209T190000
DTSTAMP:20260421T102804
CREATED:20251124T124337Z
LAST-MODIFIED:20251124T124518Z
UID:10000992-1765303200-1765306800@tkbe.hu
SUMMARY:Meditáció A Tan Szigete Közösség szervezésében
DESCRIPTION:A Tan Szigete Közösség (Dhammadípaszangha) személyes jelenlét mellett tartja meg meditációs alkalmait\, melyre mindenkit szeretettel várnak A Tan Kapuja Buddhista Főiskolán. \n\n\n\n\nA közös meditációs gyakorlásokon a théraváda vonalhoz tartozó\, thai erdei szerzetesrend meditációs gyakorlatával lehet megismerkedni. \n\n\n\nA meditációkat vezetik: Farkas Pál (A Tan Kapuja Buddhista Főiskola professzora\, egykori rektora)\, valamint A Tan Szigete Közösség dharmatanítói. \n\n\n\nA gyakorláshoz lehetőség van online formában is csatlakozni. \n\n\n\nMEGKÉRJÜK A CSATLAKOZÓKAT\, HOGY AMIKOR BELÉPNEK AZ ONLINE MEDITÁCIÓS TEREMBE\, LEGYENEK SZÍVESEK ÉS KAPCSOLJÁK KI A MIKROFONJUKAT\, hogy senkit ne zavarjunk meg a gyakorlásban.Köszönet érte! \n\n\n\nA meditációra 17:50 és 18:05 között lehet bejelentkezni. \n\n\n\nLINK: https://meet.google.com/wwi-pufx-penMEET alkalmazáson belüli meeting code: wwi-pufx-pen
URL:https://tkbe.hu/esemeny/meditacio-a-tan-szigete-kozosseg-szervezeseben-4/2025-12-09/
LOCATION:A Tan Kapuja Buddhista Főiskola – Zen terem\, Csengettyű u. 3.\, Budapest\, 1098\, Hungary
ATTACH;FMTTYPE=image/jpeg:https://tkbe.hu/wp-content/uploads/2024/09/KAL07723-scaled.jpg
END:VEVENT
BEGIN:VEVENT
DTSTART;TZID=Europe/Budapest:20251210T180000
DTEND;TZID=Europe/Budapest:20251210T210000
DTSTAMP:20260421T102804
CREATED:20240530T073518Z
LAST-MODIFIED:20260223T090108Z
UID:10001271-1765389600-1765400400@tkbe.hu
SUMMARY:Zen szertartás és beszélgetés
DESCRIPTION:A Tan Kapuja Zen Közösség közös gyakorlást és zen szertartást tart minden szerdán a Börzsöny utcai Dharma-teremben 18:00 órai kezdettel. A szertartáson szívesen látnak érdeklődőket is\, akik szeretnék megismerni a zen gyakorlatát. \n\n\n\n\nAzok részére\, akik nem tudnak részt venni a jelenléti szertartáson\, lehetőség van az online szertartáson részvenni! \n\n\n\n\nAz online szertartást 18:00 órai kezdettel tartják a Zoom alkalmazás segítségével\, amelyhez az alábbi linken lehet csatlakozni: https://us02web.zoom.us/j/85991747314 \n\n\n\nÉrdeklőni az info@zen.hu e-mail címen lehetséges.
URL:https://tkbe.hu/esemeny/zen-szertartas-es-beszelgetes-2/2025-12-10/
LOCATION:A Tan Kapuja Buddhista Főiskola Sarokdharma terme\, Börzsöny u. 11.\, Budapest\, 1098\, Magyarország
ATTACH;FMTTYPE=image/jpeg:https://tkbe.hu/wp-content/uploads/2024/05/zazen-mudra-e1771604752355.jpg
ORGANIZER;CN="A Tan Kapuja Zen K%C3%B6z%C3%B6ss%C3%A9g":MAILTO:info@zen.hu
END:VEVENT
BEGIN:VEVENT
DTSTART;TZID=Europe/Budapest:20251211T180000
DTEND;TZID=Europe/Budapest:20251211T190000
DTSTAMP:20260421T102804
CREATED:20250912T032958Z
LAST-MODIFIED:20250930T052738Z
UID:10001580-1765476000-1765479600@tkbe.hu
SUMMARY:Buddhista esték Mánfán
DESCRIPTION:Csütörtök esténként megnyílik a Mánfai Elvonulási Központ békés és csendes tere.  \n\n\n\n\n\n\n\nKözös meditációs gyakorlatokkal\, rövid tanításokkal és kötetlen beszélgetéssel várunk minden kedves érdeklődőt. Aki csak most ismerkedik a buddhizmussal\, az is bátran vegyen részt az eseményen\, ide nem kell előzetes tudás\, elég a nyitottság és a kíváncsiság.Javasoljuk a könnyű\, laza ruházatot (a helyszínen is lehetőség van az átöltözésre).Az est házigazdája: Jakab Gábor dharmatanító\, a Mánfai Elvonulási Központ vezetője.Az esemény ingyenes.További információ: 70/657-3160 \n\n\n\nIdőpontok 2025 őszén: \n\n\n\n\nSzeptember: 04.\, 11.\, 18.\n\n\n\nOktóber: 09.\, 16.\n\n\n\nNovember: 06.\, 13.\, 20.\n\n\n\nDecember: 04 – ezen a napon Budapesten gyakorlunk közösen A Tan Kapuján.\n\n\n\nDecember 11.
URL:https://tkbe.hu/esemeny/buddhista-estek-manfan/2025-12-11/
LOCATION:Mánfa Buddhista Oktatási\, Kulturális és Elvonulási Központ\, Fábián Béla utca 87.\, Mánfa\, 7304
ATTACH;FMTTYPE=image/jpeg:https://tkbe.hu/wp-content/uploads/2025/09/539544893_1317534440411508_312215301064621169_n.jpg
ORGANIZER;CN="A Tan Kapuja Buddhista Egyh%C3%A1z":MAILTO:info@tkbe.hu
END:VEVENT
BEGIN:VEVENT
DTSTART;TZID=Europe/Budapest:20251211T180000
DTEND;TZID=Europe/Budapest:20251211T193000
DTSTAMP:20260421T102804
CREATED:20250912T040445Z
LAST-MODIFIED:20250912T054200Z
UID:10001604-1765476000-1765481400@tkbe.hu
SUMMARY:Buddhista meditációs gyakorlás A Tan Kapuján
DESCRIPTION:Csütörtök esténként 18 órától 19.30-ig A Tan Kapuja Buddhista Egyház által szervezett közös\, személyes jelenlétű buddhista meditációs gyakorlásra invitálunk minden kedves érdeklődőt A Tan Kapuja Szertartástermébe. \n\n\n\n\n\n\n\nA csütörtök esti meditációkat minden alkalommal A Tan Kapuja Buddhista Egyház dharmatanítói vezetik. A gyakorlások során rövid szertartásra\, meditációra és tanítóbeszédre is sor kerül. \n\n\n\nAz őszi gyakorlások témája: a nem mozgó testtartás és a mozgó légzés gyakorlata. \n\n\n\n\n\n\n\nA gyakorlások időpontjai és tanítói 2025 őszén: \n\n\n\nszeptember 18.: Harangozó Tamás \n\n\n\nszeptember 25.: Czakó László \n\n\n\noktóber 2.: Földiné Irtl Melinda \n\n\n\noktóber 9.: Bán-Horváth Attila \n\n\n\noktóber 16.: Cser Zoltán \n\n\n\noktóber 30.: Szeremley Levente \n\n\n\nnovember 6.: Tenger George \n\n\n\nnovember 13.: Rába Géza \n\n\n\nnovember 20.: Bialkó László Gergő \n\n\n\nnovember 27.: Lévai Roland \n\n\n\ndecember 4.: Jakab Gábor \n\n\n\ndecember 11.: Csörgő Zoltán \n\n\n\nMindenkit szeretettel várunk közös gyakorlásainkra! \n\n\n\nA Buddha fénye áradjon minden érző lényre!
URL:https://tkbe.hu/esemeny/buddhista-meditacios-gyakorlas-a-tan-kapujan/2025-12-11/
LOCATION:A Tan Kapuja Buddhista Főiskola Szertartásterme\, Börzsöny utca 11.\, Budapest\, 1098
ATTACH;FMTTYPE=image/jpeg:https://tkbe.hu/wp-content/uploads/2024/09/TKkozosegi_csutortok-1-scaled.jpg
ORGANIZER;CN="A Tan Kapuja Buddhista Egyh%C3%A1z":MAILTO:info@tkbe.hu
END:VEVENT
BEGIN:VEVENT
DTSTART;TZID=Europe/Budapest:20251214T180000
DTEND;TZID=Europe/Budapest:20251214T210000
DTSTAMP:20260421T102804
CREATED:20251124T121402Z
LAST-MODIFIED:20251205T224537Z
UID:10001641-1765735200-1765746000@tkbe.hu
SUMMARY:Maitréja ünnepség 2025
DESCRIPTION:December 14-én 18 órai kezdettel Maitréja ünnepséget tart A Tan Kapuja Buddhista Egyház. \n\n\n\n\n\n\n\nHagyományos év végi ünnepségünket\, az eljövendő világkorszak Buddhája\, Maitréja (szeretet) tiszteletére tartjuk meg minden év decemberében\, a téli napforduló körüli időszakban. Maitréja alakját a szeretet köti össze a karácsony ünnepével; az évnek ebben a szakában\, a téli napforduló környékén fordítsuk figyelmünket erre az egyetemes\, világot összetartó erőre\, mely segít kikerülnünk a sötétségből. \n\n\n\nA 18 órakor kezdődő ünnepélyes szertartást vezeti és tanítóbeszédet tart: Cser Zoltán. \n\n\n\nA szertartást követő 15-20 perces szünet után az est második részében: \n\n\n\nMurányi Norbi (Murr) – perzsa szantúr \n\n\n\nMaitréja meditáció mantra gyakorlással (Cser Zoltán vezetésében) \n\n\n\nIdőpont: 2025. december 14. vasárnap\, 18.00 óra.Helyszín: A Tan Kapuja Szertartásterme \n\n\n\nAz eseményre bátran hozzák magukkal gyermeküket is\, mivel az ünnepség ideje alatt a kisebbekre nem csak vigyázunk\, hanem a Tejút Buddhista Pedagógia Központ szervezésében a hátsó dharrma termet buddhista játszóházzá alakítjuk át\, tartalmas és vidám időtöltést biztosítva ezzel a gyermekek számára is. \n\n\n\nAz ünnepséghez A Tan Kapuja YouTube csatornáján is lehet csatlakozni.Javasoljuk\, hogy mielőtt leülnek a képernyő elé érdemes maguk elé készíteni egy kis Buddha szobrot\, egy gyertyát (vagy mécsest) és egy füstölőt! \n\n\n\nSzeretettel várja a közösségek gyakorlóit\, minden volt és jelenlegi diákját\, valamint minden kedves barátját és az érdeklődőket A Tan Kapuja Buddhista Egyház!
URL:https://tkbe.hu/esemeny/maitreja-unnepseg-2025-2/
LOCATION:A Tan Kapuja Buddhista Főiskola Szertartásterme\, Börzsöny utca 11.\, Budapest\, 1098
ATTACH;FMTTYPE=image/jpeg:https://tkbe.hu/wp-content/uploads/2024/04/maitreya_buddha_the_next_buddha-0qbL7f.tmp_-e1733469606250.jpg
ORGANIZER;CN="A Tan Kapuja Buddhista Egyh%C3%A1z":MAILTO:info@tkbe.hu
END:VEVENT
BEGIN:VEVENT
DTSTART;TZID=Europe/Budapest:20251216T180000
DTEND;TZID=Europe/Budapest:20251216T190000
DTSTAMP:20260421T102804
CREATED:20251218T093344Z
LAST-MODIFIED:20251218T101737Z
UID:10001681-1765908000-1765911600@tkbe.hu
SUMMARY:Meditáció A Tan Szigete Közösség szervezésében
DESCRIPTION:A Tan Szigete Közösség (Dhammadípaszangha) személyes jelenlét mellett tartja meg meditációs alkalmait\, melyre mindenkit szeretettel várnak A Tan Kapuja Buddhista Főiskolán. \n\n\n\n\nA közös meditációs gyakorlásokon a théraváda vonalhoz tartozó\, thai erdei szerzetesrend meditációs gyakorlatával lehet megismerkedni. \n\n\n\nA meditációt vezetik: A Tan Szigete Közösség dharmatanítói\, valamint vendég tanítók. \n\n\n\nA gyakorláshoz lehetőség van online formában is csatlakozni. \n\n\n\nMEGKÉRJÜK A CSATLAKOZÓKAT\, HOGY AMIKOR BELÉPNEK AZ ONLINE MEDITÁCIÓS TEREMBE\, LEGYENEK SZÍVESEK ÉS KAPCSOLJÁK KI A MIKROFONJUKAT\, hogy senkit ne zavarjunk meg a gyakorlásban.Köszönet érte! \n\n\n\nA meditációra 17:50 és 18:05 között lehet bejelentkezni. \n\n\n\nLINK: https://meet.google.com/wwi-pufx-penMEET alkalmazáson belüli meeting code: wwi-pufx-pen
URL:https://tkbe.hu/esemeny/meditacio-a-tan-szigete-kozosseg-szervezeseben-6/2025-12-16/
LOCATION:A Tan Kapuja Buddhista Főiskola – Zen terem\, Csengettyű u. 3.\, Budapest\, 1098\, Hungary
ATTACH;FMTTYPE=image/jpeg:https://tkbe.hu/wp-content/uploads/2024/09/KAL07723-scaled.jpg
END:VEVENT
BEGIN:VEVENT
DTSTART;TZID=Europe/Budapest:20251217T180000
DTEND;TZID=Europe/Budapest:20251217T190000
DTSTAMP:20260421T102804
CREATED:20251218T093344Z
LAST-MODIFIED:20251218T101737Z
UID:10001682-1765994400-1765998000@tkbe.hu
SUMMARY:Meditáció A Tan Szigete Közösség szervezésében
DESCRIPTION:A Tan Szigete Közösség (Dhammadípaszangha) személyes jelenlét mellett tartja meg meditációs alkalmait\, melyre mindenkit szeretettel várnak A Tan Kapuja Buddhista Főiskolán. \n\n\n\n\nA közös meditációs gyakorlásokon a théraváda vonalhoz tartozó\, thai erdei szerzetesrend meditációs gyakorlatával lehet megismerkedni. \n\n\n\nA meditációt vezetik: A Tan Szigete Közösség dharmatanítói\, valamint vendég tanítók. \n\n\n\nA gyakorláshoz lehetőség van online formában is csatlakozni. \n\n\n\nMEGKÉRJÜK A CSATLAKOZÓKAT\, HOGY AMIKOR BELÉPNEK AZ ONLINE MEDITÁCIÓS TEREMBE\, LEGYENEK SZÍVESEK ÉS KAPCSOLJÁK KI A MIKROFONJUKAT\, hogy senkit ne zavarjunk meg a gyakorlásban.Köszönet érte! \n\n\n\nA meditációra 17:50 és 18:05 között lehet bejelentkezni. \n\n\n\nLINK: https://meet.google.com/wwi-pufx-penMEET alkalmazáson belüli meeting code: wwi-pufx-pen
URL:https://tkbe.hu/esemeny/meditacio-a-tan-szigete-kozosseg-szervezeseben-6/2025-12-17/
LOCATION:A Tan Kapuja Buddhista Főiskola – Zen terem\, Csengettyű u. 3.\, Budapest\, 1098\, Hungary
ATTACH;FMTTYPE=image/jpeg:https://tkbe.hu/wp-content/uploads/2024/09/KAL07723-scaled.jpg
END:VEVENT
BEGIN:VEVENT
DTSTART;TZID=Europe/Budapest:20251217T180000
DTEND;TZID=Europe/Budapest:20251217T210000
DTSTAMP:20260421T102804
CREATED:20240530T073518Z
LAST-MODIFIED:20260223T090108Z
UID:10001272-1765994400-1766005200@tkbe.hu
SUMMARY:Zen szertartás és beszélgetés
DESCRIPTION:A Tan Kapuja Zen Közösség közös gyakorlást és zen szertartást tart minden szerdán a Börzsöny utcai Dharma-teremben 18:00 órai kezdettel. A szertartáson szívesen látnak érdeklődőket is\, akik szeretnék megismerni a zen gyakorlatát. \n\n\n\n\nAzok részére\, akik nem tudnak részt venni a jelenléti szertartáson\, lehetőség van az online szertartáson részvenni! \n\n\n\n\nAz online szertartást 18:00 órai kezdettel tartják a Zoom alkalmazás segítségével\, amelyhez az alábbi linken lehet csatlakozni: https://us02web.zoom.us/j/85991747314 \n\n\n\nÉrdeklőni az info@zen.hu e-mail címen lehetséges.
URL:https://tkbe.hu/esemeny/zen-szertartas-es-beszelgetes-2/2025-12-17/
LOCATION:A Tan Kapuja Buddhista Főiskola Sarokdharma terme\, Börzsöny u. 11.\, Budapest\, 1098\, Magyarország
ATTACH;FMTTYPE=image/jpeg:https://tkbe.hu/wp-content/uploads/2024/05/zazen-mudra-e1771604752355.jpg
ORGANIZER;CN="A Tan Kapuja Zen K%C3%B6z%C3%B6ss%C3%A9g":MAILTO:info@zen.hu
END:VEVENT
END:VCALENDAR