BEGIN:VCALENDAR
VERSION:2.0
PRODID:-//A Tan Kapuja Buddhista Egyház - ECPv6.15.20//NONSGML v1.0//EN
CALSCALE:GREGORIAN
METHOD:PUBLISH
X-ORIGINAL-URL:https://tkbe.hu
X-WR-CALDESC:Események A Tan Kapuja Buddhista Egyház
REFRESH-INTERVAL;VALUE=DURATION:PT1H
X-Robots-Tag:noindex
X-PUBLISHED-TTL:PT1H
BEGIN:VTIMEZONE
TZID:Europe/Budapest
BEGIN:DAYLIGHT
TZOFFSETFROM:+0100
TZOFFSETTO:+0200
TZNAME:CEST
DTSTART:20250330T010000
END:DAYLIGHT
BEGIN:STANDARD
TZOFFSETFROM:+0200
TZOFFSETTO:+0100
TZNAME:CET
DTSTART:20251026T010000
END:STANDARD
BEGIN:DAYLIGHT
TZOFFSETFROM:+0100
TZOFFSETTO:+0200
TZNAME:CEST
DTSTART:20260329T010000
END:DAYLIGHT
BEGIN:STANDARD
TZOFFSETFROM:+0200
TZOFFSETTO:+0100
TZNAME:CET
DTSTART:20261025T010000
END:STANDARD
BEGIN:DAYLIGHT
TZOFFSETFROM:+0100
TZOFFSETTO:+0200
TZNAME:CEST
DTSTART:20270328T010000
END:DAYLIGHT
BEGIN:STANDARD
TZOFFSETFROM:+0200
TZOFFSETTO:+0100
TZNAME:CET
DTSTART:20271031T010000
END:STANDARD
END:VTIMEZONE
BEGIN:VEVENT
DTSTART;TZID=Europe/Budapest:20260106T180000
DTEND;TZID=Europe/Budapest:20260106T190000
DTSTAMP:20260419T200911
CREATED:20251218T103511Z
LAST-MODIFIED:20251218T103636Z
UID:10001944-1767722400-1767726000@tkbe.hu
SUMMARY:Meditáció A Tan Szigete Közösség szervezésében
DESCRIPTION:A Tan Szigete Közösség (Dhammadípaszangha) személyes jelenlét mellett tartja meg meditációs alkalmait\, melyre mindenkit szeretettel várnak A Tan Kapuja Buddhista Főiskolán. \n\n\n\n\nA közös meditációs gyakorlásokon a théraváda vonalhoz tartozó\, thai erdei szerzetesrend meditációs gyakorlatával lehet megismerkedni. \n\n\n\nA meditációt vezetik: A Tan Szigete Közösség dharmatanítói\, valamint vendég tanítók. \n\n\n\nA gyakorláshoz lehetőség van online formában is csatlakozni. \n\n\n\nMEGKÉRJÜK A CSATLAKOZÓKAT\, HOGY AMIKOR BELÉPNEK AZ ONLINE MEDITÁCIÓS TEREMBE\, LEGYENEK SZÍVESEK ÉS KAPCSOLJÁK KI A MIKROFONJUKAT\, hogy senkit ne zavarjunk meg a gyakorlásban.Köszönet érte! \n\n\n\nA meditációra 17:50 és 18:05 között lehet bejelentkezni. \n\n\n\nLINK: https://meet.google.com/wwi-pufx-penMEET alkalmazáson belüli meeting code: wwi-pufx-pen
URL:https://tkbe.hu/esemeny/meditacio-a-tan-szigete-kozosseg-szervezeseben-8/2026-01-06/
LOCATION:A Tan Kapuja Buddhista Főiskola – Zen terem\, Csengettyű u. 3.\, Budapest\, 1098\, Hungary
ATTACH;FMTTYPE=image/jpeg:https://tkbe.hu/wp-content/uploads/2024/09/KAL07723-scaled.jpg
END:VEVENT
BEGIN:VEVENT
DTSTART;TZID=Europe/Budapest:20260107T180000
DTEND;TZID=Europe/Budapest:20260107T210000
DTSTAMP:20260419T200912
CREATED:20240530T073518Z
LAST-MODIFIED:20260223T090108Z
UID:10001275-1767808800-1767819600@tkbe.hu
SUMMARY:Zen szertartás és beszélgetés
DESCRIPTION:A Tan Kapuja Zen Közösség közös gyakorlást és zen szertartást tart minden szerdán a Börzsöny utcai Dharma-teremben 18:00 órai kezdettel. A szertartáson szívesen látnak érdeklődőket is\, akik szeretnék megismerni a zen gyakorlatát. \n\n\n\n\nAzok részére\, akik nem tudnak részt venni a jelenléti szertartáson\, lehetőség van az online szertartáson részvenni! \n\n\n\n\nAz online szertartást 18:00 órai kezdettel tartják a Zoom alkalmazás segítségével\, amelyhez az alábbi linken lehet csatlakozni: https://us02web.zoom.us/j/85991747314 \n\n\n\nÉrdeklőni az info@zen.hu e-mail címen lehetséges.
URL:https://tkbe.hu/esemeny/zen-szertartas-es-beszelgetes-2/2026-01-07/
LOCATION:A Tan Kapuja Buddhista Főiskola Sarokdharma terme\, Börzsöny u. 11.\, Budapest\, 1098\, Magyarország
ATTACH;FMTTYPE=image/jpeg:https://tkbe.hu/wp-content/uploads/2024/05/zazen-mudra-e1771604752355.jpg
ORGANIZER;CN="A Tan Kapuja Zen K%C3%B6z%C3%B6ss%C3%A9g":MAILTO:info@zen.hu
END:VEVENT
BEGIN:VEVENT
DTSTART;TZID=Europe/Budapest:20260113T180000
DTEND;TZID=Europe/Budapest:20260113T190000
DTSTAMP:20260419T200912
CREATED:20251218T103511Z
LAST-MODIFIED:20251218T103636Z
UID:10001946-1768327200-1768330800@tkbe.hu
SUMMARY:Meditáció A Tan Szigete Közösség szervezésében
DESCRIPTION:A Tan Szigete Közösség (Dhammadípaszangha) személyes jelenlét mellett tartja meg meditációs alkalmait\, melyre mindenkit szeretettel várnak A Tan Kapuja Buddhista Főiskolán. \n\n\n\n\nA közös meditációs gyakorlásokon a théraváda vonalhoz tartozó\, thai erdei szerzetesrend meditációs gyakorlatával lehet megismerkedni. \n\n\n\nA meditációt vezetik: A Tan Szigete Közösség dharmatanítói\, valamint vendég tanítók. \n\n\n\nA gyakorláshoz lehetőség van online formában is csatlakozni. \n\n\n\nMEGKÉRJÜK A CSATLAKOZÓKAT\, HOGY AMIKOR BELÉPNEK AZ ONLINE MEDITÁCIÓS TEREMBE\, LEGYENEK SZÍVESEK ÉS KAPCSOLJÁK KI A MIKROFONJUKAT\, hogy senkit ne zavarjunk meg a gyakorlásban.Köszönet érte! \n\n\n\nA meditációra 17:50 és 18:05 között lehet bejelentkezni. \n\n\n\nLINK: https://meet.google.com/wwi-pufx-penMEET alkalmazáson belüli meeting code: wwi-pufx-pen
URL:https://tkbe.hu/esemeny/meditacio-a-tan-szigete-kozosseg-szervezeseben-8/2026-01-13/
LOCATION:A Tan Kapuja Buddhista Főiskola – Zen terem\, Csengettyű u. 3.\, Budapest\, 1098\, Hungary
ATTACH;FMTTYPE=image/jpeg:https://tkbe.hu/wp-content/uploads/2024/09/KAL07723-scaled.jpg
END:VEVENT
BEGIN:VEVENT
DTSTART;TZID=Europe/Budapest:20260114T180000
DTEND;TZID=Europe/Budapest:20260114T210000
DTSTAMP:20260419T200912
CREATED:20240530T073518Z
LAST-MODIFIED:20260223T090108Z
UID:10001276-1768413600-1768424400@tkbe.hu
SUMMARY:Zen szertartás és beszélgetés
DESCRIPTION:A Tan Kapuja Zen Közösség közös gyakorlást és zen szertartást tart minden szerdán a Börzsöny utcai Dharma-teremben 18:00 órai kezdettel. A szertartáson szívesen látnak érdeklődőket is\, akik szeretnék megismerni a zen gyakorlatát. \n\n\n\n\nAzok részére\, akik nem tudnak részt venni a jelenléti szertartáson\, lehetőség van az online szertartáson részvenni! \n\n\n\n\nAz online szertartást 18:00 órai kezdettel tartják a Zoom alkalmazás segítségével\, amelyhez az alábbi linken lehet csatlakozni: https://us02web.zoom.us/j/85991747314 \n\n\n\nÉrdeklőni az info@zen.hu e-mail címen lehetséges.
URL:https://tkbe.hu/esemeny/zen-szertartas-es-beszelgetes-2/2026-01-14/
LOCATION:A Tan Kapuja Buddhista Főiskola Sarokdharma terme\, Börzsöny u. 11.\, Budapest\, 1098\, Magyarország
ATTACH;FMTTYPE=image/jpeg:https://tkbe.hu/wp-content/uploads/2024/05/zazen-mudra-e1771604752355.jpg
ORGANIZER;CN="A Tan Kapuja Zen K%C3%B6z%C3%B6ss%C3%A9g":MAILTO:info@zen.hu
END:VEVENT
BEGIN:VEVENT
DTSTART;TZID=Europe/Budapest:20260120T180000
DTEND;TZID=Europe/Budapest:20260120T190000
DTSTAMP:20260419T200912
CREATED:20251218T103511Z
LAST-MODIFIED:20251218T103636Z
UID:10001947-1768932000-1768935600@tkbe.hu
SUMMARY:Meditáció A Tan Szigete Közösség szervezésében
DESCRIPTION:A Tan Szigete Közösség (Dhammadípaszangha) személyes jelenlét mellett tartja meg meditációs alkalmait\, melyre mindenkit szeretettel várnak A Tan Kapuja Buddhista Főiskolán. \n\n\n\n\nA közös meditációs gyakorlásokon a théraváda vonalhoz tartozó\, thai erdei szerzetesrend meditációs gyakorlatával lehet megismerkedni. \n\n\n\nA meditációt vezetik: A Tan Szigete Közösség dharmatanítói\, valamint vendég tanítók. \n\n\n\nA gyakorláshoz lehetőség van online formában is csatlakozni. \n\n\n\nMEGKÉRJÜK A CSATLAKOZÓKAT\, HOGY AMIKOR BELÉPNEK AZ ONLINE MEDITÁCIÓS TEREMBE\, LEGYENEK SZÍVESEK ÉS KAPCSOLJÁK KI A MIKROFONJUKAT\, hogy senkit ne zavarjunk meg a gyakorlásban.Köszönet érte! \n\n\n\nA meditációra 17:50 és 18:05 között lehet bejelentkezni. \n\n\n\nLINK: https://meet.google.com/wwi-pufx-penMEET alkalmazáson belüli meeting code: wwi-pufx-pen
URL:https://tkbe.hu/esemeny/meditacio-a-tan-szigete-kozosseg-szervezeseben-8/2026-01-20/
LOCATION:A Tan Kapuja Buddhista Főiskola – Zen terem\, Csengettyű u. 3.\, Budapest\, 1098\, Hungary
ATTACH;FMTTYPE=image/jpeg:https://tkbe.hu/wp-content/uploads/2024/09/KAL07723-scaled.jpg
END:VEVENT
BEGIN:VEVENT
DTSTART;TZID=Europe/Budapest:20260121T180000
DTEND;TZID=Europe/Budapest:20260121T210000
DTSTAMP:20260419T200912
CREATED:20240530T073518Z
LAST-MODIFIED:20260223T090108Z
UID:10001277-1769018400-1769029200@tkbe.hu
SUMMARY:Zen szertartás és beszélgetés
DESCRIPTION:A Tan Kapuja Zen Közösség közös gyakorlást és zen szertartást tart minden szerdán a Börzsöny utcai Dharma-teremben 18:00 órai kezdettel. A szertartáson szívesen látnak érdeklődőket is\, akik szeretnék megismerni a zen gyakorlatát. \n\n\n\n\nAzok részére\, akik nem tudnak részt venni a jelenléti szertartáson\, lehetőség van az online szertartáson részvenni! \n\n\n\n\nAz online szertartást 18:00 órai kezdettel tartják a Zoom alkalmazás segítségével\, amelyhez az alábbi linken lehet csatlakozni: https://us02web.zoom.us/j/85991747314 \n\n\n\nÉrdeklőni az info@zen.hu e-mail címen lehetséges.
URL:https://tkbe.hu/esemeny/zen-szertartas-es-beszelgetes-2/2026-01-21/
LOCATION:A Tan Kapuja Buddhista Főiskola Sarokdharma terme\, Börzsöny u. 11.\, Budapest\, 1098\, Magyarország
ATTACH;FMTTYPE=image/jpeg:https://tkbe.hu/wp-content/uploads/2024/05/zazen-mudra-e1771604752355.jpg
ORGANIZER;CN="A Tan Kapuja Zen K%C3%B6z%C3%B6ss%C3%A9g":MAILTO:info@zen.hu
END:VEVENT
BEGIN:VEVENT
DTSTART;TZID=Europe/Budapest:20260124T160000
DTEND;TZID=Europe/Budapest:20260124T200000
DTSTAMP:20260419T200912
CREATED:20260116T101456Z
LAST-MODIFIED:20260116T101600Z
UID:10002209-1769270400-1769284800@tkbe.hu
SUMMARY:Zen Akadémia nyílt nap
DESCRIPTION:A Zen Akadémia 2026. január 24-én\, szombaton\, 16.00 és 20.00 óra között ingyenesen látogatható nyílt napot tart a Tan Kapuja Buddhista Főiskolán. \n\n\n\n\n\n\n\nAz érdeklődőket előadások\, bemutatók\, workshopok várják\, amelyeken bepillantást nyerhetnek a kalligráfia\, a tusfestészet\, a zen kerámia\, a mozgás- és harcművészetek\, a teaművészet\, a japán bambuszfuvola\, a japándob\, a varrásművészet\, a zen kert és a zen meditáció világába. \n\n\n\nA rendezvény ingyenesen látogatható!
URL:https://tkbe.hu/esemeny/zen-akademia-nyilt-nap/
LOCATION:A Tan Kapuja Buddhista Főiskola\, Börzsöny utca 11.\, Budapest\, 1098
ATTACH;FMTTYPE=image/jpeg:https://tkbe.hu/wp-content/uploads/2026/01/615261572_1189979283323583_5734592027786955484_n.jpg
ORGANIZER;CN="Zen Akad%C3%A9mia":MAILTO:info@zenakademia.hu
END:VEVENT
BEGIN:VEVENT
DTSTART;TZID=Europe/Budapest:20260127T180000
DTEND;TZID=Europe/Budapest:20260127T190000
DTSTAMP:20260419T200912
CREATED:20251218T103511Z
LAST-MODIFIED:20251218T103636Z
UID:10001948-1769536800-1769540400@tkbe.hu
SUMMARY:Meditáció A Tan Szigete Közösség szervezésében
DESCRIPTION:A Tan Szigete Közösség (Dhammadípaszangha) személyes jelenlét mellett tartja meg meditációs alkalmait\, melyre mindenkit szeretettel várnak A Tan Kapuja Buddhista Főiskolán. \n\n\n\n\nA közös meditációs gyakorlásokon a théraváda vonalhoz tartozó\, thai erdei szerzetesrend meditációs gyakorlatával lehet megismerkedni. \n\n\n\nA meditációt vezetik: A Tan Szigete Közösség dharmatanítói\, valamint vendég tanítók. \n\n\n\nA gyakorláshoz lehetőség van online formában is csatlakozni. \n\n\n\nMEGKÉRJÜK A CSATLAKOZÓKAT\, HOGY AMIKOR BELÉPNEK AZ ONLINE MEDITÁCIÓS TEREMBE\, LEGYENEK SZÍVESEK ÉS KAPCSOLJÁK KI A MIKROFONJUKAT\, hogy senkit ne zavarjunk meg a gyakorlásban.Köszönet érte! \n\n\n\nA meditációra 17:50 és 18:05 között lehet bejelentkezni. \n\n\n\nLINK: https://meet.google.com/wwi-pufx-penMEET alkalmazáson belüli meeting code: wwi-pufx-pen
URL:https://tkbe.hu/esemeny/meditacio-a-tan-szigete-kozosseg-szervezeseben-8/2026-01-27/
LOCATION:A Tan Kapuja Buddhista Főiskola – Zen terem\, Csengettyű u. 3.\, Budapest\, 1098\, Hungary
ATTACH;FMTTYPE=image/jpeg:https://tkbe.hu/wp-content/uploads/2024/09/KAL07723-scaled.jpg
END:VEVENT
BEGIN:VEVENT
DTSTART;TZID=Europe/Budapest:20260128T180000
DTEND;TZID=Europe/Budapest:20260128T210000
DTSTAMP:20260419T200912
CREATED:20240530T073518Z
LAST-MODIFIED:20260223T090108Z
UID:10001278-1769623200-1769634000@tkbe.hu
SUMMARY:Zen szertartás és beszélgetés
DESCRIPTION:A Tan Kapuja Zen Közösség közös gyakorlást és zen szertartást tart minden szerdán a Börzsöny utcai Dharma-teremben 18:00 órai kezdettel. A szertartáson szívesen látnak érdeklődőket is\, akik szeretnék megismerni a zen gyakorlatát. \n\n\n\n\nAzok részére\, akik nem tudnak részt venni a jelenléti szertartáson\, lehetőség van az online szertartáson részvenni! \n\n\n\n\nAz online szertartást 18:00 órai kezdettel tartják a Zoom alkalmazás segítségével\, amelyhez az alábbi linken lehet csatlakozni: https://us02web.zoom.us/j/85991747314 \n\n\n\nÉrdeklőni az info@zen.hu e-mail címen lehetséges.
URL:https://tkbe.hu/esemeny/zen-szertartas-es-beszelgetes-2/2026-01-28/
LOCATION:A Tan Kapuja Buddhista Főiskola Sarokdharma terme\, Börzsöny u. 11.\, Budapest\, 1098\, Magyarország
ATTACH;FMTTYPE=image/jpeg:https://tkbe.hu/wp-content/uploads/2024/05/zazen-mudra-e1771604752355.jpg
ORGANIZER;CN="A Tan Kapuja Zen K%C3%B6z%C3%B6ss%C3%A9g":MAILTO:info@zen.hu
END:VEVENT
BEGIN:VEVENT
DTSTART;TZID=Europe/Budapest:20260129T170000
DTEND;TZID=Europe/Budapest:20260201T140000
DTSTAMP:20260419T200912
CREATED:20260127T123621Z
LAST-MODIFIED:20260127T123828Z
UID:10002211-1769706000-1769954400@tkbe.hu
SUMMARY:Elvonulás a Mokusho Házban
DESCRIPTION:Tagközösségünk\, a Mokusho Zen Ház intenzív elvonulást tart január 29. és február 1. között. Az intenzív gyakorló hétvége nyitott\, minden érdeklődőt szeretettel várnak. A szervezők szerint nem szükséges\, hogy a résztvevők előzetes tapasztalattal vagy ismeretekkel rendelkezzenek: csak nyitottságra és a napirend követésére van szükség.  \n\n\n\n\n\n\n\nZazenek időpontja:6:00\, 11:00\, 17:00\, 20:00 óra \n\n\n\nA köztes időben főzés\, takarítás történik a templom körül. Részvételi szándék jelezhető a +36-70-386-20-02 telefonon vagy az info.mokushozen@gmail.com mailcímen. \n\n\n\nAjánlott adomány a teljes hétvégére:12 000Ft
URL:https://tkbe.hu/esemeny/elvonulas-a-mokusho-hazban/
LOCATION:Mokusho Zen Ház\, Rákosi út 77.\, Budapest\, 1161
ATTACH;FMTTYPE=image/png:https://tkbe.hu/wp-content/uploads/2026/01/image.png
ORGANIZER;CN="Mokusho Zen H%C3%A1z":MAILTO:info.mokushozen@gmail.com
END:VEVENT
BEGIN:VEVENT
DTSTART;TZID=Europe/Budapest:20260129T190000
DTEND;TZID=Europe/Budapest:20260129T213000
DTSTAMP:20260419T200912
CREATED:20251218T104309Z
LAST-MODIFIED:20251218T104433Z
UID:10001515-1769713200-1769722200@tkbe.hu
SUMMARY:Gyógyító Buddha gyakorlás
DESCRIPTION:Gyógyító Buddha gyakorlásra invitál minden kedves érdeklődőt a Gyógyító Buddha Közössége gyakorlócsoport minden hónap utolsó csütörtökén 18 órától az online térben. \n\n\n\n\nA gyakorlás pontos menetrendje:19.00-19.30: CáLung gyakorlat19.30-20.00: Siné (Samatha) meditáció20.00-20.30: Lhagtong (Vipasszana) meditáció20.30-21:30: Gyógyító Buddha vagy Cewang Rigdzin hosszú élet gyakorlata. \n\n\n\nA gyakorlást Jakab Katalin\, a Főiskola egykori tanítója\, Gyógyító Buddha beavatással rendelkező gyakorlatvezető tartja.A gyakorláson való részvétel felajánlás alapú\, illetve minden indokolt esetben ingyenes. \n\n\n\nMindenkit szeretettel várnak! \n\n\n\nA gyakorlásra az alábbi (Google MEET) linken várják az érdeklődőket: kattintson ide.
URL:https://tkbe.hu/esemeny/gyogyito-buddha-gyakorlas-3/2026-01-29/
LOCATION:online
ATTACH;FMTTYPE=image/jpeg:https://tkbe.hu/wp-content/uploads/2024/04/buddha-weekly-0mantra-around-medicine-buddha-3mflvW.tmp_.jpg
ORGANIZER;CN="Jakab Katalin":MAILTO:jakabk@tkbf.hu
END:VEVENT
END:VCALENDAR