BEGIN:VCALENDAR
VERSION:2.0
PRODID:-//A Tan Kapuja Buddhista Egyház - ECPv6.15.20//NONSGML v1.0//EN
CALSCALE:GREGORIAN
METHOD:PUBLISH
X-WR-CALNAME:A Tan Kapuja Buddhista Egyház
X-ORIGINAL-URL:https://tkbe.hu
X-WR-CALDESC:Események A Tan Kapuja Buddhista Egyház
REFRESH-INTERVAL;VALUE=DURATION:PT1H
X-Robots-Tag:noindex
X-PUBLISHED-TTL:PT1H
BEGIN:VTIMEZONE
TZID:Europe/Budapest
BEGIN:DAYLIGHT
TZOFFSETFROM:+0100
TZOFFSETTO:+0200
TZNAME:CEST
DTSTART:20250330T010000
END:DAYLIGHT
BEGIN:STANDARD
TZOFFSETFROM:+0200
TZOFFSETTO:+0100
TZNAME:CET
DTSTART:20251026T010000
END:STANDARD
BEGIN:DAYLIGHT
TZOFFSETFROM:+0100
TZOFFSETTO:+0200
TZNAME:CEST
DTSTART:20260329T010000
END:DAYLIGHT
BEGIN:STANDARD
TZOFFSETFROM:+0200
TZOFFSETTO:+0100
TZNAME:CET
DTSTART:20261025T010000
END:STANDARD
BEGIN:DAYLIGHT
TZOFFSETFROM:+0100
TZOFFSETTO:+0200
TZNAME:CEST
DTSTART:20270328T010000
END:DAYLIGHT
BEGIN:STANDARD
TZOFFSETFROM:+0200
TZOFFSETTO:+0100
TZNAME:CET
DTSTART:20271031T010000
END:STANDARD
END:VTIMEZONE
BEGIN:VEVENT
DTSTART;TZID=Europe/Budapest:20260219T080000
DTEND;TZID=Europe/Budapest:20260507T170000
DTSTAMP:20260423T110014
CREATED:20260205T130817Z
LAST-MODIFIED:20260205T145400Z
UID:10002213-1771488000-1778173200@tkbe.hu
SUMMARY:Felvételi előkészítő a Főiskolán
DESCRIPTION:A Tan Kapuja Buddhista Főiskola szervezésében 11 héten át tartó tanfolyam indul leendő hallgatóknak (felvételi előkészítő jelleggel) és a buddhizmus iránt érdeklődőknek. A program február 19-én kezdődik\, és a hivatalos felvételi vizsgával zárul (melyen a részvétel lehetséges\, de nem kötelező). További részletek a honlapon.
URL:https://tkbe.hu/esemeny/felveteli-elokeszito-a-foiskolan/
ATTACH;FMTTYPE=image/png:https://tkbe.hu/wp-content/uploads/2026/02/elokesz-e1770297179902.png
END:VEVENT
BEGIN:VEVENT
DTSTART;TZID=Europe/Budapest:20260219T180000
DTEND;TZID=Europe/Budapest:20260530T193000
DTSTAMP:20260423T110014
CREATED:20260211T104158Z
LAST-MODIFIED:20260219T133734Z
UID:10002498-1771524000-1780169400@tkbe.hu
SUMMARY:Buddhista meditációs gyakorlás A Tan Kapuján
DESCRIPTION:Csütörtök esténként 18 órától 19.30-ig A Tan Kapuja Buddhista Egyház által szervezett közös\, személyes jelenlétű buddhista meditációs gyakorlásra invitálunk minden kedves érdeklődőt A Tan Kapuja Szertartástermébe.  \n\n\n\nA csütörtök esti meditációkat minden alkalommal A Tan Kapuja Buddhista Egyház dharmatanítói vezetik. A gyakorlások során rövid szertartásra\, meditációra és tanítóbeszédre is sor kerül. \n\n\n\nA gyakorlások témája: hogyan érhető el az ellazultság és a béke a meditáció által. \n\n\n\nA következő év a Tűz Ló éve lesz: tele mozgással\, hirtelen változásokkal\, szenvedélyes megnyilvánulásokkal – ezért is nagyon fontos\, hogy képesek legyünk ellazulni\, hogy kiléphessünk a mindennapok forgatagából. A TKBE Dharmatanítói ennek jegyében vezetik majd a gyakorlatokat. \n\n\n\nA gyakorlások időpontjai és tanítói 2026 tavaszán: \n\n\n\nfebruár 19.: Irtl Melinda \n\n\n\nfebruár 26.: Hajdú Péter \n\n\n\nmárcius 5.: Lévai Roland \n\n\n\nmárcius 12.: Bialkó László Gergő \n\n\n\nmárcius 19.: Cser Zoltán \n\n\n\nmárcius 26.: Harangozó Tamás \n\n\n\náprilis 9.: Jakab Gábor \n\n\n\náprilis 16.: Bán-Horváth Attila \n\n\n\náprilis 23.: Czakó László \n\n\n\náprilis 30.: Csörgő Zoltán \n\n\n\n \n\n\n\nCím: 1098 Budapest\, Börzsöny utca 11.
URL:https://tkbe.hu/esemeny/buddhista-meditacios-gyakorlas-a-tan-kapujan-2/
LOCATION:A Tan Kapuja Buddhista Főiskola Szertartásterme\, Börzsöny utca 11.\, Budapest\, 1098
ATTACH;FMTTYPE=image/png:https://tkbe.hu/wp-content/uploads/2025/09/Tuz-Lo-Eve.png
ORGANIZER;CN="A Tan Kapuja Buddhista Egyh%C3%A1z":MAILTO:info@tkbe.hu
END:VEVENT
BEGIN:VEVENT
DTSTART;TZID=Europe/Budapest:20260226T170000
DTEND;TZID=Europe/Budapest:20260301T140000
DTSTAMP:20260423T110014
CREATED:20260209T132900Z
LAST-MODIFIED:20260209T132933Z
UID:10002497-1772125200-1772373600@tkbe.hu
SUMMARY:Gyakorló hétvége\, Mokusho Ház
DESCRIPTION:Tagközösségünk\, a Mokusho Zen Ház február végén intenzív gyakorló hétvégét tart. Előzetes tapasztalat és a buddhizmus ismerete nem szükséges\, csak nyitottság\, a napirend követése és útkereső tudat.
URL:https://tkbe.hu/esemeny/gyakorlo-hetvege-mokusho-haz/
LOCATION:Budapest\, Rákosi út 77\, 1161
ATTACH;FMTTYPE=image/jpeg:https://tkbe.hu/wp-content/uploads/2025/09/MokushoHoboji-e1758029737545.jpg
END:VEVENT
BEGIN:VEVENT
DTSTART;TZID=Europe/Budapest:20260301T140000
DTEND;TZID=Europe/Budapest:20260301T160000
DTSTAMP:20260423T110014
CREATED:20260225T063913Z
LAST-MODIFIED:20260225T063920Z
UID:10002523-1772373600-1772380800@tkbe.hu
SUMMARY:Ne légy mérges - legyél egészséges!
DESCRIPTION:Ne légy mérges – legyél egészséges! Hogyan szabadulj meg a mérgektől\, hogy jól érezd magad a bőrödben?  \n\n\n\nDr. Bártfai Katalin előadása a Buddhista Misszió szertartástermében. \n\n\n\n \n\n\n\nAz előadó Dr. Bártfai Katalin gyógyszerész\, holisztikus gyógyító\, aki felelősen gondolkodik a gyógyszerekről. Ez alkalommal arról beszél majd\, hogy belső folyamataink hogyan határozzák meg az egészségi állapotunkat. A rendezvény ingyenes.  \n\n\n\nCím: 1117 Budapest\, Karinthy Frigyes út 5.\, 1. emelet (10-es kapucsengő\, az ajtó automatikusan nyílik)
URL:https://tkbe.hu/esemeny/ne-legy-merges-legyel-egeszseges/
LOCATION:1117 Budapest\, Karinthy Frigyes út 5.\, Karinthy Frigyes út 5.\, Budapest\, 1117\, Hungary
ATTACH;FMTTYPE=image/jpeg:https://tkbe.hu/wp-content/uploads/2026/02/bartfai-katalin-1.jpg
END:VEVENT
BEGIN:VEVENT
DTSTART;TZID=Europe/Budapest:20260302T180000
DTEND;TZID=Europe/Budapest:20260302T190000
DTSTAMP:20260423T110014
CREATED:20260205T150537Z
LAST-MODIFIED:20260205T150742Z
UID:10002217-1772474400-1772478000@tkbe.hu
SUMMARY:Kezdő-újrakezdő sakuhacsi-kurzus
DESCRIPTION:A Zen Akadémia kezdő-újrakezdő japán bambuszfuvola (sakuhacsi) tanfolyamot hirdet. A kurzus 12 alkalomból áll\, a foglalkozások 60 percesek és hétfői napokon kerülnek megrendezésre.  \n\n\n\nElső alkalom: 2026. február 9.\, hétfő\, 18.00 \n\n\n\nHelyszín: A Tan Kapuja Buddhista Főiskola\, Új épület\, 1. emelet\, Zen terem (Budapest 1098 Csengettyű u. 3.) \n\n\n\nA kurzushoz semmilyen zenei előképzettség nem szükséges. \n\n\n\nTanulóhangszer kölcsönözhető!  \n\n\n\nOnline részvételi lehetőséget is biztosítunk.  \n\n\n\nRészvétel: ajánlott adománnyal  \n\n\n\nA kurzust vezeti: Kenéz László \n\n\n\nJelentkezés\, további információ: info@zenakademia.hu
URL:https://tkbe.hu/esemeny/kezdo-ujrakezdo-sakuhacsi-kurzus/2026-03-02/
ATTACH;FMTTYPE=image/jpeg:https://tkbe.hu/wp-content/uploads/2026/02/482051421_949954720659375_495177559110270418_n.jpg
END:VEVENT
BEGIN:VEVENT
DTSTART;TZID=Europe/Budapest:20260303T180000
DTEND;TZID=Europe/Budapest:20260303T190000
DTSTAMP:20260423T110014
CREATED:20251218T103511Z
LAST-MODIFIED:20251218T103636Z
UID:10001953-1772560800-1772564400@tkbe.hu
SUMMARY:Meditáció A Tan Szigete Közösség szervezésében
DESCRIPTION:A Tan Szigete Közösség (Dhammadípaszangha) személyes jelenlét mellett tartja meg meditációs alkalmait\, melyre mindenkit szeretettel várnak A Tan Kapuja Buddhista Főiskolán. \n\n\n\n\nA közös meditációs gyakorlásokon a théraváda vonalhoz tartozó\, thai erdei szerzetesrend meditációs gyakorlatával lehet megismerkedni. \n\n\n\nA meditációt vezetik: A Tan Szigete Közösség dharmatanítói\, valamint vendég tanítók. \n\n\n\nA gyakorláshoz lehetőség van online formában is csatlakozni. \n\n\n\nMEGKÉRJÜK A CSATLAKOZÓKAT\, HOGY AMIKOR BELÉPNEK AZ ONLINE MEDITÁCIÓS TEREMBE\, LEGYENEK SZÍVESEK ÉS KAPCSOLJÁK KI A MIKROFONJUKAT\, hogy senkit ne zavarjunk meg a gyakorlásban.Köszönet érte! \n\n\n\nA meditációra 17:50 és 18:05 között lehet bejelentkezni. \n\n\n\nLINK: https://meet.google.com/wwi-pufx-penMEET alkalmazáson belüli meeting code: wwi-pufx-pen
URL:https://tkbe.hu/esemeny/meditacio-a-tan-szigete-kozosseg-szervezeseben-8/2026-03-03/
LOCATION:A Tan Kapuja Buddhista Főiskola – Zen terem\, Csengettyű u. 3.\, Budapest\, 1098\, Hungary
ATTACH;FMTTYPE=image/jpeg:https://tkbe.hu/wp-content/uploads/2024/09/KAL07723-scaled.jpg
END:VEVENT
BEGIN:VEVENT
DTSTART;TZID=Europe/Budapest:20260304T180000
DTEND;TZID=Europe/Budapest:20260304T190000
DTSTAMP:20260423T110014
CREATED:20260205T152006Z
LAST-MODIFIED:20260205T152011Z
UID:10002229-1772647200-1772650800@tkbe.hu
SUMMARY:Testközelben - Négy alkalmas művészeti kurzus
DESCRIPTION:Testközelben – Négy alkalmas művészeti kurzus \n\n\n\n\n\n\n\nA Zen Akadémia négy alkalmas\, mozgásban kibontakozó önismereti kurzust indít. A foglalkozások kiindulópontja egy-egy művészeti ág: a japán zene\, a sakuhacsi (bambuszfuvola)\, a kalligráfia és a haiku. \n\n\n\nHelyszín: A Tan Kapuja Buddhista Főiskola\, Új épület\, Zen terem (Budapest 1098 Csengettyű u. 3. a Börzsöny utcai épület szomszédságában) Időpont: 2026. február 11.\, 18.\, 25.\, március 4.  szerda\, 18.00 – 19.00 \n\n\n\nA foglalkozásokat vezeti: Fülöp Tímea \n\n\n\n„Mély érdeklődésem a japán művészetek iránt beleszövődött előadóművészi munkámba és tanítási módszerembe is. Előadóművészként\, meggyőződésem\, hogy azért kerültem ki a sérüléseket egész pályafutásomon át\, mert a japán táncmestereimtől szerzett tudás és a távol-keleti filozófia integrálása a mindennapjaiba segített egyensúlyban maradnom kívül-belül. \n\n\n\nTanárként is azt oktatom\, amit 25 éves pályafutásom alatt megélt tapasztalataimból szereztem. Fontos szempontnak tartom az önvizsgálatot\, a befelé figyelést\, mozgás közben is. Elsődleges célom e kurzusban is az önreflexió fejlesztése cselekvés közben\, a művészeteken keresztül. A minőségi mozgás gyógyító erejű\, nagyon nagy szüksége van rá a ma emberének.” \n\n\n\nRészvétel: ajánlott adomány a teljes kurzusra 20 000\,- Ft \n\n\n\nJelentkezés: info@zenakademia.hu
URL:https://tkbe.hu/esemeny/testkozelben-negy-alkalmas-muveszeti-kurzus/2026-03-04/
LOCATION:A Tan Kapuja Buddhista Főiskola\, Börzsöny utca 11.\, Budapest\, 1098
ATTACH;FMTTYPE=image/jpeg:https://tkbe.hu/wp-content/uploads/2026/02/1000006465-1.jpg
END:VEVENT
BEGIN:VEVENT
DTSTART;TZID=Europe/Budapest:20260304T180000
DTEND;TZID=Europe/Budapest:20260304T210000
DTSTAMP:20260423T110014
CREATED:20240530T073518Z
LAST-MODIFIED:20260223T090108Z
UID:10001283-1772647200-1772658000@tkbe.hu
SUMMARY:Zen szertartás és beszélgetés
DESCRIPTION:A Tan Kapuja Zen Közösség közös gyakorlást és zen szertartást tart minden szerdán a Börzsöny utcai Dharma-teremben 18:00 órai kezdettel. A szertartáson szívesen látnak érdeklődőket is\, akik szeretnék megismerni a zen gyakorlatát. \n\n\n\n\nAzok részére\, akik nem tudnak részt venni a jelenléti szertartáson\, lehetőség van az online szertartáson részvenni! \n\n\n\n\nAz online szertartást 18:00 órai kezdettel tartják a Zoom alkalmazás segítségével\, amelyhez az alábbi linken lehet csatlakozni: https://us02web.zoom.us/j/85991747314 \n\n\n\nÉrdeklőni az info@zen.hu e-mail címen lehetséges.
URL:https://tkbe.hu/esemeny/zen-szertartas-es-beszelgetes-2/2026-03-04/
LOCATION:A Tan Kapuja Buddhista Főiskola Sarokdharma terme\, Börzsöny u. 11.\, Budapest\, 1098\, Magyarország
ATTACH;FMTTYPE=image/jpeg:https://tkbe.hu/wp-content/uploads/2024/05/zazen-mudra-e1771604752355.jpg
ORGANIZER;CN="A Tan Kapuja Zen K%C3%B6z%C3%B6ss%C3%A9g":MAILTO:info@zen.hu
END:VEVENT
BEGIN:VEVENT
DTSTART;TZID=Europe/Budapest:20260309T180000
DTEND;TZID=Europe/Budapest:20260309T190000
DTSTAMP:20260423T110014
CREATED:20260205T150537Z
LAST-MODIFIED:20260205T150742Z
UID:10002218-1773079200-1773082800@tkbe.hu
SUMMARY:Kezdő-újrakezdő sakuhacsi-kurzus
DESCRIPTION:A Zen Akadémia kezdő-újrakezdő japán bambuszfuvola (sakuhacsi) tanfolyamot hirdet. A kurzus 12 alkalomból áll\, a foglalkozások 60 percesek és hétfői napokon kerülnek megrendezésre.  \n\n\n\nElső alkalom: 2026. február 9.\, hétfő\, 18.00 \n\n\n\nHelyszín: A Tan Kapuja Buddhista Főiskola\, Új épület\, 1. emelet\, Zen terem (Budapest 1098 Csengettyű u. 3.) \n\n\n\nA kurzushoz semmilyen zenei előképzettség nem szükséges. \n\n\n\nTanulóhangszer kölcsönözhető!  \n\n\n\nOnline részvételi lehetőséget is biztosítunk.  \n\n\n\nRészvétel: ajánlott adománnyal  \n\n\n\nA kurzust vezeti: Kenéz László \n\n\n\nJelentkezés\, további információ: info@zenakademia.hu
URL:https://tkbe.hu/esemeny/kezdo-ujrakezdo-sakuhacsi-kurzus/2026-03-09/
ATTACH;FMTTYPE=image/jpeg:https://tkbe.hu/wp-content/uploads/2026/02/482051421_949954720659375_495177559110270418_n.jpg
END:VEVENT
BEGIN:VEVENT
DTSTART;TZID=Europe/Budapest:20260310T180000
DTEND;TZID=Europe/Budapest:20260310T190000
DTSTAMP:20260423T110014
CREATED:20251218T103511Z
LAST-MODIFIED:20251218T103636Z
UID:10001954-1773165600-1773169200@tkbe.hu
SUMMARY:Meditáció A Tan Szigete Közösség szervezésében
DESCRIPTION:A Tan Szigete Közösség (Dhammadípaszangha) személyes jelenlét mellett tartja meg meditációs alkalmait\, melyre mindenkit szeretettel várnak A Tan Kapuja Buddhista Főiskolán. \n\n\n\n\nA közös meditációs gyakorlásokon a théraváda vonalhoz tartozó\, thai erdei szerzetesrend meditációs gyakorlatával lehet megismerkedni. \n\n\n\nA meditációt vezetik: A Tan Szigete Közösség dharmatanítói\, valamint vendég tanítók. \n\n\n\nA gyakorláshoz lehetőség van online formában is csatlakozni. \n\n\n\nMEGKÉRJÜK A CSATLAKOZÓKAT\, HOGY AMIKOR BELÉPNEK AZ ONLINE MEDITÁCIÓS TEREMBE\, LEGYENEK SZÍVESEK ÉS KAPCSOLJÁK KI A MIKROFONJUKAT\, hogy senkit ne zavarjunk meg a gyakorlásban.Köszönet érte! \n\n\n\nA meditációra 17:50 és 18:05 között lehet bejelentkezni. \n\n\n\nLINK: https://meet.google.com/wwi-pufx-penMEET alkalmazáson belüli meeting code: wwi-pufx-pen
URL:https://tkbe.hu/esemeny/meditacio-a-tan-szigete-kozosseg-szervezeseben-8/2026-03-10/
LOCATION:A Tan Kapuja Buddhista Főiskola – Zen terem\, Csengettyű u. 3.\, Budapest\, 1098\, Hungary
ATTACH;FMTTYPE=image/jpeg:https://tkbe.hu/wp-content/uploads/2024/09/KAL07723-scaled.jpg
END:VEVENT
BEGIN:VEVENT
DTSTART;TZID=Europe/Budapest:20260311T180000
DTEND;TZID=Europe/Budapest:20260311T210000
DTSTAMP:20260423T110014
CREATED:20240530T073518Z
LAST-MODIFIED:20260223T090108Z
UID:10001284-1773252000-1773262800@tkbe.hu
SUMMARY:Zen szertartás és beszélgetés
DESCRIPTION:A Tan Kapuja Zen Közösség közös gyakorlást és zen szertartást tart minden szerdán a Börzsöny utcai Dharma-teremben 18:00 órai kezdettel. A szertartáson szívesen látnak érdeklődőket is\, akik szeretnék megismerni a zen gyakorlatát. \n\n\n\n\nAzok részére\, akik nem tudnak részt venni a jelenléti szertartáson\, lehetőség van az online szertartáson részvenni! \n\n\n\n\nAz online szertartást 18:00 órai kezdettel tartják a Zoom alkalmazás segítségével\, amelyhez az alábbi linken lehet csatlakozni: https://us02web.zoom.us/j/85991747314 \n\n\n\nÉrdeklőni az info@zen.hu e-mail címen lehetséges.
URL:https://tkbe.hu/esemeny/zen-szertartas-es-beszelgetes-2/2026-03-11/
LOCATION:A Tan Kapuja Buddhista Főiskola Sarokdharma terme\, Börzsöny u. 11.\, Budapest\, 1098\, Magyarország
ATTACH;FMTTYPE=image/jpeg:https://tkbe.hu/wp-content/uploads/2024/05/zazen-mudra-e1771604752355.jpg
ORGANIZER;CN="A Tan Kapuja Zen K%C3%B6z%C3%B6ss%C3%A9g":MAILTO:info@zen.hu
END:VEVENT
BEGIN:VEVENT
DTSTART;TZID=Europe/Budapest:20260316T180000
DTEND;TZID=Europe/Budapest:20260316T190000
DTSTAMP:20260423T110014
CREATED:20260205T150537Z
LAST-MODIFIED:20260205T150742Z
UID:10002219-1773684000-1773687600@tkbe.hu
SUMMARY:Kezdő-újrakezdő sakuhacsi-kurzus
DESCRIPTION:A Zen Akadémia kezdő-újrakezdő japán bambuszfuvola (sakuhacsi) tanfolyamot hirdet. A kurzus 12 alkalomból áll\, a foglalkozások 60 percesek és hétfői napokon kerülnek megrendezésre.  \n\n\n\nElső alkalom: 2026. február 9.\, hétfő\, 18.00 \n\n\n\nHelyszín: A Tan Kapuja Buddhista Főiskola\, Új épület\, 1. emelet\, Zen terem (Budapest 1098 Csengettyű u. 3.) \n\n\n\nA kurzushoz semmilyen zenei előképzettség nem szükséges. \n\n\n\nTanulóhangszer kölcsönözhető!  \n\n\n\nOnline részvételi lehetőséget is biztosítunk.  \n\n\n\nRészvétel: ajánlott adománnyal  \n\n\n\nA kurzust vezeti: Kenéz László \n\n\n\nJelentkezés\, további információ: info@zenakademia.hu
URL:https://tkbe.hu/esemeny/kezdo-ujrakezdo-sakuhacsi-kurzus/2026-03-16/
ATTACH;FMTTYPE=image/jpeg:https://tkbe.hu/wp-content/uploads/2026/02/482051421_949954720659375_495177559110270418_n.jpg
END:VEVENT
BEGIN:VEVENT
DTSTART;TZID=Europe/Budapest:20260317T180000
DTEND;TZID=Europe/Budapest:20260317T190000
DTSTAMP:20260423T110014
CREATED:20251218T103511Z
LAST-MODIFIED:20251218T103636Z
UID:10001955-1773770400-1773774000@tkbe.hu
SUMMARY:Meditáció A Tan Szigete Közösség szervezésében
DESCRIPTION:A Tan Szigete Közösség (Dhammadípaszangha) személyes jelenlét mellett tartja meg meditációs alkalmait\, melyre mindenkit szeretettel várnak A Tan Kapuja Buddhista Főiskolán. \n\n\n\n\nA közös meditációs gyakorlásokon a théraváda vonalhoz tartozó\, thai erdei szerzetesrend meditációs gyakorlatával lehet megismerkedni. \n\n\n\nA meditációt vezetik: A Tan Szigete Közösség dharmatanítói\, valamint vendég tanítók. \n\n\n\nA gyakorláshoz lehetőség van online formában is csatlakozni. \n\n\n\nMEGKÉRJÜK A CSATLAKOZÓKAT\, HOGY AMIKOR BELÉPNEK AZ ONLINE MEDITÁCIÓS TEREMBE\, LEGYENEK SZÍVESEK ÉS KAPCSOLJÁK KI A MIKROFONJUKAT\, hogy senkit ne zavarjunk meg a gyakorlásban.Köszönet érte! \n\n\n\nA meditációra 17:50 és 18:05 között lehet bejelentkezni. \n\n\n\nLINK: https://meet.google.com/wwi-pufx-penMEET alkalmazáson belüli meeting code: wwi-pufx-pen
URL:https://tkbe.hu/esemeny/meditacio-a-tan-szigete-kozosseg-szervezeseben-8/2026-03-17/
LOCATION:A Tan Kapuja Buddhista Főiskola – Zen terem\, Csengettyű u. 3.\, Budapest\, 1098\, Hungary
ATTACH;FMTTYPE=image/jpeg:https://tkbe.hu/wp-content/uploads/2024/09/KAL07723-scaled.jpg
END:VEVENT
BEGIN:VEVENT
DTSTART;TZID=Europe/Budapest:20260318T180000
DTEND;TZID=Europe/Budapest:20260318T210000
DTSTAMP:20260423T110014
CREATED:20240530T073518Z
LAST-MODIFIED:20260223T090108Z
UID:10001285-1773856800-1773867600@tkbe.hu
SUMMARY:Zen szertartás és beszélgetés
DESCRIPTION:A Tan Kapuja Zen Közösség közös gyakorlást és zen szertartást tart minden szerdán a Börzsöny utcai Dharma-teremben 18:00 órai kezdettel. A szertartáson szívesen látnak érdeklődőket is\, akik szeretnék megismerni a zen gyakorlatát. \n\n\n\n\nAzok részére\, akik nem tudnak részt venni a jelenléti szertartáson\, lehetőség van az online szertartáson részvenni! \n\n\n\n\nAz online szertartást 18:00 órai kezdettel tartják a Zoom alkalmazás segítségével\, amelyhez az alábbi linken lehet csatlakozni: https://us02web.zoom.us/j/85991747314 \n\n\n\nÉrdeklőni az info@zen.hu e-mail címen lehetséges.
URL:https://tkbe.hu/esemeny/zen-szertartas-es-beszelgetes-2/2026-03-18/
LOCATION:A Tan Kapuja Buddhista Főiskola Sarokdharma terme\, Börzsöny u. 11.\, Budapest\, 1098\, Magyarország
ATTACH;FMTTYPE=image/jpeg:https://tkbe.hu/wp-content/uploads/2024/05/zazen-mudra-e1771604752355.jpg
ORGANIZER;CN="A Tan Kapuja Zen K%C3%B6z%C3%B6ss%C3%A9g":MAILTO:info@zen.hu
END:VEVENT
BEGIN:VEVENT
DTSTART;TZID=Europe/Budapest:20260323T180000
DTEND;TZID=Europe/Budapest:20260323T190000
DTSTAMP:20260423T110014
CREATED:20260205T150537Z
LAST-MODIFIED:20260205T150742Z
UID:10002220-1774288800-1774292400@tkbe.hu
SUMMARY:Kezdő-újrakezdő sakuhacsi-kurzus
DESCRIPTION:A Zen Akadémia kezdő-újrakezdő japán bambuszfuvola (sakuhacsi) tanfolyamot hirdet. A kurzus 12 alkalomból áll\, a foglalkozások 60 percesek és hétfői napokon kerülnek megrendezésre.  \n\n\n\nElső alkalom: 2026. február 9.\, hétfő\, 18.00 \n\n\n\nHelyszín: A Tan Kapuja Buddhista Főiskola\, Új épület\, 1. emelet\, Zen terem (Budapest 1098 Csengettyű u. 3.) \n\n\n\nA kurzushoz semmilyen zenei előképzettség nem szükséges. \n\n\n\nTanulóhangszer kölcsönözhető!  \n\n\n\nOnline részvételi lehetőséget is biztosítunk.  \n\n\n\nRészvétel: ajánlott adománnyal  \n\n\n\nA kurzust vezeti: Kenéz László \n\n\n\nJelentkezés\, további információ: info@zenakademia.hu
URL:https://tkbe.hu/esemeny/kezdo-ujrakezdo-sakuhacsi-kurzus/2026-03-23/
ATTACH;FMTTYPE=image/jpeg:https://tkbe.hu/wp-content/uploads/2026/02/482051421_949954720659375_495177559110270418_n.jpg
END:VEVENT
BEGIN:VEVENT
DTSTART;TZID=Europe/Budapest:20260324T180000
DTEND;TZID=Europe/Budapest:20260324T190000
DTSTAMP:20260423T110014
CREATED:20251218T103511Z
LAST-MODIFIED:20251218T103636Z
UID:10001956-1774375200-1774378800@tkbe.hu
SUMMARY:Meditáció A Tan Szigete Közösség szervezésében
DESCRIPTION:A Tan Szigete Közösség (Dhammadípaszangha) személyes jelenlét mellett tartja meg meditációs alkalmait\, melyre mindenkit szeretettel várnak A Tan Kapuja Buddhista Főiskolán. \n\n\n\n\nA közös meditációs gyakorlásokon a théraváda vonalhoz tartozó\, thai erdei szerzetesrend meditációs gyakorlatával lehet megismerkedni. \n\n\n\nA meditációt vezetik: A Tan Szigete Közösség dharmatanítói\, valamint vendég tanítók. \n\n\n\nA gyakorláshoz lehetőség van online formában is csatlakozni. \n\n\n\nMEGKÉRJÜK A CSATLAKOZÓKAT\, HOGY AMIKOR BELÉPNEK AZ ONLINE MEDITÁCIÓS TEREMBE\, LEGYENEK SZÍVESEK ÉS KAPCSOLJÁK KI A MIKROFONJUKAT\, hogy senkit ne zavarjunk meg a gyakorlásban.Köszönet érte! \n\n\n\nA meditációra 17:50 és 18:05 között lehet bejelentkezni. \n\n\n\nLINK: https://meet.google.com/wwi-pufx-penMEET alkalmazáson belüli meeting code: wwi-pufx-pen
URL:https://tkbe.hu/esemeny/meditacio-a-tan-szigete-kozosseg-szervezeseben-8/2026-03-24/
LOCATION:A Tan Kapuja Buddhista Főiskola – Zen terem\, Csengettyű u. 3.\, Budapest\, 1098\, Hungary
ATTACH;FMTTYPE=image/jpeg:https://tkbe.hu/wp-content/uploads/2024/09/KAL07723-scaled.jpg
END:VEVENT
BEGIN:VEVENT
DTSTART;TZID=Europe/Budapest:20260325T180000
DTEND;TZID=Europe/Budapest:20260325T210000
DTSTAMP:20260423T110014
CREATED:20240530T073518Z
LAST-MODIFIED:20260223T090108Z
UID:10001286-1774461600-1774472400@tkbe.hu
SUMMARY:Zen szertartás és beszélgetés
DESCRIPTION:A Tan Kapuja Zen Közösség közös gyakorlást és zen szertartást tart minden szerdán a Börzsöny utcai Dharma-teremben 18:00 órai kezdettel. A szertartáson szívesen látnak érdeklődőket is\, akik szeretnék megismerni a zen gyakorlatát. \n\n\n\n\nAzok részére\, akik nem tudnak részt venni a jelenléti szertartáson\, lehetőség van az online szertartáson részvenni! \n\n\n\n\nAz online szertartást 18:00 órai kezdettel tartják a Zoom alkalmazás segítségével\, amelyhez az alábbi linken lehet csatlakozni: https://us02web.zoom.us/j/85991747314 \n\n\n\nÉrdeklőni az info@zen.hu e-mail címen lehetséges.
URL:https://tkbe.hu/esemeny/zen-szertartas-es-beszelgetes-2/2026-03-25/
LOCATION:A Tan Kapuja Buddhista Főiskola Sarokdharma terme\, Börzsöny u. 11.\, Budapest\, 1098\, Magyarország
ATTACH;FMTTYPE=image/jpeg:https://tkbe.hu/wp-content/uploads/2024/05/zazen-mudra-e1771604752355.jpg
ORGANIZER;CN="A Tan Kapuja Zen K%C3%B6z%C3%B6ss%C3%A9g":MAILTO:info@zen.hu
END:VEVENT
BEGIN:VEVENT
DTSTART;TZID=Europe/Budapest:20260326T190000
DTEND;TZID=Europe/Budapest:20260326T213000
DTSTAMP:20260423T110014
CREATED:20251218T104309Z
LAST-MODIFIED:20251218T104433Z
UID:10001518-1774551600-1774560600@tkbe.hu
SUMMARY:Gyógyító Buddha gyakorlás
DESCRIPTION:Gyógyító Buddha gyakorlásra invitál minden kedves érdeklődőt a Gyógyító Buddha Közössége gyakorlócsoport minden hónap utolsó csütörtökén 18 órától az online térben. \n\n\n\n\nA gyakorlás pontos menetrendje:19.00-19.30: CáLung gyakorlat19.30-20.00: Siné (Samatha) meditáció20.00-20.30: Lhagtong (Vipasszana) meditáció20.30-21:30: Gyógyító Buddha vagy Cewang Rigdzin hosszú élet gyakorlata. \n\n\n\nA gyakorlást Jakab Katalin\, a Főiskola egykori tanítója\, Gyógyító Buddha beavatással rendelkező gyakorlatvezető tartja.A gyakorláson való részvétel felajánlás alapú\, illetve minden indokolt esetben ingyenes. \n\n\n\nMindenkit szeretettel várnak! \n\n\n\nA gyakorlásra az alábbi (Google MEET) linken várják az érdeklődőket: kattintson ide.
URL:https://tkbe.hu/esemeny/gyogyito-buddha-gyakorlas-3/2026-03-26/
LOCATION:online
ATTACH;FMTTYPE=image/jpeg:https://tkbe.hu/wp-content/uploads/2024/04/buddha-weekly-0mantra-around-medicine-buddha-3mflvW.tmp_.jpg
ORGANIZER;CN="Jakab Katalin":MAILTO:jakabk@tkbf.hu
END:VEVENT
BEGIN:VEVENT
DTSTART;TZID=Europe/Budapest:20260330T180000
DTEND;TZID=Europe/Budapest:20260330T190000
DTSTAMP:20260423T110014
CREATED:20260205T150537Z
LAST-MODIFIED:20260205T150742Z
UID:10002221-1774893600-1774897200@tkbe.hu
SUMMARY:Kezdő-újrakezdő sakuhacsi-kurzus
DESCRIPTION:A Zen Akadémia kezdő-újrakezdő japán bambuszfuvola (sakuhacsi) tanfolyamot hirdet. A kurzus 12 alkalomból áll\, a foglalkozások 60 percesek és hétfői napokon kerülnek megrendezésre.  \n\n\n\nElső alkalom: 2026. február 9.\, hétfő\, 18.00 \n\n\n\nHelyszín: A Tan Kapuja Buddhista Főiskola\, Új épület\, 1. emelet\, Zen terem (Budapest 1098 Csengettyű u. 3.) \n\n\n\nA kurzushoz semmilyen zenei előképzettség nem szükséges. \n\n\n\nTanulóhangszer kölcsönözhető!  \n\n\n\nOnline részvételi lehetőséget is biztosítunk.  \n\n\n\nRészvétel: ajánlott adománnyal  \n\n\n\nA kurzust vezeti: Kenéz László \n\n\n\nJelentkezés\, további információ: info@zenakademia.hu
URL:https://tkbe.hu/esemeny/kezdo-ujrakezdo-sakuhacsi-kurzus/2026-03-30/
ATTACH;FMTTYPE=image/jpeg:https://tkbe.hu/wp-content/uploads/2026/02/482051421_949954720659375_495177559110270418_n.jpg
END:VEVENT
BEGIN:VEVENT
DTSTART;TZID=Europe/Budapest:20260331T180000
DTEND;TZID=Europe/Budapest:20260331T190000
DTSTAMP:20260423T110014
CREATED:20251218T103511Z
LAST-MODIFIED:20251218T103636Z
UID:10001957-1774980000-1774983600@tkbe.hu
SUMMARY:Meditáció A Tan Szigete Közösség szervezésében
DESCRIPTION:A Tan Szigete Közösség (Dhammadípaszangha) személyes jelenlét mellett tartja meg meditációs alkalmait\, melyre mindenkit szeretettel várnak A Tan Kapuja Buddhista Főiskolán. \n\n\n\n\nA közös meditációs gyakorlásokon a théraváda vonalhoz tartozó\, thai erdei szerzetesrend meditációs gyakorlatával lehet megismerkedni. \n\n\n\nA meditációt vezetik: A Tan Szigete Közösség dharmatanítói\, valamint vendég tanítók. \n\n\n\nA gyakorláshoz lehetőség van online formában is csatlakozni. \n\n\n\nMEGKÉRJÜK A CSATLAKOZÓKAT\, HOGY AMIKOR BELÉPNEK AZ ONLINE MEDITÁCIÓS TEREMBE\, LEGYENEK SZÍVESEK ÉS KAPCSOLJÁK KI A MIKROFONJUKAT\, hogy senkit ne zavarjunk meg a gyakorlásban.Köszönet érte! \n\n\n\nA meditációra 17:50 és 18:05 között lehet bejelentkezni. \n\n\n\nLINK: https://meet.google.com/wwi-pufx-penMEET alkalmazáson belüli meeting code: wwi-pufx-pen
URL:https://tkbe.hu/esemeny/meditacio-a-tan-szigete-kozosseg-szervezeseben-8/2026-03-31/
LOCATION:A Tan Kapuja Buddhista Főiskola – Zen terem\, Csengettyű u. 3.\, Budapest\, 1098\, Hungary
ATTACH;FMTTYPE=image/jpeg:https://tkbe.hu/wp-content/uploads/2024/09/KAL07723-scaled.jpg
END:VEVENT
END:VCALENDAR