BEGIN:VCALENDAR
VERSION:2.0
PRODID:-//A Tan Kapuja Buddhista Egyház - ECPv6.15.20//NONSGML v1.0//EN
CALSCALE:GREGORIAN
METHOD:PUBLISH
X-WR-CALNAME:A Tan Kapuja Buddhista Egyház
X-ORIGINAL-URL:https://tkbe.hu
X-WR-CALDESC:Események A Tan Kapuja Buddhista Egyház
REFRESH-INTERVAL;VALUE=DURATION:PT1H
X-Robots-Tag:noindex
X-PUBLISHED-TTL:PT1H
BEGIN:VTIMEZONE
TZID:Europe/Budapest
BEGIN:DAYLIGHT
TZOFFSETFROM:+0100
TZOFFSETTO:+0200
TZNAME:CEST
DTSTART:20190331T010000
END:DAYLIGHT
BEGIN:STANDARD
TZOFFSETFROM:+0200
TZOFFSETTO:+0100
TZNAME:CET
DTSTART:20191027T010000
END:STANDARD
BEGIN:DAYLIGHT
TZOFFSETFROM:+0100
TZOFFSETTO:+0200
TZNAME:CEST
DTSTART:20200329T010000
END:DAYLIGHT
BEGIN:STANDARD
TZOFFSETFROM:+0200
TZOFFSETTO:+0100
TZNAME:CET
DTSTART:20201025T010000
END:STANDARD
BEGIN:DAYLIGHT
TZOFFSETFROM:+0100
TZOFFSETTO:+0200
TZNAME:CEST
DTSTART:20210328T010000
END:DAYLIGHT
BEGIN:STANDARD
TZOFFSETFROM:+0200
TZOFFSETTO:+0100
TZNAME:CET
DTSTART:20211031T010000
END:STANDARD
END:VTIMEZONE
BEGIN:VEVENT
DTSTART;TZID=Europe/Budapest:20200507T180000
DTEND;TZID=Europe/Budapest:20200507T200000
DTSTAMP:20260421T205417
CREATED:20240427T181611Z
LAST-MODIFIED:20240427T181611Z
UID:10000285-1588874400-1588881600@tkbe.hu
SUMMARY:Vészák-ünnepség online
DESCRIPTION:A Tan Kapuja Buddhista Egyház idén is megrendezi a Buddha születése\, megvilágosodása és parinirvánába távozásának ünnepét\, ezúttal történetünk során először online formában. \n\nAz idei évben a rendkívüli helyzetre való tekintettel\, a legnagyobb buddhista ünnepet\, a májusi teliholdra eső Vészákot online formában tartja meg A Tan Kapuja Buddhista Egyház\, melyhez így bárki csatlakozhat\, a világ bármely pontjáról. \nDharmabeszédet mond: Mireisz László (az egyház elnöke).A szertartást vezetik: Cser Zoltán (az egyház igazgatója) és Dobosy Antal (A Tan Kapuja Zen közösség apátja) \nAz ünnepség élőben követhető a https://www.tkbe.hu/live linkre kattintva\, 2020.05.07-én 18 órától. \nAz ünnepséghez csatlakozóknak\, mielőtt leülnek a képernyő elé érdemes maguk elé készíteni egy kis Buddha szobrot\, egy gyertyát (vagy mécsest) és egy füstölőt! \nSzeretettel várja a közösségek gyakorlóit\, minden volt és jelenlegi diákját\, valamint minden kedves barátját és az érdeklődőket A Tan Kapuja Buddhista Egyház! \nFotó: Ganesh Kumar B N (Unsplash)
URL:https://tkbe.hu/esemeny/veszak-unnepseg-online/
LOCATION:Ahol éppen tartózkodsz és van interneted
ORGANIZER;CN="info@tkbe.hu":MAILTO:info@tkbe.hu
END:VEVENT
BEGIN:VEVENT
DTSTART;TZID=Europe/Budapest:20200409T173000
DTEND;TZID=Europe/Budapest:20200409T183000
DTSTAMP:20260421T205417
CREATED:20240428T150301Z
LAST-MODIFIED:20240428T150301Z
UID:10000509-1586453400-1586457000@tkbe.hu
SUMMARY:A békés tudat jógája (online)
DESCRIPTION:A koronavírus okozta rendkívüli helyzetre való tekintettel A Tan Kapuja közösség vezetői és tanítói\, közös gyakorlásra invitálnak minden kedves érdeklődőt! Minden csütörtökön A békés tudat jógája\, Irtl Melindával. \n\nA csütörtökönkénti jóga gyakorlás célja a test és a tudat kiegyensúlyozott\, békés állapotának a támogatása\, fenntartása. Egyszerű\, mindenki számára biztonságos energiablokk-oldó gyakorlatok\, légzések\, mudrák\, elcsendesedés gyakorlatok\, melyeket kortól függetlenül és jógában való jártasság nélkül is végezhetünk otthonunkban. \nVezeti: Földiné Irtl Melinda\, A Tan Kapuja Buddhista Főiskola tanítója \nA közös gyakorlás elérhető a erre a linkre kattintva: https://meet.google.com/joy-tcxf-obk \nMEET alkalmazáson belüli meeting code: joy-tcxf-obk
URL:https://tkbe.hu/esemeny/a-bekes-tudat-jogaja-online/
LOCATION:Ahol éppen tartózkodsz és van interneted
ATTACH;FMTTYPE=image/jpeg:https://tkbe.hu/wp-content/uploads/2024/04/yogadaybudapest_13_of_33-gu5Xn8.tmp_.jpg
END:VEVENT
BEGIN:VEVENT
DTSTART;TZID=Europe/Budapest:20200408T180000
DTEND;TZID=Europe/Budapest:20200408T193000
DTSTAMP:20260421T205417
CREATED:20240427T181426Z
LAST-MODIFIED:20240427T181426Z
UID:10000255-1586368800-1586374200@tkbe.hu
SUMMARY:Teliholdas meditáció és tanítás (online)
DESCRIPTION:A Tan Szigete Közösség (Dhammadípaszangha)\, a rendkívüli helyzetre való tekintettel a péntekenkénti rendszeres közös meditációs gyakorlás mellett\, a különleges Telihold ünnepet is az online térbe helyezi át. \n\nA következő teliholdas meditációra és tanításra 2020.04.08-án\, szerdán 18:00 órától 19:30-ig kerül sor. \nAz online tanítást Farkas Pál vezeti. \nA tanítás középpontjában a Bhayabherava Sutta áll majd\, vagyis a félelemről és rettegésről szóló tanítóbeszéd\, amelyet a közösség weboldalán\, az alábbi linken lehet elolvasni: Bhayabherava Sutta \nA gyakorlás során előkerül még Az ártalmatlanság fohásza\, a Szeretetről szóló tanítóbeszéd\, valamint a Gyakran emlékezetbe idézendő szövegek. Ezek mindegyikét a közösség weboldalán\, a következő linken lehet elolvasni: A Tan Sziget Közösség énekeskönyve \nAz eseményhez a lenti MEET-link birtokában bárki csatlakozhat\, a csatlakozni tudó felhasználók száma azonban limitált (250 fő). \nMEGKÉRJÜK A CSATLAKOZÓKAT\, HOGY AMIKOR BELÉPNEK AZ ONLINE MEDITÁCIÓS TEREMBE\, LEGYENEK SZÍVESEK ÉS KAPCSOLJÁK KI A MIKROFONJUKAT\, hogy senkit ne zavarjunk meg a gyakorlásban.Köszönet érte! \nLINK:https://meet.google.com/_meet/nrx-dxnv-tsi?hs=122 \nMEET alkalmazáson belüli meeting code: nrx-dxnv-tsi \nMindenkit szeretettel vár A Tan Szigete – Dhammadípa Közösség! \n \nFotó: Ines Gemein on Unsplash
URL:https://tkbe.hu/esemeny/teliholdas-meditacio-es-tanitas-online/
LOCATION:Ahol éppen tartózkodsz és van interneted
ATTACH;FMTTYPE=image/jpeg:https://tkbe.hu/wp-content/uploads/2024/04/ines-gemein-h0q8c2e9vem-unsplash-eb2TeY.tmp_-scaled.jpg
END:VEVENT
BEGIN:VEVENT
DTSTART;TZID=Europe/Budapest:20200331T180000
DTEND;TZID=Europe/Budapest:20200331T190000
DTSTAMP:20260421T205417
CREATED:20240428T150314Z
LAST-MODIFIED:20240428T150314Z
UID:10000512-1585677600-1585681200@tkbe.hu
SUMMARY:Közös (online) meditáció Cser Zoltán vezetésével
DESCRIPTION:Cser Zoltán A Tan Kapuja Buddhista Egyház igazgatója és A Tan Kapuja Buddhista Főiskola tanítója tart közös\, online gyakorlást a koronavírus okozta rendkívüli helyzet idején. \n\nA gyakorlás rövid átmozgatós gyakorlattal kezdődik\, hogy megalapozzuk az ülő testhelyzetet. A megfelelő testtartás felvétele után a légzésen lesz a fő hangsúly\, orrlyuk\, alhas\, folytonos\, majd a teres légzés gyakorlataival erősítjük meg a jelenlétet és a teres tudatot. A Négy Mérhetetlen gyakorlatával folytatjuk\, végül pedig Őszentsége a Dalai Láma ezekre a nehéz időkre javasolt gyakorlatával\, a Zöld Tára mantra éneklésével zárjuk a sort. \nA közvetítés elérhető a fenti időpontban a https://tkbe.hu/live linken.
URL:https://tkbe.hu/esemeny/kozos-online-meditacio-cser-zoltan-vezetesevel/
LOCATION:Ahol éppen tartózkodsz és van interneted
ATTACH;FMTTYPE=image/jpeg:https://tkbe.hu/wp-content/uploads/2024/04/csermedikedd-fohMGB.tmp_.jpg
END:VEVENT
END:VCALENDAR