BEGIN:VCALENDAR
VERSION:2.0
PRODID:-//A Tan Kapuja Buddhista Egyház - ECPv6.15.20//NONSGML v1.0//EN
CALSCALE:GREGORIAN
METHOD:PUBLISH
X-ORIGINAL-URL:https://tkbe.hu
X-WR-CALDESC:Események A Tan Kapuja Buddhista Egyház
REFRESH-INTERVAL;VALUE=DURATION:PT1H
X-Robots-Tag:noindex
X-PUBLISHED-TTL:PT1H
BEGIN:VTIMEZONE
TZID:Europe/Budapest
BEGIN:DAYLIGHT
TZOFFSETFROM:+0100
TZOFFSETTO:+0200
TZNAME:CEST
DTSTART:20180325T010000
END:DAYLIGHT
BEGIN:STANDARD
TZOFFSETFROM:+0200
TZOFFSETTO:+0100
TZNAME:CET
DTSTART:20181028T010000
END:STANDARD
BEGIN:DAYLIGHT
TZOFFSETFROM:+0100
TZOFFSETTO:+0200
TZNAME:CEST
DTSTART:20190331T010000
END:DAYLIGHT
BEGIN:STANDARD
TZOFFSETFROM:+0200
TZOFFSETTO:+0100
TZNAME:CET
DTSTART:20191027T010000
END:STANDARD
BEGIN:DAYLIGHT
TZOFFSETFROM:+0100
TZOFFSETTO:+0200
TZNAME:CEST
DTSTART:20200329T010000
END:DAYLIGHT
BEGIN:STANDARD
TZOFFSETFROM:+0200
TZOFFSETTO:+0100
TZNAME:CET
DTSTART:20201025T010000
END:STANDARD
END:VTIMEZONE
BEGIN:VEVENT
DTSTART;TZID=Europe/Budapest:20190518T150000
DTEND;TZID=Europe/Budapest:20190518T163000
DTSTAMP:20260423T195024
CREATED:20240427T181652Z
LAST-MODIFIED:20240427T181652Z
UID:10000295-1558191600-1558197000@tkbe.hu
SUMMARY:ZAZEN - Zen gyakorlás a mindennapi életben
DESCRIPTION:Barna Mokurin Gyula zen mester előadása és bevezetés a zazen gyakorlásába. \n\nAz előadáson minden érdeklődő betekintést nyerhet a zen buddhizmusba\, megismerkedhet a zazen (zenmeditáció) egyetemes gyakorlásával. A zazen egy közvetlen tapasztalás\, túl minden elméleten\, izmuson éskategórián. Mindenki számára elérhető\, nyelvtől\, életkortól\, kulturális és vallási hovatartozástól függetlenü.Az előadás ingyenes\, mindenkit szeretettel várunk!
URL:https://tkbe.hu/esemeny/zazen-zen-gyakorlas-a-mindennapi-eletben/
LOCATION:Bácskai Kultúrpalota\, Szentháromság tér 3.\, Baja
ATTACH;FMTTYPE=image/jpeg:https://tkbe.hu/wp-content/uploads/2024/04/zazen-folyo-J4DKui.tmp_.jpg
END:VEVENT
END:VCALENDAR