BEGIN:VCALENDAR
VERSION:2.0
PRODID:-//A Tan Kapuja Buddhista Egyház - ECPv6.15.20//NONSGML v1.0//EN
CALSCALE:GREGORIAN
METHOD:PUBLISH
X-WR-CALNAME:A Tan Kapuja Buddhista Egyház
X-ORIGINAL-URL:https://tkbe.hu
X-WR-CALDESC:Események A Tan Kapuja Buddhista Egyház
REFRESH-INTERVAL;VALUE=DURATION:PT1H
X-Robots-Tag:noindex
X-PUBLISHED-TTL:PT1H
BEGIN:VTIMEZONE
TZID:Europe/Budapest
BEGIN:DAYLIGHT
TZOFFSETFROM:+0100
TZOFFSETTO:+0200
TZNAME:CEST
DTSTART:20170326T010000
END:DAYLIGHT
BEGIN:STANDARD
TZOFFSETFROM:+0200
TZOFFSETTO:+0100
TZNAME:CET
DTSTART:20171029T010000
END:STANDARD
BEGIN:DAYLIGHT
TZOFFSETFROM:+0100
TZOFFSETTO:+0200
TZNAME:CEST
DTSTART:20180325T010000
END:DAYLIGHT
BEGIN:STANDARD
TZOFFSETFROM:+0200
TZOFFSETTO:+0100
TZNAME:CET
DTSTART:20181028T010000
END:STANDARD
BEGIN:DAYLIGHT
TZOFFSETFROM:+0100
TZOFFSETTO:+0200
TZNAME:CEST
DTSTART:20190331T010000
END:DAYLIGHT
BEGIN:STANDARD
TZOFFSETFROM:+0200
TZOFFSETTO:+0100
TZNAME:CET
DTSTART:20191027T010000
END:STANDARD
END:VTIMEZONE
BEGIN:VEVENT
DTSTART;TZID=Europe/Budapest:20180123T190000
DTEND;TZID=Europe/Budapest:20180128T234500
DTSTAMP:20260420T103103
CREATED:20240427T171715Z
LAST-MODIFIED:20240427T171715Z
UID:10000026-1516734000-1517183100@tkbe.hu
SUMMARY:Buddhista filmek a budapesti dokumentumfilm-szemlén
DESCRIPTION:Egy buddhista témájú film\, a Bhutánban játszódó A monostor gyermekei nyitja meg a kedden kezdődő Budapesti Nemzetközi Dokumentumfilm Fesztivált (BIDF). \n\nThe Next Guardian TRAILER (feature-length documentary\, 74 min.\, Bhutan-Hungary) from Éclipse Film on Vimeo. \nA versenyprogramban ezen kívül még egy buddhista film kapott helyet\, a Fizetős szerzetes\, mely egy thaiföldi fiatalról szól. \nMONK OF THE SEA – feature documentary trailer from skalski on Vimeo. \nA 2014-ben alapított Budapest International Documentary Festival (Budapesti Nemzetközi Dokumentumfilm Fesztivál) idén 4. alkalommal kerül megrendezésre.\nA világ közel 30 országából 50 különleges\, fesztiváldíjas\, Magyarországon először vetített alkotást tekinthetnek meg az emberi sorsok\, problémák és a társadalmi kérdések iránt nyitott nézők.Többek között látható lesz az Európa Filmdíjat nyert Anna Zamecka „Communion / Az én vérem” című dokumentumfilmje; két Oscar-jelölt dokumentumfilm: az „I am not your negro / Nem vagyok a rabszolgád” és a „Watani\, my Homeland / Hazám\, Watani”; valamint 7 Európa Filmdíjra jelölt film is szerepel a programban. \nA filmek vetítése után a közönség találkozhat az alkotókkal\, így a közönség közösséggé válik az élmények átélése és átbeszélése révén. \nA kreatív dokumentumfilmek rólunk szólnak és közel vannak hozzánk: valódi történeteket mesélnek el valóságos hősökről\, a sorsukat\, személyiségüket és helyzetüket bemutatva sokfajta nézőpontból\, ítélkezés nélkül. Szórakoztatnak\, megérintenek és gondolkodóba ejtenek. A filmek a legszélesebb érdeklődésre tarthatnak számot\, mivel sokrétű\, akut\, akár tabu témákat érintenek. A 2018-as fesztivál filmjeinek legfontosabb témái: oktatás – gyerekek – és család; generációs különbségek és változó világ; demokrácia – szabadság – és hatalom; másság. \nA fesztivál díjkiosztó gálája február 28-án\, vasárnap 18 órától lesz a Pesti Vigadóban. \nJegyvásárlás a mozi honlapján.
URL:https://tkbe.hu/esemeny/buddhista-filmek-a-budapesti-dokumentumfilm-szemlen/
LOCATION:Cinema City Aréna\, Kerepesi út 9.\, Budapest\, 1087
ATTACH;FMTTYPE=image/png:https://tkbe.hu/wp-content/uploads/2024/04/bidf_logo1-S9G86K.tmp_.png
END:VEVENT
END:VCALENDAR