BEGIN:VCALENDAR
VERSION:2.0
PRODID:-//A Tan Kapuja Buddhista Egyház - ECPv6.15.20//NONSGML v1.0//EN
CALSCALE:GREGORIAN
METHOD:PUBLISH
X-ORIGINAL-URL:https://tkbe.hu
X-WR-CALDESC:Események A Tan Kapuja Buddhista Egyház
REFRESH-INTERVAL;VALUE=DURATION:PT1H
X-Robots-Tag:noindex
X-PUBLISHED-TTL:PT1H
BEGIN:VTIMEZONE
TZID:Europe/Budapest
BEGIN:DAYLIGHT
TZOFFSETFROM:+0100
TZOFFSETTO:+0200
TZNAME:CEST
DTSTART:20180325T010000
END:DAYLIGHT
BEGIN:STANDARD
TZOFFSETFROM:+0200
TZOFFSETTO:+0100
TZNAME:CET
DTSTART:20181028T010000
END:STANDARD
BEGIN:DAYLIGHT
TZOFFSETFROM:+0100
TZOFFSETTO:+0200
TZNAME:CEST
DTSTART:20190331T010000
END:DAYLIGHT
BEGIN:STANDARD
TZOFFSETFROM:+0200
TZOFFSETTO:+0100
TZNAME:CET
DTSTART:20191027T010000
END:STANDARD
BEGIN:DAYLIGHT
TZOFFSETFROM:+0100
TZOFFSETTO:+0200
TZNAME:CEST
DTSTART:20200329T010000
END:DAYLIGHT
BEGIN:STANDARD
TZOFFSETFROM:+0200
TZOFFSETTO:+0100
TZNAME:CET
DTSTART:20201025T010000
END:STANDARD
END:VTIMEZONE
BEGIN:VEVENT
DTSTART;TZID=Europe/Budapest:20190314T110000
DTEND;TZID=Europe/Budapest:20190315T170000
DTSTAMP:20260419T154314
CREATED:20240427T172132Z
LAST-MODIFIED:20240427T172132Z
UID:10000041-1552561200-1552669200@tkbe.hu
SUMMARY:Jantra Jóga kurzus Szombathelyen
DESCRIPTION:Cser Zoltán\, 2. szintű oktató egy intenzív\, kezdő Jantra Jóga kurzusra invitálja azokat\, akik meg szeretnének ismerkedni a tibeti buddhista jóga világával\, és azon belül is a legrégibb mozgásrendszerrel. \n\nA kurzus két egymásra épülő napja magába foglalja a kilences tisztító légzést\, az ízületek lazítását\, a nyolc mozgást\, a cadült (vagyis az előkészítő gyakorlatokat)\, az 1. és 2. Jantra csoportokat. \nA kurzus felajánlás alapú.
URL:https://tkbe.hu/esemeny/jantra-joga-kurzus-szombathelyen/
LOCATION:ELTE Bolyai János Gyakorló Általános Iskola és Gimnázium\, alsó tornaterem\, Bólyai János utca 11.\, Szombathely\, 9700
ATTACH;FMTTYPE=image/jpeg:https://tkbe.hu/wp-content/uploads/2024/04/46918743_571189829969992_6844912379185070080_n-2Xov09.tmp_.jpg
ORGANIZER;CN="Cser Zolt%C3%A1n":MAILTO:cser.zoltan@tkbf.hu
END:VEVENT
END:VCALENDAR