BEGIN:VCALENDAR
VERSION:2.0
PRODID:-//A Tan Kapuja Buddhista Egyház - ECPv6.15.20//NONSGML v1.0//EN
CALSCALE:GREGORIAN
METHOD:PUBLISH
X-WR-CALNAME:A Tan Kapuja Buddhista Egyház
X-ORIGINAL-URL:https://tkbe.hu
X-WR-CALDESC:Események A Tan Kapuja Buddhista Egyház
REFRESH-INTERVAL;VALUE=DURATION:PT1H
X-Robots-Tag:noindex
X-PUBLISHED-TTL:PT1H
BEGIN:VTIMEZONE
TZID:Europe/Budapest
BEGIN:DAYLIGHT
TZOFFSETFROM:+0100
TZOFFSETTO:+0200
TZNAME:CEST
DTSTART:20160327T010000
END:DAYLIGHT
BEGIN:STANDARD
TZOFFSETFROM:+0200
TZOFFSETTO:+0100
TZNAME:CET
DTSTART:20161030T010000
END:STANDARD
BEGIN:DAYLIGHT
TZOFFSETFROM:+0100
TZOFFSETTO:+0200
TZNAME:CEST
DTSTART:20170326T010000
END:DAYLIGHT
BEGIN:STANDARD
TZOFFSETFROM:+0200
TZOFFSETTO:+0100
TZNAME:CET
DTSTART:20171029T010000
END:STANDARD
BEGIN:DAYLIGHT
TZOFFSETFROM:+0100
TZOFFSETTO:+0200
TZNAME:CEST
DTSTART:20180325T010000
END:DAYLIGHT
BEGIN:STANDARD
TZOFFSETFROM:+0200
TZOFFSETTO:+0100
TZNAME:CET
DTSTART:20181028T010000
END:STANDARD
END:VTIMEZONE
BEGIN:VEVENT
DTSTART;TZID=Europe/Budapest:20170603T100000
DTEND;TZID=Europe/Budapest:20170604T140000
DTSTAMP:20260425T122943
CREATED:20240427T173517Z
LAST-MODIFIED:20240427T173517Z
UID:10000075-1496484000-1496584800@tkbe.hu
SUMMARY:Nyílt nap a Mánfai Elvonulási Központban
DESCRIPTION:Június 3-án és 4-én nyílt napot tartunk a Mánfai Elvonulási Központban ahol a látogatók és érdeklődők közelebbről is megismerkedhetnek a buddhizmussal\, valamint magával az elvonulási központtal is. \n\nAz előadások mellett lehetőség lesz meditációs és jóga gyakorlatok kipróbálására is.A kerekasztal beszélgetések alatt meghívott előadók igyekeznek válaszolni a felmerülő kérdésekre.Estére a tábortűz és fényfestés mellett koncerttel is készülnek a szervezők.A gyerekeket egész napos játszóház várja.Lesz büfé teákkal\, szörpökkel és „mindenmentes” falatokkal. \nA nyílt nap ingyenesen látogatható. \nSzállásért kérjük\, lépjenek kapcsolatba a szervezőkkel a meka.program@gmail.com e-mail címen. \nA részletes program rövidesen elérhető lesz a Központ facebook-oldalán (link a bal oldalon).
URL:https://tkbe.hu/esemeny/nyilt-nap-a-manfai-elvonulasi-kozpontban/
LOCATION:Mánfa Buddhista Oktatási\, Kulturális és Elvonulási Központ\, Fábián Béla utca 87.\, Mánfa\, 7304
ATTACH;FMTTYPE=image/jpeg:https://tkbe.hu/wp-content/uploads/2024/04/manfa2_0-7LYtu0.tmp_.jpg
ORGANIZER;CN="meka.program@gmail.com":MAILTO:meka.program@gmail.com
END:VEVENT
END:VCALENDAR