BEGIN:VCALENDAR
VERSION:2.0
PRODID:-//A Tan Kapuja Buddhista Egyház - ECPv6.15.20//NONSGML v1.0//EN
CALSCALE:GREGORIAN
METHOD:PUBLISH
X-ORIGINAL-URL:https://tkbe.hu
X-WR-CALDESC:Események A Tan Kapuja Buddhista Egyház
REFRESH-INTERVAL;VALUE=DURATION:PT1H
X-Robots-Tag:noindex
X-PUBLISHED-TTL:PT1H
BEGIN:VTIMEZONE
TZID:Europe/Budapest
BEGIN:DAYLIGHT
TZOFFSETFROM:+0100
TZOFFSETTO:+0200
TZNAME:CEST
DTSTART:20160327T010000
END:DAYLIGHT
BEGIN:STANDARD
TZOFFSETFROM:+0200
TZOFFSETTO:+0100
TZNAME:CET
DTSTART:20161030T010000
END:STANDARD
BEGIN:DAYLIGHT
TZOFFSETFROM:+0100
TZOFFSETTO:+0200
TZNAME:CEST
DTSTART:20170326T010000
END:DAYLIGHT
BEGIN:STANDARD
TZOFFSETFROM:+0200
TZOFFSETTO:+0100
TZNAME:CET
DTSTART:20171029T010000
END:STANDARD
BEGIN:DAYLIGHT
TZOFFSETFROM:+0100
TZOFFSETTO:+0200
TZNAME:CEST
DTSTART:20180325T010000
END:DAYLIGHT
BEGIN:STANDARD
TZOFFSETFROM:+0200
TZOFFSETTO:+0100
TZNAME:CET
DTSTART:20181028T010000
END:STANDARD
END:VTIMEZONE
BEGIN:VEVENT
DTSTART;TZID=Europe/Budapest:20170616T180000
DTEND;TZID=Europe/Budapest:20170616T200000
DTSTAMP:20260420T115110
CREATED:20240427T181757Z
LAST-MODIFIED:20240427T181757Z
UID:10000317-1497636000-1497643200@tkbe.hu
SUMMARY:Gese Csökorcang rinpocse: Gyógyító Buddha bevezető előadás
DESCRIPTION:Tibet és a Zsang Zsung Birodalom ősi vallásában\, a bönben\, valamint az egész tibeti buddhista hagyományban jól ismert a Gyógyító Buddha\, az „Orvosok Királya”. Gyakorlatai orvosságot jelenthetnek minden olyan betegségre\, amely a három gyökérméregből alakul ki (harag\, ragaszkodás\, nem-tudás). Mivel a tibeti hagyomány szerint minden\, létezésünk során tapasztalt szenvedés és betegség ebből a három méregből ered\, ezért a Gyógyító Buddha gyakorlata nem kevesebbet ígér az elkötelezett gyakorlónak\, mint a gyógyulás lehetőségét nem csupán egyes betegségekből\, hanem magából a Szamszára végtelen körforgásából is\, amelyet szintén a három méreg tart mozgásban.Rinpocse hetedik alkalommal is elfogadva közösségünk meghívását\, ezúttal a bön hagyományból származó Gyógyító Buddha gyakorlatába vezeti be az érdeklődőket. \nA bevezető előadás egy háromnapos program első része\, mely tanítással és átadással folytatódik. A bevezető előadás önállóan is látogatható.
URL:https://tkbe.hu/esemeny/gese-csokorcang-rinpocse-gyogyito-buddha-bevezeto-eloadas/
LOCATION:TKBE Aula\, TKBE\, TKBE
ATTACH;FMTTYPE=image/jpeg:https://tkbe.hu/wp-content/uploads/2024/04/kepkivagas_0-c3nlox.tmp_.jpg
END:VEVENT
END:VCALENDAR