BEGIN:VCALENDAR
VERSION:2.0
PRODID:-//A Tan Kapuja Buddhista Egyház - ECPv6.15.20//NONSGML v1.0//EN
CALSCALE:GREGORIAN
METHOD:PUBLISH
X-ORIGINAL-URL:https://tkbe.hu
X-WR-CALDESC:Események A Tan Kapuja Buddhista Egyház
REFRESH-INTERVAL;VALUE=DURATION:PT1H
X-Robots-Tag:noindex
X-PUBLISHED-TTL:PT1H
BEGIN:VTIMEZONE
TZID:Europe/Budapest
BEGIN:DAYLIGHT
TZOFFSETFROM:+0100
TZOFFSETTO:+0200
TZNAME:CEST
DTSTART:20170326T010000
END:DAYLIGHT
BEGIN:STANDARD
TZOFFSETFROM:+0200
TZOFFSETTO:+0100
TZNAME:CET
DTSTART:20171029T010000
END:STANDARD
BEGIN:DAYLIGHT
TZOFFSETFROM:+0100
TZOFFSETTO:+0200
TZNAME:CEST
DTSTART:20180325T010000
END:DAYLIGHT
BEGIN:STANDARD
TZOFFSETFROM:+0200
TZOFFSETTO:+0100
TZNAME:CET
DTSTART:20181028T010000
END:STANDARD
BEGIN:DAYLIGHT
TZOFFSETFROM:+0100
TZOFFSETTO:+0200
TZNAME:CEST
DTSTART:20190331T010000
END:DAYLIGHT
BEGIN:STANDARD
TZOFFSETFROM:+0200
TZOFFSETTO:+0100
TZNAME:CET
DTSTART:20191027T010000
END:STANDARD
BEGIN:DAYLIGHT
TZOFFSETFROM:+0100
TZOFFSETTO:+0200
TZNAME:CEST
DTSTART:20200329T010000
END:DAYLIGHT
BEGIN:STANDARD
TZOFFSETFROM:+0200
TZOFFSETTO:+0100
TZNAME:CET
DTSTART:20201025T010000
END:STANDARD
BEGIN:DAYLIGHT
TZOFFSETFROM:+0100
TZOFFSETTO:+0200
TZNAME:CEST
DTSTART:20210328T010000
END:DAYLIGHT
BEGIN:STANDARD
TZOFFSETFROM:+0200
TZOFFSETTO:+0100
TZNAME:CET
DTSTART:20211031T010000
END:STANDARD
BEGIN:DAYLIGHT
TZOFFSETFROM:+0100
TZOFFSETTO:+0200
TZNAME:CEST
DTSTART:20220327T010000
END:DAYLIGHT
BEGIN:STANDARD
TZOFFSETFROM:+0200
TZOFFSETTO:+0100
TZNAME:CET
DTSTART:20221030T010000
END:STANDARD
BEGIN:DAYLIGHT
TZOFFSETFROM:+0100
TZOFFSETTO:+0200
TZNAME:CEST
DTSTART:20230326T010000
END:DAYLIGHT
BEGIN:STANDARD
TZOFFSETFROM:+0200
TZOFFSETTO:+0100
TZNAME:CET
DTSTART:20231029T010000
END:STANDARD
END:VTIMEZONE
BEGIN:VEVENT
DTSTART;TZID=Europe/Budapest:20221007T180000
DTEND;TZID=Europe/Budapest:20221007T203000
DTSTAMP:20260422T104544
CREATED:20240427T182026Z
LAST-MODIFIED:20240427T182026Z
UID:10000361-1665165600-1665174600@tkbe.hu
SUMMARY:Bevezetés a Tibeti Gyógyászatba előadás
DESCRIPTION:A tibeti gyógyászat a világ legősibb hagyományos gyógyászati rendszereinek egyike. Általánosságban elmondható\, hogy a tibeti orvostudomány holisztikus megközelítést alkalmaz\, mivel az egyén egészét veszi alapul\, arra összpontosít. \n\nHasonlóan a kínai\, az indiai és egyéb hagyományos gyógyászati rendszerekhez a tibeti gyógyászat is kezd egyre ismertebbé válni. \nAz előadás általános bevezetés nyújt ebbe a különleges\, összetett rendszerbe. \nAz előadás célja\, az ismeretszerzés mellett az\, hogy megfelelő inspirációt szerezzünk eme ősi és különleges tudomány és önmagunk behatóbb vizsgálatához. \nAz előadás témái:Az öt elem tanaA három nedvA betegségek csoportosításaA terápia négy ágaKérdések – válaszok \nElőadó: Erdélyi Zoltán\, tibeti gyógyász \nIdőpont: 2022. október 07. 18:00 – 20:30. \nHelyszín: Tan Kapuja Buddhista Főiskola Szertartásterem\, 1098 Budapest\, Börzsöny utca 11. \nRegisztráció: https://www.dzogchen.hu/tibeti-gyogyaszat-2022-10-07/ \nRészvételi díj: normál ár – 3500 Ft\, kedvezményes ár – a Dzogcsen Közösség tagjainak\, diákoknak\, nyugdíjasoknak – 2500 Ft \nFizetési lehetőségek:Átutalással a Magyarországi Dzogcsen Közösség Egyesület bankszámlájára.MDKE számlaszáma: 10404072-00001290-00000000 (K&H Bank)Ebben az esetben a Közlemény rovatba mindenképp írja be: Tibeti gyógyászat 2022 – résztvevő(k) neve(i) \nSzemélyesen a rendezvény előtt a helyszínen (kérjük\, ebben az esetben hamarabb érkezzen\, hogy pontosan tudjunk kezdeni). \nSzervezők:Magyarországi Dzogcsen KözösségMenla Khang \nMinden érdeklődőt szeretettel várunk! \nKérjük\, hogy amennyiben több személyt szeretne regisztrálni\, úgy minden egyes résztvevő számára külön-külön űrlapot töltsön ki.Kérdés esetén kérjük\, hogy írjon az info.dzogchen@gmail.com címre.
URL:https://tkbe.hu/esemeny/bevezetes-a-tibeti-gyogyaszatba-eloadas/
LOCATION:A Tan Kapuja Buddhista Főiskola Szertartásterme\, Börzsöny utca 11.\, Budapest\, 1098
ATTACH;FMTTYPE=image/jpeg:https://tkbe.hu/wp-content/uploads/2024/04/tibetigyogyaszateloadas-QRGb4n.tmp_.jpg
ORGANIZER;CN="Erd%C3%A9lyi Zolt%C3%A1n":MAILTO:info.dzogchen@gmail.com
END:VEVENT
BEGIN:VEVENT
DTSTART;TZID=Europe/Budapest:20180127T100000
DTEND;TZID=Europe/Budapest:20180127T170000
DTSTAMP:20260422T104544
CREATED:20240427T175628Z
LAST-MODIFIED:20240427T175628Z
UID:10000191-1517047200-1517072400@tkbe.hu
SUMMARY:Az energia képzésének tibeti jógája
DESCRIPTION:A Lung Jong egy különeges gyakorlatsorozat\, a tibeti egészségfejlesztő\, egészségmegőrző\, öngyógyító hagyományban gyökerezik.A módszer az ősi tibeti bön és a tantrikus buddhista mozgásgyakorlatok átadásából származik. Ezeket a gyakorlatokat többek között a kibillent energiák helyreállítására is végezték\, mely felzavarodás a betegségek okozója. Harmonizálja a belső szervek működését\, oldja az érzelmi zavarokat\, nyugtatja a tudatot\, rendezi a vérnyomást. \n\nA gyakorlatok hatása:• kiegyensúlyozza az energiarendszert\, növeli az energiaszintet\, lenyugtatja a tudatot\, megszünteti az energiacsatornák akadályait\, oldja az érzelmi zavarokat és a stresszt• összehangolja a két agyféltekét\, növeli a koncentrálóképességet\, az egyensúlyérzéket\, a mozgáskoordinációt• erősíti az érzékszerveket• kiegyensúlyozza a vitális szervek működését\, a vérnyomást és a hormonháztartást• erősíti az immunrendszert\, megszünteti az allergiát\, migrént\, asztmát• tisztítja\, regenerálja\, erősíti a emésztőrendszert\, növeli az emésztő tüzet\, így támogatva a megfelelő emésztést\, az optimális felszívódást\, a kiegyensúlyozott anyagcserét• tisztítja és energiával látja el a reproduktív szerveket\, így kezeli ezek kibillentségeit\, erősíti a nemző- és fogamzó-képességet\, növeli a szexuális energiát• rendezi a csigolyákat\, erősíti hátizmokat\, csökkenti a gerinc- és ízületi fájdalmakat\, megállítja\, regenerálja a csontritkulást• növeli a test rugalmasságát\, erejét\, fájdalomtűrő képességét• javítja az életminőséget\, tartós egészséget és hosszabb életet biztosít \nTematika\n• Bevezető a trulkhor és a tsa lung gyakorlatokba • Az elemek természete• Az energiarendszer struktúrája (tsa\, lung\, khorlo. thigle)• ElőkészítőkA hétpontos ülés\, az energia akadálytalan áramlásáértLégzésfajtákA kilenc tisztító légzés\, mely kiűzi a fáradt energiákat és feltölt az elemek tiszta esszenciájávalA három magszótaghoz kapcsolódó elpusztíthatatlan légzésKosárlégzés-tartásAz érzékszervek masszázsaAz öt tisztító mozgásAz ízületek edzése• Fő gyakorlatokAz öt fő (gyökér) mozgás \nOktató:Erdélyi ZoltánTerapeutaLung Jong oktató \nA képzés díja: 14.000 ForintRegisztrációs díj: 5000 Forint(Ez előlegként a képzési díjat csökkenti. A fennmaradó összeg a képzési napon fizetendő.)A regisztrációs díj befizetési ideje: 2018. január 22.A jelentkezés csak a regisztrációs díj befizetésével válik érvényessé.A Facebook eseményen történő részvételi jelölés nem számít jelentkezésnek!Páros kedvezmény: 25.000 ForintGyakorlópárok együttes jelentkezése és a teljes képzési díj befizetése esetén esedékes díj.A kedvezményes díj befizetési határideje: január 22. \nJelentkezés és további információ a megadott e-mail címen.
URL:https://tkbe.hu/esemeny/az-energia-kepzesenek-tibeti-jogaja/
LOCATION:A Tan Kapuja Buddhista Főiskola\, Börzsöny utca 11.\, Budapest\, 1098
ATTACH;FMTTYPE=image/jpeg:https://tkbe.hu/wp-content/uploads/2024/04/26166274_1958554874173904_219087033185661745_n-VZ3zgy.tmp_.jpg
ORGANIZER;CN="Erd%C3%A9lyi Zolt%C3%A1n":MAILTO:info.dzogchen@gmail.com
END:VEVENT
END:VCALENDAR