BEGIN:VCALENDAR
VERSION:2.0
PRODID:-//A Tan Kapuja Buddhista Egyház - ECPv6.15.20//NONSGML v1.0//EN
CALSCALE:GREGORIAN
METHOD:PUBLISH
X-ORIGINAL-URL:https://tkbe.hu
X-WR-CALDESC:Események A Tan Kapuja Buddhista Egyház
REFRESH-INTERVAL;VALUE=DURATION:PT1H
X-Robots-Tag:noindex
X-PUBLISHED-TTL:PT1H
BEGIN:VTIMEZONE
TZID:Europe/Budapest
BEGIN:DAYLIGHT
TZOFFSETFROM:+0100
TZOFFSETTO:+0200
TZNAME:CEST
DTSTART:20160327T010000
END:DAYLIGHT
BEGIN:STANDARD
TZOFFSETFROM:+0200
TZOFFSETTO:+0100
TZNAME:CET
DTSTART:20161030T010000
END:STANDARD
BEGIN:DAYLIGHT
TZOFFSETFROM:+0100
TZOFFSETTO:+0200
TZNAME:CEST
DTSTART:20170326T010000
END:DAYLIGHT
BEGIN:STANDARD
TZOFFSETFROM:+0200
TZOFFSETTO:+0100
TZNAME:CET
DTSTART:20171029T010000
END:STANDARD
BEGIN:DAYLIGHT
TZOFFSETFROM:+0100
TZOFFSETTO:+0200
TZNAME:CEST
DTSTART:20180325T010000
END:DAYLIGHT
BEGIN:STANDARD
TZOFFSETFROM:+0200
TZOFFSETTO:+0100
TZNAME:CET
DTSTART:20181028T010000
END:STANDARD
BEGIN:DAYLIGHT
TZOFFSETFROM:+0100
TZOFFSETTO:+0200
TZNAME:CEST
DTSTART:20190331T010000
END:DAYLIGHT
BEGIN:STANDARD
TZOFFSETFROM:+0200
TZOFFSETTO:+0100
TZNAME:CET
DTSTART:20191027T010000
END:STANDARD
BEGIN:DAYLIGHT
TZOFFSETFROM:+0100
TZOFFSETTO:+0200
TZNAME:CEST
DTSTART:20200329T010000
END:DAYLIGHT
BEGIN:STANDARD
TZOFFSETFROM:+0200
TZOFFSETTO:+0100
TZNAME:CET
DTSTART:20201025T010000
END:STANDARD
BEGIN:DAYLIGHT
TZOFFSETFROM:+0100
TZOFFSETTO:+0200
TZNAME:CEST
DTSTART:20210328T010000
END:DAYLIGHT
BEGIN:STANDARD
TZOFFSETFROM:+0200
TZOFFSETTO:+0100
TZNAME:CET
DTSTART:20211031T010000
END:STANDARD
BEGIN:DAYLIGHT
TZOFFSETFROM:+0100
TZOFFSETTO:+0200
TZNAME:CEST
DTSTART:20220327T010000
END:DAYLIGHT
BEGIN:STANDARD
TZOFFSETFROM:+0200
TZOFFSETTO:+0100
TZNAME:CET
DTSTART:20221030T010000
END:STANDARD
BEGIN:DAYLIGHT
TZOFFSETFROM:+0100
TZOFFSETTO:+0200
TZNAME:CEST
DTSTART:20230326T010000
END:DAYLIGHT
BEGIN:STANDARD
TZOFFSETFROM:+0200
TZOFFSETTO:+0100
TZNAME:CET
DTSTART:20231029T010000
END:STANDARD
BEGIN:DAYLIGHT
TZOFFSETFROM:+0100
TZOFFSETTO:+0200
TZNAME:CEST
DTSTART:20240331T010000
END:DAYLIGHT
BEGIN:STANDARD
TZOFFSETFROM:+0200
TZOFFSETTO:+0100
TZNAME:CET
DTSTART:20241027T010000
END:STANDARD
END:VTIMEZONE
BEGIN:VEVENT
DTSTART;TZID=Europe/Budapest:20230511T153000
DTEND;TZID=Europe/Budapest:20230511T170000
DTSTAMP:20260419T153748
CREATED:20240427T181625Z
LAST-MODIFIED:20240427T181625Z
UID:10000289-1683819000-1683824400@tkbe.hu
SUMMARY:Filozófiai Viták A Tan Kapuján: Van-e vagy nincs átman?
DESCRIPTION:A buddhizmus egyik legfőbb tanítása az anattá- (páli)\, vagy anátman-tan (szanszkrit). De mit is takar ez\, illetve mi is az az átman\, amit legtöbbször ezekkel a szavakkal fordítanak: én\, lélek\, önvaló\, örökkévaló…. Mit jelent\, mire utal? Van-e\, vagy nincs átman? \n\nFarkas Attila Márton főiskolai docens és Porosz Tibor egykori főiskolai tanárunk filozófiai vitája (személyes jelenléttel\, de online is követhető lesz a YouTube-csatornánkon). Moderátor: Karsai Gábor. \nA vitadélután egy új sorozat\, a Filozófiai Viták A Tan Kapuján első alkalma. \n \n\nAz esemény előtt 13 órától a Főiskola végzős MA hallgatóink angol nyelvű házikonferenciájára kerül sor\, melynek keretében az előadók ismertetik szakdolgozati kutatásuk eredményeit személyes jelenléti formában. Az előadások után lehetőség lesz kérdéseket feltenni. \nA tervezett program: \nArató-Sugár Ágnes: Peace of Mind in the Digital Age – Applying Buddhist Teachings to Modern Western Man through a Blended Learning ProgrammeFodor Gellért: The Question of the Personal Ego in Buddhism and PsychologyHerdt István: A Doxography of Buddhist Views on Time in the Light of Analytic MetaphysicsMelocco Anna: Reality Made to Order by Language – and Beyond. The Nature of Language as Emptiness.Molnár Attila: Contemplative Universals – A Phenomenological ApproachTéglási Ádám: The Obvious and the Mundane \nA házikonferencia moderátora: Dr. Hidas Gergely\, a Dharma Conversation 4. (Conference Lecture) kurzus vezetője \nAz esemény kizárólag személyes jelenléttel zajlik\, arról online közvetítés nem lesz.
URL:https://tkbe.hu/esemeny/filozofiai-vitak-a-tan-kapujan-van-e-vagy-nincs-atman/
LOCATION:A Tan Kapuja Buddhista Főiskola Szertartásterme\, Börzsöny utca 11.\, Budapest\, 1098
ATTACH;FMTTYPE=image/png:https://tkbe.hu/wp-content/uploads/2024/04/tkbf_vita_est_2023_01-4onXRO.tmp_.png
ORGANIZER;CN="tankapu@tkbf.hu":MAILTO:tankapu@tkbf.hu
END:VEVENT
BEGIN:VEVENT
DTSTART;TZID=Europe/Budapest:20180907T174500
DTEND;TZID=Europe/Budapest:20180907T191500
DTSTAMP:20260419T153748
CREATED:20240427T181851Z
LAST-MODIFIED:20240427T181851Z
UID:10000334-1536342300-1536347700@tkbe.hu
SUMMARY:Hermetikus asztrológia kurzus a Buddhista Főiskolán
DESCRIPTION:Péntekenként 17.45 – 19.15 között A Tan Kapuja Buddhista Főiskola NagytermébenIdőpontok: szeptember 7\, 14\, 21\, 28\, október 5\, 12\, 19\, 26\, november 9\, 16\, 23\, 30\, december 7. \nA kurzus féléves díja bruttó 25.000 Ft\, melyet A Tan Kapuja Buddhista Főiskola számlájára kérünk átutalni/befizetni:KHB – 10403181-31818690-00000000 \nA hermetika\, az Isteni Művészet\, vagy ahogy Zachaire nevezte: „az isteni és természetfeletti tudomány” egy olyan szinkretisztikus vallási irányzat\, amely – a buddhizmushoz hasonlóan – a gnosziszra\, a megismerésre helyezi a hangsúlyt. A hermetika négy okkult tudománya a mágia\, a kabbala\, az alkímia és az asztrológia. Ezek – mint gyakorlatrendszerek – a megszabadulás különböző útjai.A hermetikus asztrológia kurzus a gyakorlatrendszerként felfogott asztrológiába vezeti be az érdeklődőt\, megalapozva azt\, hogy erre építkezve később avatott ismerője legyen ennek a szellemi útnak.A jelentkezők megismerhetik a Hermetikus asztrológia alaptanításait\, elemtanát\, az asztrológiai elemek összefüggéseit és egy olyan analógiarendszer alapjait\, amely elősegíti a belső lelki-tudati folyamatok – ezáltal a sors – megismerését\, és a szellemi fejlődéshez szükséges egészséges önismeretet. \nMireisz László
URL:https://tkbe.hu/esemeny/hermetikus-asztrologia-kurzus-a-buddhista-foiskolan/
LOCATION:A Tan Kapuja Buddhista Főiskola\, Börzsöny utca 11.\, Budapest\, 1098
ATTACH;FMTTYPE=image/jpeg:https://tkbe.hu/wp-content/uploads/2024/04/galaxis-sHtOK6.tmp_.jpg
ORGANIZER;CN="tankapu@tkbf.hu":MAILTO:tankapu@tkbf.hu
END:VEVENT
BEGIN:VEVENT
DTSTART;TZID=Europe/Budapest:20180214T084500
DTEND;TZID=Europe/Budapest:20180214T170000
DTSTAMP:20260419T153748
CREATED:20240427T180232Z
LAST-MODIFIED:20240427T180232Z
UID:10000207-1518597900-1518627600@tkbe.hu
SUMMARY:Nyílt nap a Tan Kapuja Buddhista Főiskolán
DESCRIPTION:Aki érdeklődik a buddhizmus iránt\, esetleg tervezi\, hogy felvételizik a Buddhista Főiskolára\, annak pompás lehetőség kínálkozik február 14-én\, hogy közvetlenül megtapasztalja a hely hangulatát; a tanítók\, a diákok közösségét; a buddhista tan sokszínűségét. Előadások\, meditáció\, közösségi programok és sok szeretet várja a látogatókat reggel 8:45-től délután 17 óráig a Börzsöny utcában.
URL:https://tkbe.hu/esemeny/nyilt-nap-a-tan-kapuja-buddhista-foiskolan/
LOCATION:A Tan Kapuja Buddhista Főiskola\, Börzsöny utca 11.\, Budapest\, 1098
ATTACH;FMTTYPE=image/png:https://tkbe.hu/wp-content/uploads/2024/04/1-ZDce3E.tmp_.png
ORGANIZER;CN="tankapu@tkbf.hu":MAILTO:tankapu@tkbf.hu
END:VEVENT
BEGIN:VEVENT
DTSTART;TZID=Europe/Budapest:20171001T170000
DTEND;TZID=Europe/Budapest:20171031T103000
DTSTAMP:20260419T153748
CREATED:20240427T174407Z
LAST-MODIFIED:20240427T174407Z
UID:10000149-1506877200-1509445800@tkbe.hu
SUMMARY:Vietnami buddhista kulturális hónap a Tan Kapuján
DESCRIPTION:A Tan Kapuja Buddhista Főiskola új programsorozatában távoli buddhista országokat és azok kultúráit mutatja be egy teljes hónapon keresztül. Októberben a téma Vietnám. A programok a Magyarországi Vietnami Buddhista Egyesülettel együttműködve kerülnek megrendezésre. \n\nProgramok\nMegnyitóVasárnap\, Október 1. | 17:00Thich Thien Bao és Jelen János \nKalligráfiaCsütörtök\, Október 5. | 18:00Thich Thien Bao és Nguyen Kim Anh \nGasztronómiaCsütörtök\, Október 12. | 18:00Ételkostoló\, max 30 fő részére \nNépművészetCsütörtök\, Október 19. | 18:00Zene\, népviselet és tea meditáció \nÚtibeszámolóSzerda\, Október 25. | 18:00Némethy András \nIrodalomCsütörtök\, Október 26. | 18:00Költészet és műfordítás \nZáróestVasárnap\, Október 29. | 17:00Thich Thien Bao és Jelen János \nTovábbi programok: \n– állandó kiállítás\, melynek témái: vietnami buddhista templomok\, festmények.– szerdánként vietnami filmklub. \nA rendezvényen való részvétel ingyenes\, azonban regisztrációhoz kötött.
URL:https://tkbe.hu/esemeny/vietnami-buddhista-kulturalis-honap-a-tan-kapujan/
LOCATION:A Tan Kapuja Buddhista Egyház és Főiskola\, Börzsöny utca 11\, Budapest\, 1098
ATTACH;FMTTYPE=image/jpeg:https://tkbe.hu/wp-content/uploads/2024/04/22007590_1547170161970057_6008861556757940923_n-JOa2Ah.tmp_.jpg
ORGANIZER;CN="tankapu@tkbf.hu":MAILTO:tankapu@tkbf.hu
END:VEVENT
END:VCALENDAR